<PAMDataset>
  <SRS>GEOGCS["WGS 84",DATUM["WGS_1984",SPHEROID["WGS 84",6378137,298.257223563,AUTHORITY["EPSG","7030"]],AUTHORITY["EPSG","6326"]],PRIMEM["Greenwich",0],UNIT["degree",0.0174532925199433],AUTHORITY["EPSG","4326"]]</SRS>
  <GeoTransform>  1.8869765975836252e+01,  3.0549080317290682e-04,  0.0000000000000000e+00,  5.0123478960912912e+01,  0.0000000000000000e+00, -3.0549080317290682e-04</GeoTransform>
  <Metadata domain="IMAGE_STRUCTURE">
    <MDI key="INTERLEAVE">PIXEL</MDI>
  </Metadata>
  <Metadata>
    <MDI key="AREA_OR_POINT">Area</MDI>
    <MDI key="Raw_profile_type_exif">exif
   14020
45786966000049492a000800000008000001040001000000ed0a00000101040001000000
6108000002010300030000006e0000001a01050001000000740000001b01050001000000
7c000000280103000100000003000000310102000c000000840000003201020014000000
90000000a4000000080008000800bd00000005000000bd0000000500000047494d502032
2e31302e3800323031393a30313a30332031373a32373a32310008000001040001000000
000100000101040001000000c400000002010300030000000a0100000301030001000000
060000000601030001000000060000001501030001000000030000000102040001000000
100100000202040001000000ae35000000000000080008000800ffd8ffe000104a464946
00010100000100010000ffdb004300080606070605080707070909080a0c140d0c0b0b0c
1912130f141d1a1f1e1d1a1c1c20242e2720222c231c1c2837292c30313434341f27393d
38323c2e333432ffdb0043010909090c0b0c180d0d1832211c2132323232323232323232
323232323232323232323232323232323232323232323232323232323232323232323232
32323232ffc000110800c4010003012200021101031101ffc4001f000001050101010101
0100000000000000000102030405060708090a0bffc400b5100002010303020403050504
040000017d01020300041105122131410613516107227114328191a1082342b1c11552d1
f02433627282090a161718191a25262728292a3435363738393a434445464748494a5354
55565758595a636465666768696a737475767778797a838485868788898a929394959697
98999aa2a3a4a5a6a7a8a9aab2b3b4b5b6b7b8b9bac2c3c4c5c6c7c8c9cad2d3d4d5d6d7
d8d9dae1e2e3e4e5e6e7e8e9eaf1f2f3f4f5f6f7f8f9faffc4001f010003010101010101
0101010000000000000102030405060708090a0bffc400b5110002010204040304070504
0400010277000102031104052131061241510761711322328108144291a1b1c109233352
f0156272d10a162434e125f11718191a262728292a35363738393a434445464748494a53
5455565758595a636465666768696a737475767778797a82838485868788898a92939495
969798999aa2a3a4a5a6a7a8a9aab2b3b4b5b6b7b8b9bac2c3c4c5c6c7c8c9cad2d3d4d5
d6d7d8d9dae2e3e4e5e6e7e8e9eaf2f3f4f5f6f7f8f9faffda000c03010002110311003f
00f43f0a788a59ee05a5ce189e84d757acc09369730f2c31da71c5792585e358de4770a3
254d761278f4341b45be4e30735c74ab2e56a4cf07059843d8b85796a711229591811820
f4a6f3566fae85e5d34c2309bbb0a8a27081f8ea315c8783251e6693d08e8a7c414caa18
e149e6b5758d245a471dc4077c2e3a8ed4d26d5ca8d194e0e6ba15acf48b8bf8cbc1b5b1
db356e0f0c6a524caa62da33cb565c1753db36619190fb57a6784af2e2f34e57b8196f52
3ad6b4a119bb33bf03430f8892834d335f4eb5fb359471be0951c935565f1068f1486317
292c83f8214321fd01ae6bc55e2b6f364d3ec5caa2929348382c7a151faf357078bb46d0
74ed222920921fb77cb1a44990bc80493f53f5aef728537cb27aa3ebb0d08d5a8a8534e5
3b5ecbb77feba6a5e9fc4d14303cff00d91a879480b33bc214003a9e4f4a4d2fc61a2eab
a75cdec326d5b64692546037055192401d6b9fd57fb63437d62f358bf8efb4cbeff47b4b
4c31c97380080380067a75ac8d120f0f411476914b74b2ee3b648b3f212793c8e981dc9f
41571bc95da515af7bff00c31d752184a7eeb9394b4dad6b3def749dd1a3a86a49e32d14
6a1a64532c71c851a39140391f424572ef6f34670d1383f4af48d3f42be82d163b2d6235
b56f9942daa8ebebef4e9344d4a00f21bcb4b945058acf6f8fd54d72cb0ce5ab96a78b99
65547155dd5a12e54f64eeff0043ccbcb93fbadf9521561d411f5ae9b4af1a595fdac93f
f63425237d87128527dc03dab661d43c35abc4619916ce56e009b0013ec7a5651c3f32bc
6499e7e23872bd09ba537ef2dd76f5b6c79fd58b19560bd8657fbaad935bfaa7842e6dcf
9b6844d09e4639e2b2adf42d42798462ddd79e49158b84a2ed63c7785af4aa24e3a9eb1a
7cd15d59c72a00411e945d5ed959322dccd144643850ddeb12e2c353b7f0e25be993a24c
9feb09600e31c8cf635ca5df86b55df1c97d70a667e48672cca2baea5674e3768fa79d7a
ead0a74dc9fe0745abeb76f2cfe56e55894f03d7deab46f14abb936915c8eaf13c77a779
27238350db5e4b012bb898d861973dabcc9a954f7dbd4859f3a15dd1a90b453b7996f54b
96bc3bd63da8bdb703f4e9598ac55830e08e6ba731472583cf34a64768c282401c0ce3a7
7e6b973d4d3a6f4b1e5e79454710aac5dd495cf5af0c5cfdb34689dc02c062b6b62ff747
e55c97816ea33a5344ce032b7426bad0c0f420d7af49de08f73093e7a1197906c5fee8fc
a8d8bfdd1f952d15a1d026c5fee8fca8d8bfdd1f952d14014efaf6d74f84c93950057237
5e3d45b92905a2b443f8cf5355fc5ba76b13ddcb3337996fbbf771a7615cb1d3e64199b6
c23fe9a1c572ce75652e5823c1c6e3b131a9c94e3648ab4bb4fa1fcabd76dbc31a45a905
2cd198777e6af3d8db34785b788103e5f907150b0b2eacca3924edef4cf2bd33c377fa9c
4f2a44c88a382c319fa550bcb0b8b194c73c6548ef5d7691acea563e273a6dec8644772b
8c74f422ac78eac6492349e34c85eb8a874e2e175ba32960a94b0ee74efcd1dce02baad2
f56b2b7d23ecd7c3cccf41d715cad382b1190a48f5c5651938bba3cfc3d7951939451dce
93a4e85a8bf991b0047f09aeb76dbe99a74b226d58e242d9fa0af1b86e25b77dd13946f5
15b93f886e66d163b49be7dce1e4cff1283c0fc4d75e1ea46faadb53ddcb7194a72e471e
57bb7e4b7fc0dfb4b4d260d1e21a8c504faa4f1bdcc56cce049213c8500fe1f89a93c3ba
ad96bba646face910d8cf69291145347c280320ae471ff00d6acdb19f43f12f89acaff00
50b568afedc0109127c8c41cae47a83d29fe35bed6d7568a1d27436b883205c4e559838c
018c703a3119193d7a62ab9f9dba8f55e5d4fa8c2d4c1e222beaad73cb793f7796d7d3d2
d6dc6f8aef9350d6956396331d901b159b01a4c866fc9401ed9ac1b78da2d452ee79e00b
82b957c000fcdebedc7a73eb5a69616d77a14f20d10bdd8b89164623fd62994ab0ce0e40
5e4fd05707e27ba11dca5a41673a2a207646c81b80e3f1c575579723b76d0f2a75552a7e
d19e99a778a2d34c24f9cb2dbb1f996320e0fa8f7fc6a95cc137fc2417de23b0d5652b71
0ec48d8fcabd06339c6063f3af33b897567d063fec9b4dd209b1202464aedea33ef815d4
b0927d19ecee8b059635f30467a30e78fc7f3af26bd69cb63d8c138ba7f138c6a2b37bb4
9dae6c69fa1452319afe4f2e1396c42073efe951eb1e19dde50b673711484129f7594fbf
f8d7396d7d79e441656fe6456f00da198e4f5eff009fe14df116be3458219a69a6f32462
a19793c2f2724fa5650724d2b1e4c30387c429fb2e6f8b4937acadb3ff008077d7fe10d2
f4fb6b5482f2f2cdee9b67971dc0087819f94e3238cf5edf415990db48b2aaa5f41324ed
ba29a58c9dccfbd4e3038ff56d9f5f7cd5ff000b78a2480ac770cf35b4c0321fe25271fa
62a3f19eb16baf59c16505fdde9f2453877291b10d807d3ae0e3f1fa57ab0afcf4eea377
fd753d0a74d7b650a93b27d5abfe1afe0656a97bfd9fa23ea0f670cf6e26109f2d0aee2f
101b8fb6dc75ee7a56cc7a86a97d6f05d7d9ed76344bb5158a9031c0c6302a9378c6d2d7
4db4b511cd772ea570de7b32e0a90428c83df819fc6b566beb6b71f3cab9f41c9f4e82b8
f1d5f96aba7149a5e5d4eea34e2b0d0a93859caed4afbabf6e861dddec3a8cb25b496ce2
e21fbe2321cafd71505ae92b70c596652abf797a11f5152e8ffd8abae5c5cdac72a5e5c6
77eee40c925b1e9c8ae8ff00e11d1ab3bcd0bf933a0e1c71b8fa1ac2938d497b36b96fdb
fc9ff99c398e5980af3f6b14dbb2df4bbf97f5f99c8dfdd316fb3a1c469c62a857450f86
af350b9990911dcc4d89a361c8f461ec699aaf852f74d40e0798bdf68ad2587953baec7c
4e2f098b7394ea45e9f918d05d4f6c730c8c9f435d0787fc45791ea11c534a5e3638e7b5
73862901c146cfd290168d8119522a632717747251af528c934dd91ee28e1d030208229d
5e456de25d4ad405598b28ec6bbfd035a9352d2da768cb3a83f28ee4577d3af19bb1f518
5cc69621f2c7466f515cce89e2c6d57513652d8bc2fce0839031eb5bd7f24b169d752418
f3922768f3d370071fad6b4da9fc27553af0ab0e783ba32b57d4ddaebfb3ac9a35980dd3
4ee32b0af6e3bb1ec2a1b0b5d0addfcc9248eeae89cb4f3e1989f6f4fc2b93d62cef63d3
ed66b6323db5c462695c1e5ddb925ab9cdd221eac0d2af8b74a4e9d3564bef7fd763c6c4
662e954f7a17feba7f99ee54514551ef155b4db36bd178d6e86e00c0931cd64788bc4563
a648b6b73034cce3240ec2ba1ae57c5fe1d975554bab4506e106d2b9fbc2b3a97517ca72
e2fda428c9d15a859f87b46d5edd2f608fe47e71e95af1681a74501885bae0fb543e17d3
e7d37448e0b818932588f4cd6cd1082b26d6a1428c39149c526d6a70dafe87a5e8d6e2f1
a069016c041d2a6f0a58da6a62fef1edd7c890ac491b73800027f98aebe7b786e62314f1
ac887aab0c8ae72d6f2d3c3daaea36934d14763b7ed61c900459382a7f4c5384146f6d99
ae1f08a3526e0959ab5ade6bf33024d2f45b6f1d5be9497af1ced89521d871eb8ddf8574
be28d62fec74b946831c377a946ca1a0cee6553d49507352c8da1c918f13c70dbdc3a45f
25d20cb15f407f315c2c2b05debba8def8785c5b6af7d1b04795c1446272c471c671ef8a
e793e44d2ebdbb1db8559661711183f724ed752d9caf677b6d13b8f093dcb69528bc8443
73e7bb4b1039d8cdf311f86eac0f10683a36a77735edbc90cc603b6e12390131b7b81f8f
5adaf05c77c9a34a353984d7bf68759a41d1997e5fe958daa78192c92f65d18ba35eb16b
a1249c6de4e07a0c935d58894af7b7af731ab0a11a7539bde6be151574f5f3e96d8e5e74
82298a5bb298c740a7a7b55382ee3b89658d08dd19c373d3923fa67f1aa513c7a4208e62
ccee72703a567e9365a5e937b75790dccccd7049d8fd172771c7e35e44926db46947174d
4546ac946496aaff00d742ff00f6a97d5e6d345abaed4244bdb38fe5f8d5abd8acee5228
6f6da39d490caae81803d33cfd6a94babc92c812da3cfd475aabacf8766d6ee74bba4d42
5b516ac199141f9b907db078a4a367abb1d11c651c45d505f0dafd9b3a589fca951c0e14
838a975559a685c2a0f28ee0195c65b273ebff00ea3cd40064e075ad3bfd36fadb472da6
471c97f907e70381df6e78cd54310e8a6975358e1957a918dede6f6383d460f11bf886cf
fb38471da49299a746c1382727af27a1e9deba387cc5dc257427b6da975a8ed6de7d3353
d66778eea1882b08795320e7181d3a9fcab1ee217b0985f4f32794e432167da195ba75fe
5555aa4aa49392b3697cc55e8cb0ea9aa1173526d376d134f64fae84fa6e9f7767a9dcdc
cb78d324ae1a343fc1cf1d78af6ed36116d65123603b8dc73d49af1c7bf8ed238ae24524
1c10aa41cf7eb5d3eb6d05fdf787fc422faed6558c62c939de41cfb60e4e0f073c7a55e1
ed1bcccf1189a33a8e388a9cb6577a7968acbbec6a78c35a8342d674d920deba95c9f2d4
04ca4899030df89e315a8de26b48808756b59ece63d55a32ea7e85739ab5a738d6ada3ba
bfd2d62962909884ca18affb43238ae5355fb078cfc69069d05e5ddb5ce8d219241e5fc9
26197201cf072073dc1aed751a577adf6e869848d0c5d38e8d28a6e52d5fa69d16cbf136
db54f0bee05e4405bfbd0b8ffd969f73a068fac43bed9a26f468d81a75c78a6c23f1643e
1b92da669e54dc24d80a742707f2eb5475b5f0f699aa249792269ca540f36026366763c7
ddfa139fceaaf464b5f99c93cb79d28ba6ef2574ad7ba2b7fc205123e5ee309ee715d469
7a7dbe996c2184ae07a1ae0fc5fe19bb1045771eb2d040936e69ae2efefa9c6d1ce391cf
7e6961d22eaebc5b6715b59c93686d166795e43956c1cf20faedc7a8359c7d9c26d5bb1a
d0c930f4e92ad4a4aed36fcadd2f7d5be88f4379ecedf73bcb047dc92c05625febff006d
85edb4a058be50ddb8db127a9c9ea719e94e9fc3da759ba4b069766f12ab191a7639078c
6383ef9fc2ac497bbe1554874e28ab95dd3e40e3d36fd4574a6a2ee8e6fdda5a2bff005e
5fe651d26e5e0fb2e8f7d683c864296b709f7250a391824907ebd7b55d9f42d22f374616
2f33b852322b1f55f364beb38ede284b993cddd0ccced1c639902fa6411d31fcab56ed9c
a32d90b6f3c2afd9f04ed0dc81d3b7ae3b66a64b99de5a935694251578a3768ae3b4df1a
cf76fb1ec5256032441261bf0561cfe06b5d7c55a4f49659607eeb2c0ea47e98ad5519c9
5e1afa6bf91cd4f15466af191b54c9668e089a596458d1464b31c0158e75e7bc631e9165
25d37fcf69018e21f89e4fe14b168925d48b71acce2ea453948146214ff80ff11f734fd8
f2eb51dbcbafddfe65fb4e6f835fcbfaf429cde26b8be97c8d0accdc1ce0cf22909f80e3
f5c55a4b7f124ca0cb7f67013d56380b63f126b9c7f0f6a1a878d1ae21d524b486cee04a
d6eb9c383ce463d40039aeee79e3b785e59582a28c924d652a9ab5cb64bf13be74a14630
709734a4aef4dbcb5d3f37e673333c8b3186f75fba201dadf67856300f1df93dfb55b3e1
ef0f5d69d35898e29a2b80048de6e5df073f7b39ea2bcc3c5da96a373a6decda6c0259f2
5a284f19f9baf1d4e2aaf8766bf3a2dacb7d17d9aef1b9d5720839c8fa7d2b9278bd1d96
9b1508cd34ef66b5d34d7fccec7c4d1369305ae81a642f1d8aae428c92e49f5ef5b9a0e8
d0f87b489751bb506e0465d8ff007463a0f7ae7b4ff11dc8b88ade69d9e4c6636906ee9d
8e7ebf8d75baadd47a8f856e5c77003ae790770ad30d4e152a2974d17a1e4d5c2c962278
9ab2e693dae636869adc9af5bc965a8d9cfa2aa31ba48dd58899b2581c739dc7f215d0eb
b72f1c2b0a1c0901ddf4ae62e3c39aa78521887836dd64fb54e1aefcf704aaff000819c0
da32defd2b5f5cbc84dec76cf344271164c7b864fae056189ab2e49b96edfe7d8fa0a946
9b953745a704acacad2d3ac92ebe7d51e35e23d561b2d52c6ce582571393cc6a38f9947e
7ec3b66b50e8f6a4e7e603d33576478848aae54367e5071fa53999517731000ee6b8f9b4
56396ae1a8547cd38a661a6a9a6db6be3468a5885d14dc50a9ddd33d7a67be3d2b406a36
e8eb09277703a719a8c68fa64baa0d585b466f36edf3875e98fe5c52c1a6c2b3b4849601
8ed0687ca44a3563151a0925fa17ad2ed0de2e01fddb027f3aec1bf7cfb013b17ef91dfd
abcbf47f0eb693ac6a374b7d2cff006b7ddb5ba46339c75e4ff4aec62bad527d62c96c65
80e9c918170a48dc1bbe73cfe5ef4544a9fbcb7e9e5e7fe5f79db87a6eb3716d2b5debd6
dd3faf4096f349d7249ad63804bf607cc913c7f2b0ce0e3fcf6a9bc41a05a6bba5c31f96
0a458640871c63a0ad98ad2da09659628234925399195402c7deb075cd326bbb24b386f4
db40650c922e485ebf29c1e9e9441baf0e5fb71dbcd755eab7f9b37e7842bc7924e14ddb
57af2bb6fa77ff002391d79a3d2ac92e26222b2b50a0f049ea0018efdabaff00016a11eb
77d617f23b4e863fdd9008553d3a1e95435fb4b54b736b7a05c43e4a2ca5d73bfdc8ad3f
06c76f69b4dac21218c279688b8c0f41de9c2a5a29f99e6cf074e5526dfbd777f9ad8ec7
c4565e22b9d4f4c9346be8e0b58e4cdd23756191edcf19e2b67ecf676b2cd7a628229194
79b3ed0a481fde6f41ef58be14f13cfe2317be7e97358fd9e4dabe612438e7d40e78e6b6
353d3a0d5b4db8b0ba0c609d363ed3838f635e9c6d24e71d6e5d7f694a71c3d64a3cba3b
5af67aeb6dfc87dbbda5e2a5e5bb433065f9268c86c8f661dab22fbc3fa678865ba4d4ed
c4cb14ea5792318407b76e4d60ff006be9be15d1e4d074a5b979210c8247ea18f539ff00
01557c3961e25d51b518af6e9a3d1eeedda3126e1e609301723bf18efc566eaa93506afd
fb19e12bd29e22a2c3d5b282f8b67ba5656eb6d6c763ad683a6f8834a5b2bd52d6c8c1d7
63e36e3dfe95534cd4348b594c763796ed64900452920214c7c11f5c63f2ac5d32d3fb1f
455d1e2be7ba8e32dbe5fbbb89ea319381f8d66dae8b65a2a469651901e6f9831ce72307
f0c7f2ae5a98c4a578c753d28508384a8caa36afeee9a3f3d767a23afd33c5da1eb7633d
c5bdc830c64ac9e6a15ed9e87b62b1357d7a2d73c3d2bf84ae21fb58942976876e00ea3e
61e86a2b6d3aceca0782dada38a29092eaa3839eb4961a6d9e970b436702c48cdb881dcd
652c75492b0e34b094e6ea534dd9a714ecd5baf37734746bc5fed980dd94174b6291cac8
a029909e4fd38aea73047213f22b9ea700135e58ba62e9de27bbd4cdd4ac2584b08cf41c
8ff22aa5d6b77d717065fb438c7400d7452c5c9af79763c5cf71543053872be6babed6b1
9cacc8c19490c0e411dabd7bc3f7edaae9115c4d16d7c6d391d71debce7455822984932c
665cf092282bf4aee2c3c4023db15c448b1818df18c638f4ff000ad70d16bdeb9e365b80
ad86bcaa3b5fa1d20000c01814522b2ba86560ca7a10734b5d67ac625c5ddbd9788679a5
3b152cd3cc60339cb9c7f5fceb90d67c5d26a770d05b03142a081bba9e9cfd6af78de709
7c8b1123cd8c472633ced6dc071f535e596ba6dc691e25bed4aeb54926b7bacf9701cfcb
ce7e9c7418ae1c4d452bc13ff82763e5a518d49e8adf71d313b549f41581e1af122ebcf7
c82de688db4a5732018209381f518e95b505d4370331b83ed528555ced5033c9c0ae3d12
69a358c94d2945dd1cfea5a1dc4de25b4d686aaf6f6d6ab9921ce01c64f5ce307bd74567
e2e92e3469a4b568e78645c3157caf07d4719e2b2cc967ae477d62658e4854986548e404
9c8e738e477fca934fd0ed347d224b0b20cb190c7e66c9c9aeba157d94e2dbd7431ab4f9
e2d25dcee6ff00e29416171656c34b99da7c0670dc2fd001cf3f4ae6353beb0bbf15a5f0
8ee1eea352036edaa4fae31ee6aa35fc312445d589640c081ebd07d783f95496f34574ad
2c6bd380c475fa573d67394ad3e8742a928463f557c8fed3df993e9e5f232353b1d767f1
2e9f7367771269f1e3cf8d872dcf3f5c8e9e95ada8ac46c2669e411c48a5d9c9e140e726
a9c125c5add3b5db9111ce33cd59d5197ec3247242268e4528e87a107839a96f548e355a
13a129d48b4b5ba666e93ab59c9a479f697093a972a080460f7ce6b4a1be8c431ef0c19b
9c019eb9ff000ac1d234782141059c1e45b962cc0127f535a92694f36b16f791dd4890c0
bb7ca1d18d534aedf416024ea36afcb04b4d3aff005fe46a44a56319fbc793f5ac1f0c49
ae9b9bf6d5ad22b6024fdcb467961cf7cf23a735b1712491ba9596244c7490e3273502cf
7a580636b8383c31c9e99febfa52726eedf53aed6b791d2da6a125c036970e76caa50483
ef0cd4da1e8b1e8b62f6525d9b932b963e671c7a019ae53cebf017e6b6dd8c9c1e3383ef
f4a7dddec1fda969a95eadcbde409c793ca37dec71d7a67358ca0d3bc4eda159724a9549
5a2f5daf76b6459d451a7bd9601890db4b808fd1971c03f9fbf22aee99a95bf876eec6d2
ed64f3aeca94089f2a0cf19cf239e31db8ac6376d772c93dbc9e54d346c1647190082086
fc98f3db8ade82e593c3d0b5cdd5bdcea11ae44b8c919e7827be2ba315ccda9a5f16bf3e
bf89cf87742951955abef72dd72a7ef6d74fd3a7a9e9f7ba8d9e9b6fe7dd4c91a76f53f4
1deb2478db423a9da69e2e98dc5d0063010e39240c9edd2bcb4de497a7734b24db7d493d
b35d8e9173a305b19ffb3ed3edd082237939901ea719fafe19ae878b77ec78396627eb35
64eb41a859dba3bf4d5e96eeb73afd62fb4bd16c65d475158d2252033f97b8924e07b9ac
eb8be85f4c5d474f9b758df639031862719f6cf4351ea37b16ab65259df59433dbc9f791
f38f6ac2d46e8dee9f169b12c169a6c4e151532a3e4e7ae7a6454d4c54249a4fa7e27b74
284234eed3e6bebb5add3cef720d13405d1ae2f265ba966fb4beedadc05ebf99e7ad59b8
ba863b833cf34715b5bf05ddb0379f7f61fceb15b57916181bcc9036c070a785fafafe34
93da9d674e7b57449a2693cce1b6306eb5c9530ce0eca49bfbbf3d0ac367187c6629c6b4
f5d3eedb4f3b1d4ab2ba86520a919047422b175af1243a35cdac0d6f24ed3b63f767ee8f
ea79e953da58cff648ada46f22de2508b1c67e6200c0cb66acbad969f107648e25cfdedb
deb29414746f5f2ff33ae9ca8c27cd25cd1edb146f20b8bc5967f2cc60c7b1158f279ce4
fa562d9e95757974b02c641638c9aecb8619ea0d33cd8e070e182b0390453555df55a1e0
66595d3c65555672b5b4384b3d423bbc85055c7635ab05fcf08c6edcbe8d58f65a72da3b
3eedcc781ed57ab65271778b3a70caaca92fac2f78d84f14ea3696c61b6006e230739dbf
41dab6748f1a4f7113417312f9ea3224ce07e22b8ea40a448d26e6dcdd4e7ad5baf53b98
54c1cfdbc6ad397bbd53dbe468f897508678edda393cc74b80588e78231d7f1ac792182f
53e71b802467d08e299a9c465d3674562876e430ea31cf1599e17d0ee343b49d2e35292f
4ccfbd4be70a31db24f5a9497b3bdf5b9e8544a715192ba2cc7a5bc17ab2452623079cf5
ad291881b54659ba0feb580bae5db78d4e9274e97ecc22cfda3b74ce7e99e3eb5bf2bac5
13cadd114b1c0e7028d9a72d4e6a187a7454952d13660d8691a4f8627bdbb85a5f32761e
66e25ba9c8c0fa9aa075892e3502e9a818e266036edc851c8ad4d035bb3f13584f3c2926
d490c6de6a007d474f6a9ee74b8345863d42e219648da50891aae09ebc9c8fcbd69ca7ca
df3ee67570b8ac4d5a74f0bb37dec659976bc91b5d4722464b2925812a09e385edb8e7e9
5b7a442e2d98ae2405890532d9e79cf03b9f4adfd4ad2df4dbfd2ad0e8b35cb5f61d671c
9849c0ce3041f520f18af4186fed6d7c329aa5c46b142b6c2794469d3e5c9c015d9ec956
8ba8dd9f5f5eff0033a254ead0708dafcdf0f9eb6b7c9e8784789f4fd575492cd74bbf36
9e44a4ca0e5777200e9d71cf15d0b92b012407217f335ba346b6f11e9a759d01a531bbb0
68261b581cf38e6a85ed943a6d9a2ea3711da5c3928124380dd3f2e2b8aa2718abec7361
278b962a786af49a92edaedd3d4cf668ed6dcb31555504924e3de9f10c449ce781c8ac5f
16ff006d5ae9508d2ece2b8999d77870186d3dc738e7eb5b36fe6bc11f989897602ea9ce
0e39a36a6bcdfe4767db6bb14f529ed165b7b6ba585bce6c46b2481493d3807af04d4c74
fb4cb1302f39cfbf39aa3aef862db52bfb3bbbd49165b46ca0dfb41e41e6b5518bf5318f
ab7bd4b6acac734b1b8784dc2724998fa54b61a99b811c70b2c6ff00c008ea307ad5e9b4
e9ee1c456d8f2f6aaec1d78271ce0f1cd4b6f696d66ede524312c8db9ca1e4d6a3cd0cfa
5cf656131b7b99570b31eb9e3f2ce3b54b935a9afd77033aca9c6a249b5bff00c032134f
974b706f65863f93237c982771e9ee7e5aa7acea49a447bd9a4019f695450483f8d6b6a5
a1eed2eca1d4256ba9d14976dc46719efed9c5675c40b7006ee18743e95d551cad16b671
5f9bbfe373931b9960f015634dde6f99f35b456fb2d3f35b965eee186c0dd16c47b37e48
c1c63d2b2b44d52cfc4312dec7206789f682b9032003debaed17c38755b0673e5be06d61
c0cf1ef5734ff86f1e9d6ad6b636896f1162d82c0827d7bff91570a09c345f32d57a7888
a92f85f42acbae37d894290661f2b1f7f5a8b4cd54a4852600c6c7278e87d7e9526b5a0c
ba4c5e5310e558b65471835868c55c11d41ae39538ea91e262f34c46171d796b0d34eebf
cfcc9f5e7834fd5218599bfd24e63c0c8193fcb34c82e64b69032311ed5b71ac4b243f6a
8d5d447fb8dc3243120601edd7f5aad71a4389cbb326cdc03041f773f8f3fa554ea393bc
faa3a334caa3254eb6022d3d5b77defb34ba5b668dcd36f45e5b86efd0d41abbaa796cff
003c6aac0c61ca92c718391e9cfe79ed548ea763a0dfda6992aca64b83c32ae40c9c0cfe
349addbcd70eaf17cca3a815cd1b731ea62658bc260635271bcdafe990cfaecc63544ea0
005bd4d6649733ccdf33b13e82acc3a54f272e362fa9ad18a1d3ec57748e19ab5bc63b1f
2ae18dc5be6af2e58f9e9f819941e956750b37d3efe6b473968db19e391d8fe555aa9a69
d99f6e9dd5d199692dec97afe629110cf04569d154ee74f5b9ba8e732ba1452b85e87208
febfa53dcc685274a367272d7a966550d13a9eea454360fbaca1c91bb6d57fece7450e6f
262579270391d715069f1471c96ecd310ec0909eb9ddff00d7fc855a5ee3f5ff00337e85
ebfb87b6b7df1a176271c0e955acb5513bf97328527a1ec6b3fc51a147accd62eda8bdab
5b3ee08bfc79c76cf5e3afd6ac59d8f96e259797ce40f4ff00ebd094797ccf0734c754c2
568ca2f4ec7436505958c625648d173b962450013ea71527f6f4e275711a155390ac322b
336f197249f41fd693cc03ee285f7ea6b34b5bee7938acd31151eb2e45d96ffd7ab47a4d
9789bed5a24b36c06e40d91a1eee7803f33566f752b3d07488ace62b294884655b9ddc63
9ae1f45b9100fb44cbba18b731c8e0b630a3dfa9359f757af7f74f24bc8392a3d2bd4ab5
a54a8c6325ef3d5fe9fe7f3378e3fdc8d9fbef457fcf4bee699f14dc40045610c56d6ea7
e58e350a07e02a0bbbbb3f11c900d5adfcc784e5482467f2eb593e60ec8b8f7e697cd607
e5017e82bce9ca535cace5c366d5f0f5d57555b7fd753b6fb3c335b2472c48e98fbac323
a53563fb2afc88a621dc7de1fe3fe7ad6149ae34702245cb63935774ad5bed24a4b80d58
c5ca2b55747d2c337c357aaa9a7ef3317562c6fdf77e1546b575d09f6cdca41cf5c56556
b0f851f1598479715357ea14e8c912291d734da507041aa3913b3b9b3adea6b6b0e9f68f
6b24a6e5b0244ff9667819f7ebd2b3e5b0b98e1133447cb39e474e3835d043a9dbc36717
9a416c71ed50df6a1a65ae8f717971f6a96dd7958229303793d715587a907074eb3b2bdd
3b5fd57cf43edf1b84a199c68d3c325ed6d67aeaefb7ddb186106a5643499279208a5915
b7a73c8f51debd8b4d856d34ab6804af22c312a79921cb3606324d799e9ba38952c7561b
d74f9cab658731e7a67db3c66bd06fb56b4d22d424ec0f18c7ad77c292a5efa774d68cc7
07571587a0f098a768c1bd34d1f533350d4b4ad72d9e5b2ba86e3ecedb26d872573d33f9
1ae4628f4fd4ed6ea5d2258a59e3042e7a07c719f6a743aa691a443790e93a708d6e9b74
a59892de9d7b0c9e3deb1ace65b012258c2902c8db9b19e4fe35e6574e52e64fd4edab99
e51cce318caa4935cb749fadff004b17c0bd4d063875720dfa4aaf1b22e7f8b8e831dbf9
5595d42da505e51b543648588824af5fa7231deb22f2e67b90a1ae2452bd0a3631548c0c
c4ff00a45c73d4798694229d3b4b7e9fa98661c470552d08abeb74b64df456ec5fbed585
f5c6e4561b4e0128722afd886d434f9ec1aecc52ca842303f30f7acbb6d31559669a7955
3fbacf9cd68c5a94169759891890d80401b76edfcf39a89455ad13cdcbb1338e2962b115
2d6daffe5d849eca6d1b4682cdeeda760c72edc139edf4acb249ea49ab17b7925edc191c
9c7f08f4155aae11e547999be3bebd8b9d7ee6f6a9ab8d71a3b968c4772a3632aff10cf0
47e759b9c633919e79e2aa0241c8e2a717b305da5b70ff0068669caf2773d2c1f103a70e
4aeafe68968a83cfff00a669f97b6297ed031830a7e19fa54d99deb8870cf74c988c822b
132f6b3949a548e3846e0ecfb7e51cff0043dc753d715a8d28272bb97db391599ace9a35
cb19aca44628ebf7d3af073cfe42b4a6d2d25b33b2866f85aed538cacded7ee42d70da85
e5bdc404326d56054865c1c6791d7f8bf4f7ad64180ce7b74fad616910d96876b0592190
45d097ebbb3ce7f1e2b71df71e0600e8289c6cf94f9acd255218a752ae8d6cbf5f2b0176
3de9624f3255407058e05329558a3861d41cd38be569a3c64eeeecdcd6a68bfb3ac22b61
b62f2fe65f461c107f1cd6345819727a55bbc9165b6041e7cd66c7d707fad51cf18adf16
97b69767faea74e22a3f6dcebc85906d9187bd36a4251b05b706ee693629e8e3f1e2b953
b2d499d1e69374dab7aafc8652ab15395241f6a77947b329fc68f28f765fce8e6447b0aa
ba0d6666396249f7a4a798f1fc69f9d28118ea4b1f414732e837427bcacbe6bfe1c628e6
90f26a43263eea8157b4eb39af5f924463be293934aecd6961a35a6a941b6df65fe6d7e4
50d9237183f8d6ee850b047f3232c8dd88c8a5bb4b2d3800577bf606aaff006f4aabb638
c28acdb94d688f630f0c2e5d8853ab37ccba2d7f4fd4e91b44d6756d66db5286fbcbd396
030cb64cd8078c1e064739fd2b9dd62496e22b292793fe58819c92491c127f2aa715f4ed
e22b2d4a4bdb88d2dcf30a1f95bf5fcfe95656d753d6f56bb8e28221a641b9a39b3c8c9c
e0f3ef5df19f3e1dc6cef75e7eaff23d9c7d4a59a515f579c64e30bb4ef17a3f87a73333
360fe16c8fa5296dbf2a7e75b961e1b9af4a2995235619e4f38ab5abdadb784aef4b43a7
4b7e6ee5d8d203854e47b75e7f4ae654a4d734b63cac3e5788a93fabe16294ddeeeff7a5
77a69bbebe9be358e933dd329652919ee475a645756167adbd8b24aced0c92c6c482bf2b
ec20fa7238af41d5b57d22d6d7c8caee1f742f506b89bbbfb4bbdfb625491c60c9b704fe
34568384ad7ba2a9d3c16128b574ea799973ced3c858f4ec2a2ab1f6520fccea07ae6ac4
4d636fcb032b7e953cc96c7cfaa33a926ea34bcd9456377385527e82af5ae913ce7e7f91
7d4d3a4d5ce36c30a463e9559afee5baca47d28f7df91b46383a52f7db9fa688ae188047
1cd2529c64e3a52559e787e14e033d07e3447cb8cd2ef2c4f38350dbbd91d74a95254d55
acdd9b6925bbb5afabdb75d1fa135b59bdcceb0a11bdb800ff00f5ebb6b3f075ccb6260b
99a28622b8c42a0b37d49fe95c2db4861b98e4071b581af64d32e16e74f864539ca8aefc
3c94ae9a5fd7e27b99454a0db74e9a525d5bbbff002fc0f1bd53c3cf657e6d989558cf19
ea4647f81fccf5a892178cf95c9fee9f5f6af5ed7b428758b523ee5c2731b8fe5f8d7975
d466d9a58e71b1a2243827a11d6b9aad39537aec7b38bc252c7c2d2d25dca7d0f2295d83
3640c545a5df5beb76cd341344f86da1d1c104e3241c743daaf2699792385581ce4e338a
85bdba9f1b89c057c3cb91abaee556cf1f4a4ad6d434a96c6375753b90216f6041ff00eb
d65c71bcae150124d74e2b4924fb2fc97fc31cf5694e13e56b51b455d934bba8d3718c91
54e453102640540ea4d72a69ec2a942ad3769c5a1314a463bd396191beea31fc2a74d3ee
643c447f1a1b482146a4f48c5b2ad15af0e8170fcb9da2a76d3acec46e99f711daa1d48f
43b6195625c79a6b95777a19b6362f7728e309dcd5cbf9aff4fd5ac12ca68174f1febc12
324e79cf7e98c62a1b8d509431dbaf969d322b3c2bc8d800b354b8b9eaf43bf0399d2cb1
bf6105524d3577b6bd91a7ad44e6e7ce1f346c3835955afa7addbc8239d1da1c602b0fe5
4ebdd2913e6468c7aa86ff001ad6117649fe673623073c4a789a6ad7dd3feb6320212a58
0c81d6b434b9ee6149d22ddb2e14444f6cff00fab356ac22862898314c9eee7fa0a87456
bdb6b1ba6d5658e431dc4725b2c78ece37671d88e95b519f2547093f8935fe5f89e9e519
3ddc712ea24e2d7bb7d5ddf4ef6ea52fb4dd5bdc16f31d64079e6af5c789751b88044d31
