<PAMDataset>
  <SRS>GEOGCS["WGS 84",DATUM["WGS_1984",SPHEROID["WGS 84",6378137,298.257223563,AUTHORITY["EPSG","7030"]],AUTHORITY["EPSG","6326"]],PRIMEM["Greenwich",0],UNIT["degree",0.0174532925199433],AUTHORITY["EPSG","4326"]]</SRS>
  <GeoTransform>  2.4374315264304045e+01,  1.8037378632443759e-03,  0.0000000000000000e+00,  5.5267907448998237e+01,  0.0000000000000000e+00, -1.8037378632443759e-03</GeoTransform>
  <Metadata domain="IMAGE_STRUCTURE">
    <MDI key="INTERLEAVE">PIXEL</MDI>
  </Metadata>
  <Metadata>
    <MDI key="AREA_OR_POINT">Area</MDI>
    <MDI key="COMMENT">CREATOR: gd-jpeg v1.0 (using IJG JPEG v62), quality = 100
</MDI>
  </Metadata>
</PAMDataset>
