<PAMDataset>
  <SRS>GEOGCS["WGS 84",DATUM["WGS_1984",SPHEROID["WGS 84",6378137,298.257223563,AUTHORITY["EPSG","7030"]],AUTHORITY["EPSG","6326"]],PRIMEM["Greenwich",0],UNIT["degree",0.0174532925199433],AUTHORITY["EPSG","4326"]]</SRS>
  <GeoTransform> -1.0883715244535203e+02,  2.6166583628109676e-02,  0.0000000000000000e+00,  8.0463919047112086e+01,  0.0000000000000000e+00, -2.6166583628109676e-02</GeoTransform>
  <Metadata domain="IMAGE_STRUCTURE">
    <MDI key="INTERLEAVE">PIXEL</MDI>
  </Metadata>
  <Metadata>
    <MDI key="AREA_OR_POINT">Area</MDI>
    <MDI key="EXIF_ColorSpace">65535</MDI>
    <MDI key="EXIF_DateTime">2006:02:10 09:17:35</MDI>
    <MDI key="EXIF_Orientation">1</MDI>
    <MDI key="EXIF_PixelXDimension">10678</MDI>
    <MDI key="EXIF_PixelYDimension">5074</MDI>
    <MDI key="EXIF_ResolutionUnit">2</MDI>
    <MDI key="EXIF_Software">Adobe Photoshop CS Macintosh</MDI>
    <MDI key="EXIF_XResolution">(120)</MDI>
    <MDI key="EXIF_YResolution">(120)</MDI>
  </Metadata>
</PAMDataset>
