<PAMDataset>
  <SRS>GEOGCS["WGS 84",DATUM["WGS_1984",SPHEROID["WGS 84",6378137,298.257223563,AUTHORITY["EPSG","7030"]],AUTHORITY["EPSG","6326"]],PRIMEM["Greenwich",0],UNIT["degree",0.0174532925199433],AUTHORITY["EPSG","4326"]]</SRS>
  <GeoTransform>  1.9007588619905412e+01,  3.1701005214931485e-06,  0.0000000000000000e+00,  5.4049073465873306e+01,  0.0000000000000000e+00, -3.1701005214931485e-06</GeoTransform>
  <Metadata domain="IMAGE_STRUCTURE">
    <MDI key="INTERLEAVE">PIXEL</MDI>
  </Metadata>
  <Metadata>
    <MDI key="AREA_OR_POINT">Area</MDI>
    <MDI key="TIFFTAG_ARTIST">Massimo Colagrande</MDI>
    <MDI key="TIFFTAG_COPYRIGHT">Metis Systems srl</MDI>
    <MDI key="TIFFTAG_DATETIME">2021:05:19 10:24:55</MDI>
    <MDI key="TIFFTAG_IMAGEDESCRIPTION">Metis DRS 1300 DCS - Test</MDI>
    <MDI key="TIFFTAG_RESOLUTIONUNIT">2 (pixels/inch)</MDI>
    <MDI key="TIFFTAG_SOFTWARE">Adobe Photoshop CC 2018 (Windows)</MDI>
    <MDI key="TIFFTAG_XRESOLUTION">400</MDI>
    <MDI key="TIFFTAG_YRESOLUTION">400</MDI>
  </Metadata>
</PAMDataset>
