<PAMDataset>
  <SRS>GEOGCS["WGS 84",DATUM["WGS_1984",SPHEROID["WGS 84",6378137,298.257223563,AUTHORITY["EPSG","7030"]],AUTHORITY["EPSG","6326"]],PRIMEM["Greenwich",0],UNIT["degree",0.0174532925199433],AUTHORITY["EPSG","4326"]]</SRS>
  <GeoTransform>  3.7196947749826187e+01,  3.3426286377043669e-05,  0.0000000000000000e+00,  5.5778571918592668e+01,  0.0000000000000000e+00, -3.3426286377043669e-05</GeoTransform>
  <Metadata domain="IMAGE_STRUCTURE">
    <MDI key="INTERLEAVE">PIXEL</MDI>
  </Metadata>
  <Metadata>
    <MDI key="AREA_OR_POINT">Area</MDI>
    <MDI key="EXIF_BitsPerSample">8 8 8 8</MDI>
    <MDI key="EXIF_Compression">1</MDI>
    <MDI key="EXIF_PhotometricInterpretation">2</MDI>
    <MDI key="EXIF_PlanarConfiguration">1</MDI>
    <MDI key="EXIF_RowsPerStrip">1</MDI>
    <MDI key="EXIF_SamplesPerPixel">4</MDI>
    <MDI key="EXIF_StripByteCounts">142256 142256 142256 142256 142256 142256 142256 142256 142256 142256 142256 142256 142256 142256 142256 142256 142256 142256 142256 142256 142256 142256 142256 142256 142256 142256 142256 142256 142256 142256 142256 142256 142256 142256 142256 142256 142256 142256 142256 142256 142256 142256 142256 142256 142256 142256 142256 142256 142256 142256 142256 142256 142256 142256 142256 142256 142256 142256 142256 142256 142256 142256 142256 142256 142256 142256 142256 142256 142256 142256 142256 142256 142256 142256 142256 142256 142256 142256 142256 142256 142256 142256 142256 142256 142256 142256 142256 142256 142256 142256 142256 142256 142256 142256 142256 142256 142256 142256 142256 142256 142256 142256 142256 142256 142256 142256 142256 142256 142256 142256 142256 142256 142256 142256 142256 142256 142256 142256 142256 142256 142256 142256 142256 142256 142256 142256 142256 142256 142256 142256 142256 142256 142256 142256 142256 142256 142256 142256 142256 142256 142256 142256 142256 142256 142256 142256 142256 142256 142256 142256 142256 142256 142256 142256 142256 142256 142256 142256 142256 142256 142256 142256 142256 142256 142256 142256 142256 142256 142256 142256 142256 142256 142256 142256 142256 142256 142256 142256 142256 142256 142256 142256 142256 142256 142256 142256 142256 142256 142256 142256 142256 142256 142256 142256 142256 142256 142256 142256 142256 142256 142256 142256 142256 142256 142256 142256 142256 142256 142256 142256 142256 142256 142256 142256 142256 142256 142256 142256 142256 142256 142256 142256 142256 142256 142256 142256 142256 142256 142256 142256 142256 142256 142256 142256 142256 142256 142256 142256 142256 142256 142256 142256 142256 142256 142256 142256 142256 142256 142256 142256 142256 142256 142256 142256 142256 142256 142256 142256 142256 142256 142256 142256 142256 142256 142256 142256 142256 142256 142256 142256 142256 142256 142256 142256 142256 142256 142256 142256 142256 142256 142256 142256 142256 142256 142256 142256 142256 142256 142256 142256 142256 142256 142256 142256 142256 142256 142256 142256 142256 142256 142256 142256 142256 142256 142256 142256 142256 142256 142256 142256 142256 142256 142256 142256 142256 142256 142256 142256 142256 142256 142256 142256 142256 142256 142256 142256 142256 142256 142256 142256 142256 142256 142256 142256 142256 142256 142256 142256 142256 142256 142256 142256 142256 142256 142256 142256 142256 142256 142256 142256 142256 142256 142256 142256 142256 142256 142256 142256 142256 142256 142256 142256 142256 142256 142256 142256 142256 142256 142256 142256 142256 142256 142256 142256 142256 142256 142256 142256 142256 142256 142256 142256 142256 142256 142256 142256 142256 142256 142256 142256 142256 142256 142256 142256 142256 142256 142256 142256 142256 142256 142256 142256 142256 142256 142256 142256 142256 142256 142256 142256 142256 142256 142256 142256 142256 142256 142256 142256 142256 142256 142256 142256 142256 142256 142256 142256 142256 142256 142256 142256 142256 142256 142256 142256 142256 142256 142256 142256 142256 142256 142256 142256 142256 142256 142256 142256 142256 142256 142256 142256 142256 142256 142256 142256 142256 142256 142256 142256 142256 142256 142256 142256 142256 142256 142256 142256 142256 142256 142256 142256 142256 142256 142256 142256 142256 142256 142256 142256 142256 142256 142256 142256 142256 142256 142256 142256 142256 142256 142256 142256 142256 142256 142256 142256 142256 142256 142256 142256 142256 142256 142256 142256 142256 142256 142256 142256 142256 142256 142256 142256 142256 142256 142256 142256 142256 142256 142256 142256 142256 142256 142256 142256 142256 142256 142256 142256 142256 142256 142256 142256 142256 142256 142256 142256 142256 142256 142256 142256 142256 142256 142256 142256 142256 142256 142256 142256 142256 142256 142256 142256 142256 142256 142256 142256 142256 142256 142256 142256 142256 142256 142256 142256 142256 142256 142256 142256 142256 142256 142256 142256 142256 142256 142256 142256 142256 142256 142256 142256 142256 142256 142256 142256 142256 142256 142256 142256 142256 142256 142256 142256 142256 142256 142256 142256 142256 142256 142256 142256 142256 142256 142256 142256 142256 142256 142256 142256 142256 142256 142256 142256 142256 142256 142256 142256 142256 142256 142256 142256 142256 142256 142256 142256 142256 142256 142256 142256 142256 142256 142256 142256 142256 142256 142256 142256 142256 142256 142256 142256 142256 142256 142256 142256 142256 142256 142256 142256 142256 142256 142256 142256 142256 142256 142256 142256 142256 142256 142256 142256 142256 142256 142256 142256 142256 142256 142256 142256 142256 142256 142256 142256 142256 142256 142256 142256 142256 142256 142256 142256 142256 142256 142256 142256 142256 142256 142256 142256 142256 142256 142256 142256 142256 142256 142256 142256 142256 142256 142256 142256 142256 142256 142256 142256 142256 142256 142256 142256 142256 142256 142256 142256 142256 142256 142256 142256 142256 142256 142256 142256 142256 142256 142256 142256 142256 142256 142256 142256 142256 142256 142256 142256 142256 142256 142256 142256 142256 142256 142256 142256 142256 142256 142256 142256 142256 142256 142256 142256 142256 142256 142256 142256 142256 142256 142256 142256 142256 142256 142256 142256 142256 142256 142256 142256 142256 142256 142256 142256 142256 142256 142256 142256 142256 142256 142256 142256 142256 142256 142256 142256 142256 142256 142256 142256 142256 142256 142256 142256 142256 142256 142256 142256 142256 142256 142256 142256 142256 142256 142256 142256 142256 142256 142256 142256 142256 142256 142256 142256 142256 142256 142256 142256 142256 142256 142256 142256 142256 142256 142256 142256 142256 142256 142256 142256 142256 142256 142256 142256 142256 142256 142256 142256 142256 142256 142256 142256 142256 142256 142256 142256 142256 142256 142256 142256 142256 142256 142256 142256 142256 142256 142256 142256 142256 142256 142256 142256 142256 142256 142256 142256 142256 142256 142256 142256 142256 142256 142256 142256 142256 142256 142256 142256 142256 142256 142256 142256 142256 142256 142256 142256 142256 142256 142256 142256 142256 142256 142256 142256 142256 142256 142256 142256 142256 142256 142256 142256 142256 142256 142256 142256 142256 142256 142256 142256 142256 142256 142256 142256 142256 142256 142256 142256 142256 142256 142256 142256 142256 142256 142256 142256 142256 142256 142256 142256 142256 142256 142256 142256 142256 142256 142256 142256 142256 142256 142256 142256 142256 142256 142256 142256 142256 142256 142256 142256 142256 142256 142256 142256 142256 142256 142256 142256 142256 142256 142256 142256 142256 142256 142256 142256 142256 142256 142256 142256 142256 142256 142256 142256 142256 142256 142256 142256 142256 142256 142256 142256 142256 142256 142256 142256 142256 142256 142256 142256 142256 142256 142256 142256 142256 142256 142256 142256 142256 142256 142256 142256 142256 142256 142256 142256 142256 142256 142256 142256 142256 142256 142256 142256 142256 142256 142256 142256 142256 142256 142256 142256 142256 142256 142256 142256 142256 142256 142256 142256 142256 142256 142256 142256 142256 142256 142256 142256 142256 142256 142256 142256 142256 142256 142256 142256 142256 142256 142256 142256 142256 142256 142256 142256 142256 142256 142256 142256 142256 142256 142256 142256 142256 142256 142256 142256 142256 142256 142256 142256 142256 142256 142256 142256 142256 142256 142256 142256 142256 142256 142256 142256 142256 142256 142256 142256 142256 142256 142256 142256 142256 142256 142256 142256 142256 142256 142256 142256 142256 142256 142256 142256 142256 142256 142256 142256 142256 142256 142256 142256 142256 142256 142256 142256 142256 142256 142256 142256 142256 142256 142256 142256 142256 142256 142256 142256 142256 142256 142256 142256 142256 142256 142256 142256 142256 142256 142256 142256 142256 142256 142256 142256 142256 142256 142256 142256 142256 142256 142256 142256 142256 142256 142256 142256 142256 142256 142256 142256 142256 142256 142256 142256 142256 142256 142256 142256 142256 142256 142256 142256 142256 142256 142256 142256 142256 142256 142256 142256 142256 142256 142256 142256 142256 142256 142256 142256 142256 142256 142256 142256 142256 142256 142256 142256 142256 142256 142256 142256 142256 142256 142256 142256 142256 142256 142256 142256 142256 142256 142256 142256 142256 142256 142256 142256 142256 142256 142256 142256 142256 142256 142256 142256 142256 142256 142256 142256 142256 142256 142256 142256 142256 142256 142256 142256 142256 142256 142256 142256 142256 142256 142256 142256 142256 142256 142256 142256 142256 142256 142256 142256 142256 142256 142256 142256 142256 142256 142256 142256 142256 142256 142256 142256 142256 142256 142256 142256 142256 142256 142256 142256 142256 142256 142256 142256 142256 142256 142256 142256 142256 142256 142256 142256 142256 142256 142256 142256 142256 142256 142256 142256 142256 142256 142256 142256 142256 142256 142256 142256 142256 142256 142256 142256 142256 142256 142256 142256 142256 142256 142256 142256 142256 142256 142256 142256 142256 142256 142256 142256 142256 142256 142256 142256 142256 142256 142256 142256 142256 142256 142256 142256 142256 142256 142256 142256 142256 142256 142256 142256 142256 142256 142256 142256 142256 142256 142256 142256 142256 142256 142256 142256 142256 142256 142256 142256 142256 142256 142256 142256 142256 142256 142256 142256 142256 142256 142256 142256 142256 142256 142256 142256 142256 142256 142256 142256 142256 142256 142256 142256 142256 142256 142256 142256 142256 142256 142256 142256 142256 142256 142256 142256 142256 142256 142256 142256 142256 142256 142256 142256 142256 142256 142256 142256 142256 142256 142256 142256 142256 142256 142256 142256 142256 142256 142256 142256 142256 142256 142256 142256 142256 142256 142256 142256 142256 142256 142256 142256 142256 142256 142256 142256 142256 142256 142256 142256 142256 142256 142256 142256 142256 142256 142256 142256 142256 142256 142256 142256 142256 142256 142256 142256 142256 142256 142256 142256 142256 142256 142256 142256 142256 142256 142256 142256 142256 142256 142256 142256 142256 142256 142256 142256 142256 142256 142256 142256 142256 142256 142256 142256 142256 142256 142256 142256 142256 142256 142256 142256 142256 142256 142256 142256 142256 142256 142256 142256 142256 142256 142256 142256 142256 142256 142256 142256 142256 142256 142256 142256 142256 142256 142256 142256 142256 142256 142256 142256 142256 142256 142256 142256 142256 142256 142256 142256 142256 142256 142256 142256 142256 142256 142256 142256 142256 142256 142256 142256 142256 142256 142256 142256 142256 142256 142256 142256 142256 142256 142256 142256 142256 142256 142256 142256 142256 142256 142256 142256 142256 142256 142256 142256 142256 142256 142256 142256 142256 142256 142256 142256 142256 142256 142256 142256 142256 142256 142256 142256 142256 142256 142256 142256 142256 142256 142256 142256 142256 142256 142256 142256 142256 142256 142256 142256 142256 142256 142256 142256 142256 142256 142256 142256 142256 142256 142256 142256 142256 142256 142256 142256 142256 142256 142256 142256 142256 142256 142256 142256 142256 142256 142256 142256 142256 142256 142256 142256 142256 142256 142256 142256 142256 142256 142256 142256 142256 142256 142256 142256 142256 142256 142256 142256 142256 142256 142256 142256 142256 142256 142256 142256 142256 142256 142256 142256 142256 142256 142256 142256 142256 142256 142256 142256 142256 142256 142256 142256 142256 142256 142256 142256 142256 142256 142256 142256 142256 142256 142256 142256 142256 142256 142256 142256 142256 142256 142256 142256 142256 142256 142256 142256 142256 142256 142256 142256 142256 142256 142256 142256 142256 142256 142256 142256 142256 142256 142256 142256 142256 142256 142256 142256 142256 142256 142256 142256 142256 142256 142256 142256 142256 142256 142256 142256 142256 142256 142256 142256 142256 142256 142256 142256 142256 142256 142256 142256 142256 142256 142256 142256 142256 142256 142256 142256 142256 142256 142256 142256 142256 142256 142256 142256 142256 142256 142256 142256 142256 142256 142256 142256 142256 142256 142256 142256 142256 142256 142256 142256 142256 142256 142256 142256 142256 142256 142256 142256 142256 142256 142256 142256 142256 142256 142256 142256 142256 142256 142256 142256 142256 142256 142256 142256 142256 142256 142256 142256 142256 142256 142256 142256 142256 142256 142256 142256 142256 142256 142256 142256 142256 142256 142256 142256 142256 142256 142256 142256 142256 142256 142256 142256 142256 142256 142256 142256 142256 142256 142256 142256 142256 142256 142256 142256 142256 142256 142256 142256 142256 142256 142256 142256 142256 142256 142256 142256 142256 142256 142256 142256 142256 142256 142256 142256 142256 142256 142256 142256 142256 142256 142256 142256 142256 142256 142256 142256 142256 142256 142256 142256 142256 142256 142256 142256 142256 142256 142256 142256 142256 142256 142256 142256 142256 142256 142256 142256 142256 142256 142256 142256 142256 142256 142256 142256 142256 142256 142256 142256 142256 142256 142256 142256 142256 142256 142256 142256 142256 142256 142256 142256 142256 142256 142256 142256 142256 142256 142256 142256 142256 142256 142256 142256 142256 142256 142256 142256 142256 142256 142256 142256 142256 142256 142256 142256 142256 142256 142256 142256 142256 142256 142256 142256 142256 142256 142256 142256 142256 142256 142256 142256 142256 142256 142256 142256 142256 142256 142256 142256 142256 142256 142256 142256 142256 142256 142256 142256 142256 142256 142256 142256 142256 142256 142256 142256 142256 142256 142256 142256 142256 142256 142256 142256 142256 142256 142256 142256 142256 142256 142256 142256 142256 142256 142256 142256 142256 142256 142256 142256 142256 142256 142256 142256 142256 142256 142256 142256 142256 142256 142256 142256 142256 142256 142256 142256 142256 142256 142256 142256 142256 142256 142256 142256 142256 142256 142256 142256 142256 142256 142256 142256 142256 142256 142256 142256 142256 142256 142256 142256 142256 142256 142256 142256 142256 142256 142256 142256 142256 142256 142256 142256 142256 142256 142256 142256 142256 142256 142256 142256 142256 142256 142256 142256 142256 142256 142256 142256 142256 142256 142256 142256 142256 142256 142256 142256 142256 142256 142256 142256 142256 142256 142256 142256 142256 142256 142256 142256 142256 142256 142256 142256 142256 142256 142256 142256 142256 142256 142256 142256 142256 142256 142256 142256 142256 142256 142256 142256 142256 142256 142256 142256 142256 142256 142256 142256 142256 142256 142256 142256 142256 142256 142256 142256 142256 142256 142256 142256 142256 142256 142256 142256 142256 142256 142256 142256 142256 142256 142256 142256 142256 142256 142256 142256 142256 142256 142256 142256 142256 142256 142256 142256 142256 142256 142256 142256 142256 142256 142256 142256 142256 142256 142256 142256 142256 142256 142256 142256 142256 142256 142256 142256 142256 142256 142256 142256 142256 142256 142256 142256 142256 142256 142256 142256 142256 142256 142256 142256 142256 142256 142256 142256 142256 142256 142256 142256 142256 142256 142256 142256 142256 142256 142256 142256 142256 142256 142256 142256 142256 142256 142256 142256 142256 142256 142256 142256 142256 142256 142256 142256 142256 142256 142256 142256 142256 142256 142256 142256 142256 142256 142256 142256 142256 142256 142256 142256 142256 142256 142256 142256 142256 142256 142256 142256 142256 142256 142256 142256 142256 142256 142256 142256 142256 142256 142256 142256 142256 142256 142256 142256 142256 142256 142256 142256 142256 142256 142256 142256 142256 142256 142256 142256 142256 142256 142256 142256 142256 142256 142256 142256 142256 142256 142256 142256 142256 142256 142256 142256 142256 142256 142256 142256 142256 142256 142256 142256 142256 142256 142256 142256 142256 142256 142256 142256 142256 142256 142256 142256 142256 142256 142256 142256 142256 142256 142256 142256 142256 142256 142256 142256 142256 142256 142256 142256 142256 142256 142256 142256 142256 142256 142256 142256 142256 142256 142256 142256 142256 142256 142256 142256 142256 142256 142256 142256 142256 142256 142256 142256 142256 142256 142256 142256 142256 142256 142256 142256 142256 142256 142256 142256 142256 142256 142256 142256 142256 142256 142256 142256 142256 142256 142256 142256 142256 142256 142256 142256 142256 142256 142256 142256 142256 142256 142256 142256 142256 142256 142256 142256 142256 142256 142256 142256 142256 142256 142256 142256 142256 142256 142256 142256 142256 142256 142256 142256 142256 142256 142256 142256 142256 142256 142256 142256 142256 142256 142256 142256 142256 142256 142256 142256 142256 142256 142256 142256 142256 142256 142256 142256 142256 142256 142256 142256 142256 142256 142256 142256 142256 142256 142256 142256 142256 142256 142256 142256 142256 142256 142256 142256 142256 142256 142256 142256 142256 142256 142256 142256 142256 142256 142256 142256 142256 142256 142256 142256 142256 142256 142256 142256 142256 142256 142256 142256 142256 142256 142256 142256 142256 142256 142256 142256 142256 142256 142256 142256 142256 142256 142256 142256 142256 142256 142256 142256 142256 142256 142256 142256 142256 142256 142256 142256 142256 142256 142256 142256 142256 142256 142256 142256 142256 142256 142256 142256 142256 142256 142256 142256 142256 142256 142256 142256 142256 142256 142256 142256 142256 142256 142256 142256 142256 142256 142256 142256 142256 142256 142256 142256 142256 142256 142256 142256 142256 142256 142256 142256 142256 142256 142256 142256 142256 142256 142256 142256 142256 142256 142256 142256 142256 142256 142256 142256 142256 142256 142256 142256 142256 142256 142256 142256 142256 142256 142256 142256 142256 142256 142256 142256 142256 142256 142256 142256 142256 142256 142256 142256 142256 142256 142256 142256 142256 142256 142256 142256 142256 142256 142256 142256 142256 142256 142256 142256 142256 142256 142256 142256 142256 142256 142256 142256 142256 142256 142256 142256 142256 142256 142256 142256 142256 142256 142256 142256 142256 142256 142256 142256 142256 142256 142256 142256 142256 142256 142256 142256 142256 142256 142256 142256 142256 142256 142256 142256 142256 142256 142256 142256 142256 142256 142256 142256 142256 142256 142256 142256 142256 142256 142256 142256 142256 142256 142256 142256 142256 142256 142256 142256 142256 142256 142256 142256 142256 142256 142256 142256 142256 142256 142256 142256 142256 142256 142256 142256 142256 142256 142256 142256 142256 142256 142256 142256 142256 142256 142256 142256 142256 142256 142256 142256 142256 142256 142256 142256 142256 142256 142256 142256 142256 142256 142256 142256 142256 142256 142256 142256 142256 142256 142256 142256 142256 142256 142256 142256 142256 142256 142256 142256 142256 142256 142256 142256 142256 142256 142256 142256 142256 142256 142256 142256 142256 142256 142256 142256 142256 142256 142256 142256 142256 142256 142256 142256 142256 142256 142256 142256 142256 142256 142256 142256 142256 142256 142256 142256 142256 142256 142256 142256 142256 142256 142256 142256 142256 142256 142256 142256 142256 142256 142256 142256 142256 142256 142256 142256 142256 142256 142256 142256 142256 142256 142256 142256 142256 142256 142256 142256 142256 142256 142256 142256 142256 142256 142256 142256 142256 142256 142256 142256 142256 142256 142256 142256 142256 142256 142256 142256 142256 142256 142256 142256 142256 142256 142256 142256 142256 142256 142256 142256 142256 142256 142256 142256 142256 142256 142256 142256 142256 142256 142256 142256 142256 142256 142256 142256 142256 142256 142256 142256 142256 142256 142256 142256 142256 142256 142256 142256 142256 142256 142256 142256 142256 142256 142256 142256 142256 142256 142256 142256 142256 142256 142256 142256 142256 142256 142256 142256 142256 142256 142256 142256 142256 142256 142256 142256 142256 142256 142256 142256 142256 142256 142256 142256 142256 142256 142256 142256 142256 142256 142256 142256 142256 142256 142256 142256 142256 142256 142256 142256 142256 142256 142256 142256 142256 142256 142256 142256 142256 142256 142256 142256 142256 142256 142256 142256 142256 142256 142256 142256 142256 142256 142256 142256 142256 142256 142256 142256 142256 142256 142256 142256 142256 142256 142256 142256 142256 142256 142256 142256 142256 142256 142256 142256 142256 142256 142256 142256 142256 142256 142256 142256 142256 142256 142256 142256 142256 142256 142256 142256 142256 142256 142256 142256 142256 142256 142256 142256 142256 142256 142256 142256 142256 142256 142256 142256 142256 142256 142256 142256 142256 142256 142256 142256 142256 142256 142256 142256 142256 142256 142256 142256 142256 142256 142256 142256 142256 142256 142256 142256 142256 142256 142256 142256 142256 142256 142256 142256 142256 142256 142256 142256 142256 142256 142256 142256 142256 142256 142256 142256 142256 142256 142256 142256 142256 142256 142256 142256 142256 142256 142256 142256 142256 142256 142256 142256 142256 142256 142256 142256 142256 142256 142256 142256 142256 142256 142256 142256 142256 142256 142256 142256 142256 142256 142256 142256 142256 142256 142256 142256 142256 142256 142256 142256 142256 142256 142256 142256 142256 142256 142256 142256 142256 142256 142256 142256 142256 142256 142256 142256 142256 142256 142256 142256 142256 142256 142256 142256 142256 142256 142256 142256 142256 142256 142256 142256 142256 142256 142256 142256 142256 142256 142256 142256 142256 142256 142256 142256 142256 142256 142256 142256 142256 142256 142256 142256 142256 142256 142256 142256 142256 142256 142256 142256 142256 142256 142256 142256 142256 142256 142256 142256 142256 142256 142256 142256 142256 142256 142256 142256 142256 142256 142256 142256 142256 142256 142256 142256 142256 142256 142256 142256 142256 142256 142256 142256 142256 142256 142256 142256 142256 142256 142256 142256 142256 142256 142256 142256 142256 142256 142256 142256 142256 142256 142256 142256 142256 142256 142256 142256 142256 142256 142256 142256 142256 142256 142256 142256 142256 142256 142256 142256 142256 142256 142256 142256 142256 142256 142256 142256 142256 142256 142256 142256 142256 142256 142256 142256 142256 142256 142256 142256 142256 142256 142256 142256 142256 142256 142256 142256 142256 142256 142256 142256 142256 142256 142256 142256 142256 142256 142256 142256 142256 142256 142256 142256 142256 142256 142256 142256 142256 142256 142256 142256 142256 142256 142256 142256 142256 142256 142256 142256 142256 142256 142256 142256 142256 142256 142256 142256 142256 142256 142256 142256 142256 142256 142256 142256 142256 142256 142256 142256 142256 142256 142256 142256 142256 142256 142256 142256 142256 142256 142256 142256 142256 142256 142256 142256 142256 142256 142256 142256 142256 142256 142256 142256 142256 142256 142256 142256 142256 142256 142256 142256 142256 142256 142256 142256 142256 142256 142256 142256 142256 142256 142256 142256 142256 142256 1422