<PAMDataset>
  <SRS>GEOGCS["WGS 84",DATUM["WGS_1984",SPHEROID["WGS 84",6378137,298.257223563,AUTHORITY["EPSG","7030"]],AUTHORITY["EPSG","6326"]],PRIMEM["Greenwich",0],UNIT["degree",0.0174532925199433],AUTHORITY["EPSG","4326"]]</SRS>
  <GeoTransform> -3.1338811234681865e+00,  8.5654910077333593e-05,  0.0000000000000000e+00,  4.3359085648132755e+01,  0.0000000000000000e+00, -8.5654910077333593e-05</GeoTransform>
  <Metadata domain="IMAGE_STRUCTURE">
    <MDI key="INTERLEAVE">PIXEL</MDI>
  </Metadata>
  <Metadata>
    <MDI key="AREA_OR_POINT">Area</MDI>
    <MDI key="EXIF_ExifVersion">0220</MDI>
    <MDI key="EXIF_PixelXDimension">1099</MDI>
    <MDI key="EXIF_PixelYDimension">808</MDI>
    <MDI key="EXIF_Software">Google</MDI>
    <MDI key="EXIF_YCbCrSubSampling">2 2</MDI>
  </Metadata>
</PAMDataset>
