<PAMDataset>
  <SRS>GEOGCS["WGS 84",DATUM["WGS_1984",SPHEROID["WGS 84",6378137,298.257223563,AUTHORITY["EPSG","7030"]],AUTHORITY["EPSG","6326"]],PRIMEM["Greenwich",0],UNIT["degree",0.0174532925199433],AUTHORITY["EPSG","4326"]]</SRS>
  <GeoTransform>  4.6009976734581901e+00,  7.3149135853332938e-05,  0.0000000000000000e+00,  5.0198198052736089e+01,  0.0000000000000000e+00, -7.3149135853332938e-05</GeoTransform>
  <Metadata domain="IMAGE_STRUCTURE">
    <MDI key="INTERLEAVE">PIXEL</MDI>
  </Metadata>
  <Metadata>
    <MDI key="AREA_OR_POINT">Area</MDI>
    <MDI key="EXIF_ColorSpace">1</MDI>
    <MDI key="EXIF_ComponentsConfiguration">0x1 0x2 0x3 00</MDI>
    <MDI key="EXIF_Contrast">2</MDI>
    <MDI key="EXIF_CustomRendered">0</MDI>
    <MDI key="EXIF_DateTime">2013:08:25 11:56:52</MDI>
    <MDI key="EXIF_DateTimeDigitized">2013:08:10 09:09:57</MDI>
    <MDI key="EXIF_DateTimeOriginal">2013:08:10 09:09:57</MDI>
    <MDI key="EXIF_DigitalZoomRatio">(1)</MDI>
    <MDI key="EXIF_ExifVersion">0221</MDI>
    <MDI key="EXIF_ExposureBiasValue">(0.7)</MDI>
    <MDI key="EXIF_ExposureMode">1</MDI>
    <MDI key="EXIF_ExposureProgram">5</MDI>
    <MDI key="EXIF_ExposureTime">(0.003125)</MDI>
    <MDI key="EXIF_FileSource">0x3</MDI>
    <MDI key="EXIF_Flash">24</MDI>
    <MDI key="EXIF_FlashpixVersion">0100</MDI>
    <MDI key="EXIF_FNumber">(10)</MDI>
    <MDI key="EXIF_FocalLength">(42)</MDI>
    <MDI key="EXIF_GainControl">0</MDI>
    <MDI key="EXIF_ImageDescription">OLYMPUS DIGITAL CAMERA         </MDI>
    <MDI key="EXIF_Interoperability_Index">R98</MDI>
    <MDI key="EXIF_Interoperability_Version">0x30 0x31 0x30 0x30</MDI>
    <MDI key="EXIF_ISOSpeedRatings">100</MDI>
    <MDI key="EXIF_LightSource">9</MDI>
    <MDI key="EXIF_Make">OLYMPUS IMAGING CORP.  </MDI>
    <MDI key="EXIF_MakerNote">OLYMPUS</MDI>
    <MDI key="EXIF_MaxApertureValue">(3.61328)</MDI>
    <MDI key="EXIF_MeteringMode">5</MDI>
    <MDI key="EXIF_Model">E-520           </MDI>
    <MDI key="EXIF_Orientation">1</MDI>
    <MDI key="EXIF_PixelXDimension">1900</MDI>
    <MDI key="EXIF_PixelYDimension">2833</MDI>
    <MDI key="EXIF_ResolutionUnit">2</MDI>
    <MDI key="EXIF_Saturation">2</MDI>
    <MDI key="EXIF_SceneCaptureType">1</MDI>
    <MDI key="EXIF_Sharpness">2</MDI>
    <MDI key="EXIF_Software">GIMP 2.8.2</MDI>
    <MDI key="EXIF_WhiteBalance">1</MDI>
    <MDI key="EXIF_XResolution">(314)</MDI>
    <MDI key="EXIF_YCbCrPositioning">2</MDI>
    <MDI key="EXIF_YResolution">(314)</MDI>
  </Metadata>
</PAMDataset>
