<PAMDataset>
  <SRS>GEOGCS["WGS 84",DATUM["WGS_1984",SPHEROID["WGS 84",6378137,298.257223563,AUTHORITY["EPSG","7030"]],AUTHORITY["EPSG","6326"]],PRIMEM["Greenwich",0],UNIT["degree",0.0174532925199433],AUTHORITY["EPSG","4326"]]</SRS>
  <GeoTransform>  1.8512172608581302e+01,  3.1973652085025788e-04,  0.0000000000000000e+00,  5.1120885743426086e+01,  0.0000000000000000e+00, -3.1973652085025788e-04</GeoTransform>
  <Metadata domain="IMAGE_STRUCTURE">
    <MDI key="INTERLEAVE">PIXEL</MDI>
  </Metadata>
  <Metadata>
    <MDI key="AREA_OR_POINT">Area</MDI>
    <MDI key="EXIF_BitsPerSample">16</MDI>
    <MDI key="EXIF_ColorSpace">2</MDI>
    <MDI key="EXIF_Copyright">Mykola Swarnyk</MDI>
    <MDI key="EXIF_DateTime">2019:10:09 09:32:41</MDI>
    <MDI key="EXIF_DateTimeOriginal">2019:10:09 09:32:41</MDI>
    <MDI key="EXIF_ExposureBiasValue">(0)</MDI>
    <MDI key="EXIF_ExposureProgram">1</MDI>
    <MDI key="EXIF_ExposureTime">(0.008)</MDI>
    <MDI key="EXIF_FNumber">(3.2)</MDI>
    <MDI key="EXIF_FocalLength">(70)</MDI>
    <MDI key="EXIF_ISOSpeedRatings">1000</MDI>
    <MDI key="EXIF_Make">NIKON CORPORATION</MDI>
    <MDI key="EXIF_MeteringMode">5</MDI>
    <MDI key="EXIF_Model">NIKON D850</MDI>
    <MDI key="EXIF_Orientation">1</MDI>
    <MDI key="EXIF_ResolutionUnit">2</MDI>
    <MDI key="EXIF_SamplesPerPixel">3</MDI>
    <MDI key="EXIF_WhiteBalance">1</MDI>
    <MDI key="EXIF_XResolution">(300)</MDI>
    <MDI key="EXIF_YResolution">(300)</MDI>
  </Metadata>
</PAMDataset>
