<PAMDataset>
  <SRS>GEOGCS["WGS 84",DATUM["WGS_1984",SPHEROID["WGS 84",6378137,298.257223563,AUTHORITY["EPSG","7030"]],AUTHORITY["EPSG","6326"]],PRIMEM["Greenwich",0],UNIT["degree",0.0174532925199433],AUTHORITY["EPSG","4326"]]</SRS>
  <GeoTransform>  8.5097280698867517e-01,  1.8331541757337077e-04,  0.0000000000000000e+00,  5.3539150910776733e+01,  0.0000000000000000e+00, -1.8331541757337077e-04</GeoTransform>
  <Metadata domain="IMAGE_STRUCTURE">
    <MDI key="INTERLEAVE">PIXEL</MDI>
  </Metadata>
  <Metadata>
    <MDI key="AREA_OR_POINT">Area</MDI>
    <MDI key="EXIF_BitsPerSample">8 8 8</MDI>
    <MDI key="EXIF_ColorSpace">65535</MDI>
    <MDI key="EXIF_Compression">1</MDI>
    <MDI key="EXIF_DateTime">2007:08:30 12:31:30</MDI>
    <MDI key="EXIF_Inter_Color_Profile">00 00 0x2 0x24 0x41 0x44 0x42 0x45 0x2 0x10 00 00 0x6d 0x6e 0x74 0x72 0x52 0x47 0x42 0x20 0x58 0x59 0x5a 0x20 0x7 0xcf 00 0x1 00 0x11 00 0xb 00 0x1 00 0x2e 0x61 0x63 0x73 0x70 0x41 0x50 0x50 0x4c 00 0x2 00 0x1 0x6e 0x6f 0x6e 0x65 00 00 00 00 00 00 00 00 00 00 00 00 00 00 00 00 00 00 0xf6 0xd6 00 0x1 00 00 00 00 0xd3 0x2d 0x41 0x44 0x42 0x45 00 00 00 00 00 00 00 00 00 00 00 00 00 00 00 00 00 00 00 00 00 00 00 00 00 00 00 00 00 00 00 00 00 00 00 00 00 00 00 00 00 00 00 00 00 00 00 0xa 0x63 0x70 0x72 0x74 00 00 00 0xfc 00 00 00 0x26 0x64 0x65 0x73 0x63 00 00 0x1 0x24 00 00 00 0x6b 0x77 0x74 0x70 0x74 00 00 0x1 0x90 00 00 00 0x14 0x62 0x6b 0x70 0x74 00 00 0x1 0xa4 00 00 00 0x14 0x72 0x54 0x52 0x43 00 00 0x1 0xb8 00 00 00 0xe 0x67 0x54 0x52 0x43 00 00 0x1 0xc8 00 00 00 0xe 0x62 0x54 0x52 0x43 00 00 0x1 0xd8 00 00 00 0xe 0x72 0x58 0x59 0x5a 00 00 0x1 0xe8 00 00 00 0x14 0x67 0x58 0x59 0x5a 00 00 0x1 0xfc 00 00 00 0x14 0x62 0x58 0x59 0x5a 00 00 0x2 0x10 00 00 00 0x14 0x63 0x70 0x72 0x74 00 00 00 00 0x43 0x6f 0x70 0x79 0x72 0x69 0x67 0x68 0x74 0x20 0x32 0x30 0x30 0x30 0x20 0x50 0x68 0x61 0x73 0x65 0x20 0x4f 0x6e 0x65 0x20 0x20 0x41 0x2f 0x53 00 00 00 0x64 0x65 0x73 0x63 00 00 00 00 00 00 00 0x11 0x41 0x64 0x6f 0x62 0x65 0x20 0x52 0x47 0x42 0x20 0x28 0x31 0x39 0x39 0x38 0x29 00 00 00 00 00 00 00 00 00 00 00 00 00 00 00 00 00 00 00 00 00 00 00 00 00 00 00 00 00 00 00 00 00 00 00 00 00 00 00 00 00 00 00 00 00 00 00 00 00 00 00 00 00 00 00 00 00 00 00 00 00 00 00 00 00 00 00 00 00 00 00 00 00 00 00 00 00 00 00 00 0x58 0x59 0x5a 0x20 00 00 00 00 00 00 0xf3 0x51 00 0x1 00 00 00 0x1 0x16 0xcc 0x58 0x59 0x5a 0x20 00 00 00 00 00 00 00 00 00 00 00 00 00 00 00 00 0x63 0x75 0x72 0x76 00 00 00 00 00 00 00 0x1 0x2 0x33 00 00 0x63 0x75 0x72 0x76 00 00 00 00 00 00 00 0x1 0x2 0x33 00 00 0x63 0x75 0x72 0x76 00 00 00 00 00 00 00 0x1 0x2 0x33 00 00 0x58 0x59 0x5a 0x20 00 00 00 00 00 00 0x9c 0x18 00 00 0x4f 0xa5 00 00 0x4 0xfc 0x58 0x59 0x5a 0x20 00 00 00 00 00 00 0x34 0x8d 00 00 0xa0 0x2c 00 00 0xf 0x95 0x58 0x59 0x5a 0x20 00 00 00 00 00 00 0x26 0x31 00 00 0x10 0x2f 00 00 0xbe 0x9c</MDI>
    <MDI key="EXIF_PhotometricInterpretation">2</MDI>
    <MDI key="EXIF_PixelXDimension">6178</MDI>
    <MDI key="EXIF_PixelYDimension">9979</MDI>
    <MDI key="EXIF_PlanarConfiguration">1</MDI>
    <MDI key="EXIF_ResolutionUnit">2</MDI>
    <MDI key="EXIF_RowsPerStrip">9979</MDI>
    <MDI key="EXIF_SamplesPerPixel">3</MDI>
    <MDI key="EXIF_Software">paint.net 4.2.10</MDI>
    <MDI key="EXIF_XResolution">(300)</MDI>
    <MDI key="EXIF_YResolution">(300)</MDI>
  </Metadata>
</PAMDataset>
