<PAMDataset>
  <SRS>GEOGCS["WGS 84",DATUM["WGS_1984",SPHEROID["WGS 84",6378137,298.257223563,AUTHORITY["EPSG","7030"]],AUTHORITY["EPSG","6326"]],PRIMEM["Greenwich",0],UNIT["degree",0.0174532925199433],AUTHORITY["EPSG","4326"]]</SRS>
  <GeoTransform> -7.5536166578079630e+01,  1.1113885350633935e-04,  0.0000000000000000e+00,  4.3269559986456827e+01,  0.0000000000000000e+00, -1.1113885350633935e-04</GeoTransform>
  <Metadata domain="IMAGE_STRUCTURE">
    <MDI key="INTERLEAVE">PIXEL</MDI>
  </Metadata>
  <Metadata>
    <MDI key="AREA_OR_POINT">Area</MDI>
    <MDI key="EXIF_Artist">U.S. Geological Survey</MDI>
    <MDI key="EXIF_ImageDescription">Historical Topographic Map Collection</MDI>
  </Metadata>
</PAMDataset>
