<PAMDataset>
  <SRS>GEOGCS["WGS 84",DATUM["WGS_1984",SPHEROID["WGS 84",6378137,298.257223563,AUTHORITY["EPSG","7030"]],AUTHORITY["EPSG","6326"]],PRIMEM["Greenwich",0],UNIT["degree",0.0174532925199433],AUTHORITY["EPSG","4326"]]</SRS>
  <GeoTransform>  8.4641449209522079e+00,  3.7408299395303374e-05,  0.0000000000000000e+00,  4.4975222942117810e+01,  0.0000000000000000e+00, -3.7408299395303374e-05</GeoTransform>
  <Metadata domain="IMAGE_STRUCTURE">
    <MDI key="INTERLEAVE">PIXEL</MDI>
  </Metadata>
  <Metadata>
    <MDI key="AREA_OR_POINT">Area</MDI>
    <MDI key="XML_com.adobe.xmp">&lt;?xpacket begin="&#xFEFF;" id="W5M0MpCehiHzreSzNTczkc9d"?&gt; &lt;x:xmpmeta xmlns:x="adobe:ns:meta/" x:xmptk="Adobe XMP Core 6.0-c006 79.164753, 2021/02/15-11:52:13        "&gt; &lt;rdf:RDF xmlns:rdf="http://www.w3.org/1999/02/22-rdf-syntax-ns#"&gt; &lt;rdf:Description rdf:about="" xmlns:exif="http://ns.adobe.com/exif/1.0/" xmlns:xmp="http://ns.adobe.com/xap/1.0/" xmlns:dc="http://purl.org/dc/elements/1.1/" xmlns:photoshop="http://ns.adobe.com/photoshop/1.0/" xmlns:xmpMM="http://ns.adobe.com/xap/1.0/mm/" xmlns:stEvt="http://ns.adobe.com/xap/1.0/sType/ResourceEvent#" exif:PixelXDimension="3246" exif:PixelYDimension="1812" exif:UserComment="Screenshot" xmp:CreateDate="2021-12-22T18:42:13+01:00" xmp:ModifyDate="2021-12-22T21:48:52+01:00" xmp:MetadataDate="2021-12-22T21:48:52+01:00" dc:format="image/png" photoshop:ColorMode="3" photoshop:ICCProfile="Display" xmpMM:InstanceID="xmp.iid:a1a83433-d04f-4f83-acf6-af5655d872cd" xmpMM:DocumentID="adobe:docid:photoshop:31f1ab88-9c18-f341-bc6f-2f8b83b73568" xmpMM:OriginalDocumentID="xmp.did:6436405b-a293-46ca-ba98-7c7f7773afaa"&gt; &lt;xmpMM:History&gt; &lt;rdf:Seq&gt; &lt;rdf:li stEvt:action="saved" stEvt:instanceID="xmp.iid:6436405b-a293-46ca-ba98-7c7f7773afaa" stEvt:when="2021-12-22T21:48:32+01:00" stEvt:softwareAgent="Adobe Photoshop 22.3 (Macintosh)" stEvt:changed="/"/&gt; &lt;rdf:li stEvt:action="saved" stEvt:instanceID="xmp.iid:a1a83433-d04f-4f83-acf6-af5655d872cd" stEvt:when="2021-12-22T21:48:52+01:00" stEvt:softwareAgent="Adobe Photoshop 22.3 (Macintosh)" stEvt:changed="/"/&gt; &lt;/rdf:Seq&gt; &lt;/xmpMM:History&gt; &lt;/rdf:Description&gt; &lt;/rdf:RDF&gt; &lt;/x:xmpmeta&gt; &lt;?xpacket end="r"?&gt;</MDI>
  </Metadata>
</PAMDataset>
