<PAMDataset>
  <SRS>GEOGCS["WGS 84",DATUM["WGS_1984",SPHEROID["WGS 84",6378137,298.257223563,AUTHORITY["EPSG","7030"]],AUTHORITY["EPSG","6326"]],PRIMEM["Greenwich",0],UNIT["degree",0.0174532925199433],AUTHORITY["EPSG","4326"]]</SRS>
  <GeoTransform>  2.5870600581102170e+01,  3.0292311229714535e-04,  0.0000000000000000e+00,  4.1462968910252478e+01,  0.0000000000000000e+00, -3.0292311229714535e-04</GeoTransform>
  <Metadata domain="IMAGE_STRUCTURE">
    <MDI key="INTERLEAVE">PIXEL</MDI>
  </Metadata>
  <Metadata>
    <MDI key="AREA_OR_POINT">Area</MDI>
    <MDI key="TIFFTAG_DATETIME">2009:06:16 16:37:07</MDI>
    <MDI key="TIFFTAG_IMAGEDESCRIPTION">nla.map-rm2227-m, Tue Jun 16, 2009,  4:03:04 PM,  8C, 10200x13600,  (0+0), 100%, Repro 2.2 v2,  1/15 s, R80.5, G40.0, B30.6</MDI>
    <MDI key="TIFFTAG_RESOLUTIONUNIT">2 (pixels/inch)</MDI>
    <MDI key="TIFFTAG_SOFTWARE">Adobe Photoshop 7.0</MDI>
    <MDI key="TIFFTAG_XRESOLUTION">300</MDI>
    <MDI key="TIFFTAG_YRESOLUTION">300</MDI>
  </Metadata>
</PAMDataset>
