<PAMDataset>
  <SRS>GEOGCS["WGS 84",DATUM["WGS_1984",SPHEROID["WGS 84",6378137,298.257223563,AUTHORITY["EPSG","7030"]],AUTHORITY["EPSG","6326"]],PRIMEM["Greenwich",0],UNIT["degree",0.0174532925199433],AUTHORITY["EPSG","4326"]]</SRS>
  <GeoTransform> -2.1196946282207141e+00,  6.8394431633862607e-06,  0.0000000000000000e+00,  5.7157507346809631e+01,  0.0000000000000000e+00, -6.8394431633862607e-06</GeoTransform>
  <Metadata domain="IMAGE_STRUCTURE">
    <MDI key="INTERLEAVE">PIXEL</MDI>
  </Metadata>
  <Metadata>
    <MDI key="AREA_OR_POINT">Area</MDI>
    <MDI key="EXIF_ResolutionUnit">2</MDI>
    <MDI key="EXIF_Software">paint.net 4.2.16</MDI>
    <MDI key="EXIF_XResolution">(96)</MDI>
    <MDI key="EXIF_YResolution">(96)</MDI>
  </Metadata>
</PAMDataset>
