<PAMDataset>
  <SRS>GEOGCS["WGS 84",DATUM["WGS_1984",SPHEROID["WGS 84",6378137,298.257223563,AUTHORITY["EPSG","7030"]],AUTHORITY["EPSG","6326"]],PRIMEM["Greenwich",0],UNIT["degree",0.0174532925199433],AUTHORITY["EPSG","4326"]]</SRS>
  <GeoTransform> -2.1028482318925930e+00,  3.4089666440014670e-05,  0.0000000000000000e+00,  5.4311420732546509e+01,  0.0000000000000000e+00, -3.4089666440014670e-05</GeoTransform>
  <Metadata domain="IMAGE_STRUCTURE">
    <MDI key="INTERLEAVE">PIXEL</MDI>
  </Metadata>
  <Metadata>
    <MDI key="AREA_OR_POINT">Area</MDI>
    <MDI key="EXIF_ResolutionUnit">2</MDI>
    <MDI key="EXIF_Software">paint.net 4.3.6</MDI>
    <MDI key="EXIF_XResolution">(400)</MDI>
    <MDI key="EXIF_YResolution">(400)</MDI>
  </Metadata>
</PAMDataset>
