<PAMDataset>
  <SRS>GEOGCS["WGS 84",DATUM["WGS_1984",SPHEROID["WGS 84",6378137,298.257223563,AUTHORITY["EPSG","7030"]],AUTHORITY["EPSG","6326"]],PRIMEM["Greenwich",0],UNIT["degree",0.0174532925199433],AUTHORITY["EPSG","4326"]]</SRS>
  <GeoTransform> -7.4020278208955617e+01,  4.6449181897794389e-06,  0.0000000000000000e+00,  4.0709229569053022e+01,  0.0000000000000000e+00, -4.6449181897794389e-06</GeoTransform>
  <Metadata domain="IMAGE_STRUCTURE">
    <MDI key="INTERLEAVE">PIXEL</MDI>
  </Metadata>
  <Metadata>
    <MDI key="AREA_OR_POINT">Area</MDI>
    <MDI key="Raw_profile_type_exif">exif
   13372
45786966000049492a00080000000a000001040001000000ec0800000101040001000000
a40700000201030003000000860000001201030001000000010000001a01050001000000
8c0000001b0105000100000094000000280103000100000002000000310102000d000000
9c0000003201020014000000aa0000006987040001000000be000000d000000008000800
08004800000001000000480000000100000047494d5020322e31302e3238000032303232
3a30313a32332030363a34393a353500010001a003000100000001000000000000000900
fe00040001000000010000000001040001000000000100000101040001000000db000000
020103000300000042010000030103000100000006000000060103000100000006000000
1501030001000000030000000102040001000000480100000202040001000000ed320000
00000000080008000800ffd8ffe000104a46494600010100000100010000ffdb00430008
0606070605080707070909080a0c140d0c0b0b0c1912130f141d1a1f1e1d1a1c1c20242e
2720222c231c1c2837292c30313434341f27393d38323c2e333432ffdb0043010909090c
0b0c180d0d1832211c213232323232323232323232323232323232323232323232323232
323232323232323232323232323232323232323232323232ffc000110800db0100030122
00021101031101ffc4001f00000105010101010101000000000000000001020304050607
08090a0bffc400b5100002010303020403050504040000017d0102030004110512213141
0613516107227114328191a1082342b1c11552d1f02433627282090a161718191a252627
28292a3435363738393a434445464748494a535455565758595a636465666768696a7374
75767778797a838485868788898a92939495969798999aa2a3a4a5a6a7a8a9aab2b3b4b5
b6b7b8b9bac2c3c4c5c6c7c8c9cad2d3d4d5d6d7d8d9dae1e2e3e4e5e6e7e8e9eaf1f2f3
f4f5f6f7f8f9faffc4001f01000301010101010101010100000000000001020304050607
08090a0bffc400b511000201020404030407050404000102770001020311040521310612
41510761711322328108144291a1b1c109233352f0156272d10a162434e125f11718191a
262728292a35363738393a434445464748494a535455565758595a636465666768696a73
7475767778797a82838485868788898a92939495969798999aa2a3a4a5a6a7a8a9aab2b3
b4b5b6b7b8b9bac2c3c4c5c6c7c8c9cad2d3d4d5d6d7d8d9dae2e3e4e5e6e7e8e9eaf2f3
f4f5f6f7f8f9faffda000c03010002110311003f00ec86334375e297069057887a8271c9
a91318a4500fa53b6803a5020c60f6268760170690e39c8a6870d8e2980aac072c6a1b87
18c834e925551cd5391b71f41e955144c99133b312c6abca53a91cd4b290bf8d539e4c7d
2b5462c2497621c73555980cf38cd42d7619ca86538ed9e4d412cf85f947cd45844f23ae
4907b5549651b324727a1355de56237ca42f602a95ddfc681893c28cf3d29a885c75d5e7
9470c383d8565bea833807bf7aa57dab22f421c6306b3e391e50d260053c0f5ada34f4bb
33722fcfa8b190b92781d33d2a01760a636fcc7a126aab6e763c165c01f5a6344be602a4
64e3af6ad395137658569247387c28e704d1828f976041f7e4d31515327b1ee3d6a0b991
94e08dc00e79eb4c09cb11b812a147b0c8a7b242e11c918c76359ed728ea14af27ae4d24
d3c6e806e0b8345981a4b7623902851b31d7a9cd4725f8d984c062dc93daa95bdaea1a83
2ada5a4b363ba271f89ae86cbc07ac5d00d70d15b47dc13b9bf2a89d4a70f8e490d464f6
47333ccf30652739f7fe54b18814619806c7d735e8f65f0ef4b8590ddcb3dc1f42768fd2
b761d2b42d2b062b5b48987f16d0cdf99e6b9a798528e91bb3458793dcf2db2d2754bf2a
2cec659147f1baed5fccd74365f0ff005091d64babc8e01dd625dc47e35db9d56dc3e235
671dbb0a86fb51b8fec8bbb9b7db1bc2030efc679ae778bc44dda092355460b7666da780
746b660d3a3dc30ead2b707f0ada81348d350adbc7047ed1a8fe9590d7723b6e790b77f9
8f14d120c8dca09f6158ca152a7f12572938c7646d1d62212aac719209c64902b19759b9
ba12b312a8257401481c0247f4a0b86993f84123827afe06b26c6426164892591fcc7251
2327f88fa74aa8518a5a20726cf54ddb85047a50148a3073d6b4341c9914e2c4714d1dfb
1a31cf5cd3011db0326a16940008a91ce07354a4705c81da9a5725bb04af93c9fc6aacb7
04741803b9a496524e3d38aa723ee1904107f1ad0c5b2ac9ab46f706340485c8663c608c
7f8d2349e6a1e09150c9022ccf3151b9b07db8e3a545e63004a83c7bd513b94aded859bc
c4226f67dc36f6152cb37eecb3301d4e6894119e4024e79aa374de5c2c78031c8aabdd81
46f2f58cdb233f2a8e463ad615f5c872a558a8e840e86adcec16290963cf3907158572ef
70dbcfdd5eddaba611316c04e92375c907a0ad0b40924387e07b8ae7996459be4f5c0c77
ae8f47d135cbe842c364c10f3e649f28aa9b51576c12b913cc23ca2c7d0e4375cd55377e
5c84c81723b135da59fc3abb93fe3f2ff603c95897fa9ad8b6f06787b4fc34b109e41c66
67ddfa74ae396368c7677f4355466cf321713dde62811e4dc7eec6b9fe55a369e0fd7ef8
a9fb27929d4190f35ea90cb61691ac7696aab8e30a814529bbb939dab1c60f3eb583c754
7f043ef2d518add9c658fc313bc3df5e93eaa9fe35d1daf867c3ba4b645b44f20e732fce
41fc7a559d46e07f695a2adc168e688e533c061cff002cfe54008a72156b19cebd4f8e56
5e45a8c23b22c1beb68d76c109e7d060542f7f70632aaa88a7bf5355e6bdb78bfd6491a9
ec0b0cd462ea699716b6b3cd9f44c0fccd671c3c6f7dca7362ca924dfeb2e242076dd81f
a547e446071f9e6a78f4dd567e7cb82dc7fb6c588fc07f8d4ada145b7fd3f54948ef1c44
463f4e7f5add45449d5945fc987fd64eb1af5e5b152d915beb7bdb7859a4596065dd838f
6e6ac470e8562dfe8f662571d1dc6e3f99abb69a8bcd74910856346c8c0ebd29dfb058c1
b4d2b549e001ade284e002cee4f3f415a09e170b86bcd51c023eec4420ff001a8e0d4aea
75712c872199582f1c838a6eecf3b79a1b68342f7f636976711682dcb4b9c09082edf99a
b36fa887b72d6d6ff2e3ef3719acd82f25122953c004f3f4aa56ba8dc7f65dbc60f1e58e
3d6a1ddeac773d03f8a82318c9a4072f4e75248c9ab468341f7cd281eb4831c8141385c9
3d053115ee1f1c77aa4efb463f88d4b23166cf5aaec0b39245689591937a95e756303aa9
c3b0e09e9546de1f22228405dc4b1507207d3da9c6fd64be96db2032f418c6453c8c67d7
af5aa2194ee1e592748225dccc718aab7b3e996a1e3bd9e4965231e5c3c6d3f5a927ba6b
5f3e58c7ef63899d47e99a3c3767689a7b5f5eb23bcb9259fb73d2b2ab3e53a68d24e2e5
233e2bab7bc045b4dfbd41b84370bf31c7a1155aeef6292d9fcd00120741cd552b2eade2
5696ced85bdbc4e0b38e02a8ef595acdcafdba68d240d0a39da57b8cd6f495dd88c54230
b38f52a5eca24c45192b1fa1ac569d958ae0e6aecf2afccc0e475e7a8ace946f90b8e86b
ba28e026b5bcfb2ea36f73b4308a50c41e7383cd7ae9d72e12586355411c9c07dbc0e320
fe35e37e9c023dabd1f4d173a868b612a6df3422a80fc64a9e07e22b871f08b4a523a70e
f74744f7d293cc8cc4fe1500b91bb1f2ae3daa44d03579c16965b6b653cf1976fe829ffd
83a6c2e0de5d4d72c4f237e07e4b5c3ece3036d59049a84517de9933d875352c3757538c
c36934b9e9f2607e66b42096c2cd36da69f1afbe00a24d4af1c90bb5076da3fc6a946222
9b6937970515825acdb8481cb6eda3e9d3d6acff0062d929cdfea53ce473b7ccd8bf92e2
abce2496290cb21de5485676cedfa7bd54b0769ece2790e5c0dad9f51c55ea2ba35d65d1
ec8ffa2da26ef554e7f334d9b5b989d90c6a9f519ace7572063a7a531b2402429c54dae3
e6259aeaee53b9e790fb0000aadb2473cbb74ebde9c6e56304492c6bed9a744ef21cc504
f2e391b23383f89aa511363518ab0512163e8055ab790c5750bb6fcf98b9e3d4d48961ab
4a498ace08948e1a67e47e03fc6a53a4dc261ef357540bc94863007e6734ec0ae664d225
aea17d097d844c5864e3a8cd43f6d89880b31727b46377f2adb98e8135e99a7b7496e303
259371c76a98eb36b02edb5b25e3a745a2c9858cfd312696eb22de70bb5b0ce981d2aad9
787b5a10246cd043b4019625b8fa0c5684dafde30f94451678e0648aa925f4d33624bb93
3edd29ad00edb196f4a53f534e000346173526847b80c714d9df119c53d9793ed55e56dd
c03c552132abb055248cd57336e3903d6a6948e57d3bd5703d075e735a1932a4b1c6d32b
b282ca7e53ef55ee667407cb5049c7538e2ac5c9201f5cfe9583aaddb4717c99c8155157
7621e84b77711a5c24b20fdd9cc6d8feeb0e7f90ac3934f9ae71636f746480b6e041f940
f7a437dbe2ccec005e983cd637da9e4679616dac78f4abf60dbbdcba78974f63a27d534f
7b6934289e48cbe235b9c8019fd0fb5729a95b5c69d75e45d47b24e42b8e87dc52c89980
ab2f279e3d6b42d3528afed5349d6f210f105d0e4a1ec0fb55283a3ac755d7fccce53f6a
fdedce7a65dc802a966c74f6a1638de3390c0ffb35d12f837500eead731a01f75c64eef4
fc2b36e342d52c242f245e64639f322f9bf4ad635e9c9d93337092dd0fd2b554d32dd97f
b2ace7b80c4acb2f247e15d2787fc4173ac3ca2ec42af6e432055c0507e95cddbe957faa
3466da154403999c607f89aeaf43d063d15649b7493caf852e14617df15cb8bf64e2d7da
66d4b9be46bd9decf736a44d23b491b146249e79e3f4c54920dc7033f9d5482cf5017537
d92dc5c45200c5cb6c008e0f5f6c55f5d1b537199eead2d57d17321c7d4e05722b495cd6
cc62c6d8eff89a7ee8e25cc8401eacd532e9ba54001bbd4a7b861d83607e4b52a49a45b9
cdb69eacc3f89c7f5e4d5c622b14d2ea29a558a057766e15914919faf4a8974ad56d6ee7
8e1b65951db78769368524723a7afb5691d5e6054aa42b183f751493f9d3f5c96486fecf
12388268dc155fef0c107f2cd5582c8a4345be958b5dea505bae394853247fc098ff004a
9174cd1211fbe9a7bb6ee1a4241fc060541fbb2e5995c93dc8cd29923030b11e3beda2ec
2e8d13269d63642e6db4e41994460600e49c6687d52e48c2aa4631d1464feb54a6f32e3c
3e7c985d992e51b6a8c9c0209e2a20f331ff00906de0fa463fc69f2dc1bb161aee793879
9cfb669862dec030c8fad465ae47ddd2ee8ffc057fc69dbef48c8d32e54ffc03fc685125
b29dc5baa6a36c5b2dbe361f7b39c115204590111819eb9e29f35bdcc86de45b663346e4
b45950db4823af4fd6ab5aff0068c48c26d3899031e524403155cb7027f200ec33f8537c
905f953ef8029c64bd6c05d3b938e5a751d7e82a48adafe64575b28403d375ce3fa52b01
d8bb9461c71ef4fe4b7229b90e7069fb881bbf0accdc8e5603daa94afb41fd2a595b9ce7
23d6a94ac49193d4f15a24652646cc49e735133b01cf7ed4ede141cfe15526931f313c0a
a2086ea711a1727af4fad735a9dd44e30cff00bd23a0e7157753ba58a1f31b391d0572b3
4ce58ce572c7919ed5d14a1d4ca72e8579a36084163d3350451b094441b1dffc69ff0068
68d19a550cef9c6452db9325c2b60a051fad74190dbc5c4806e38c6702b47c3b0dadedf4
8b74a1a78d7744a7a1a81e38c26e93218e71ee29fe1b492ebc42b2c119f2e0c9773d39e3
158d77fba96b634a6bde47a344912c2016e48efcd4324408f3117001c1c2e73f854ac9e5
a004f5ede94e44668f00a8c1ae34a328d9a35bb4ca42d0a10c7e545e401c62ad63cc8193
67183b406c6e34d9b7818273ee475fc05322971843cfa633cd3514b61ddb32e6bab9b68a
2682464432012e1f39cfa54a5ddb05b7363fbc6acea1a724b657838f3154955047d47d2b
26d2337e5534f826b86eec7e58c7d58d6118abb4ba334bbea5e2ca4658f3f5ab513865fb
ff00ad551a26b318ff00907c0c4775b8ff0011537d93518d06fd1a776ff62443fd6b5489
2d85f9492fc7d6a4d5aebed3a7d9cfe515582551bc9e1b20aff5159e63bbdbfbdd1af13e
8aadfc8d694aaf3f83e44f2265688e423a618e0e7a55256608ce2c8cc39e3ea694c89ea7
03d8d525bb8464b2caa3fdb8d87f4a78bdb4c604ea1bdf3fe14acc45f89b683b1d954fa6
6af59c998aeb6bb1616ec7a9e2b256e6ddc055bc889f45357b4ef2ca5eb2c8adfe8cc0e2
85b8f516c897b181cc8cc59149258fa536e2e44735ba03c48fb0e6a9d8c918b2854172bb
07a7a563f8be76b7b0867865746593ae7d78a718ddd8993b23a5d4d1d34398c2c44892a3
06079c67156ad2532594478c95195039cf7ae7b44baf33c113891da473136d6eb823915a
9a75cffc4aa3998e3084e474aab12dd8d511aa1dccbd7b7a557b8c26dc807073c5719e11
d72fafee6e1ae25795234054119c64d75a88f396e558a8e72467f2a6d72bb316fb1d3a20
40016e82959f191e94e202d5599b6ee3c7b56091d4d904f37f0faf5aa8ed9c63ad05f739
e739e9f4a64b2796bd79ab3164570e7206707bd645fdd18c041827f955bbab8d8339c1f5
35ccea57042960df3bf5e6b5846ec893b2286a97ab732a807289d4ff004acefb424d233b
0289d00f5ab17112240aa082efc9c0ace689c10a4719f5aeb8ab6c60c7cf246a09e08c77
a2d0a4a4ca18ede80d5698e4f967eee79a925b8482d14050a0e78a6ee0865ecb2ddc915a
c477c8edb54015e89a1e970e9360a8305bab9c6726b9ff000ae86e00d46e47ef1f8407f8
57d6b7ee2fd7cc9ace270b70a859411e95c55a5ed25c8b65f99bc172abf519a8cb35f31f
b33b1588f3862ac4fa0cf5ad3b46692de32f202e1467e61cfe5595a5409230985bc96f27
f75b804fae2addcdfc5687cae0c9d4201c71d47b54b7d063ae2e026e3227968bc963818a
aeba82cb2a8b6728abd5d875e7d2a91b6bbd56665b82522dc415ee01e9c7f5ad2b6fb269
da735bb2acd20f4ff1ac27552d23ab2a316cd4b0d3843279d33672b825ba91ef5a7f6d82
dd0c7140a8a071dbf4158575ad11a6da5ca22ae5cc532e73e59c53a7b44ba54924b86455
3bb2af807ea7d2a614a5bcf76539a5a23a24d44617cc8880ddfd2af0c64115c53ea6d7ba
95b585997642e3cc7519017d0d6f5deb71c0ef0db8f32443b5bd14fa56ae3608cee6c332
a2e5c803d4d4427b761c4b19ff00810ae527bf9ee49f39988feee38150acbd300e7b0c51
61f31d96e81bf8908fa8a4782d5fef2447f015c79979c11f98a8f7b0276e547b51a8b991
d7be9d60fc35b407fe00288f4cb2843f956d12071b5b6ae322b9259665ebe6f3fed62a58
eee78c8fdf4ab9382492714eec7746e8f0d695b4aadaaa83d949154efbc1da55cc0c0dbb
c87b2194e0d61d8eaf7e6152d752361883918e8715706b77c0e3cc247d053e69262b459a
3a578474dd32092386260255daea5cb28fa67a55693c0f6db1952f6e9148c6030ff0a8c6
bd7ca72707d8ad5cd3f58bcbabd489d142b75c0a39e5b8b962f439db2f87f25af99259ea
32c2ccd9daebd47e15acbe1ad614123568949e9884ff008d5dd4f5f7b1d4c59a4024fdd0
909ce31cd449e27936e5ad318f46a729c9ee254e28e864ebd6a84f202ec2a79650bcf4ac
e95cb3120e013528b9318eca8c4a9e954a795091b8f14eb8906194920d675c5c2c71900e
18d525a99b2b5e5e2b17cf0a063915ccdd4fe75c960311a602e7b9ab9a94c442712607af
ad64492009b49070319aeba71b18cddc70933282cc081dea1bcb88f2c41e3a7e348d2a04
0a0fca4739acf99a267601f2a1ba1ad52d4824897cd3832602fcc7deae689a536b5a9863
b85ac072c48ea7d2a95bc325c4f1da5b01e74c769c761eb5e8769141a35a4365044f24bb
7255383e8589ec2b1af51c572c776694e3d59a12f97696b971b913fba324d61451c375e6
491ce255fbcc25f95a31cf1f4a7ca4cceb6f6f334b197f9e36f9f1eb923a7e3535ae9b15
f4e60490ad944d99242d93211ce01ee2b97dda71bb34d5b25d3c6a1a9231ddf65b1518f3
41f99bdc55a7b1b582deeae2dd04fe4af99c7de27a939ab9aa5c243a41365b3ca8caa498
1f750f1c557d3654b49e15cfee586c604ff09ae472954d5e8bb1aa8a5ea56b6b8fed2b55
b8dc02c9d94d677885e5b6b01e4391231c7c8b9e3ebdaac980e95aa5c69c1f6216df0b13
d01edfe7d2b561c326d7943124d6f084612d3625b6d1cbf837cc964b9b6b9b6796c2e47c
ccc380fd88aeca0f06da3408659ae00ea537f03daa3b6b04be3f658ced8870c54e31ec3d
eb56f2ee29216b3599d32bb4cca7ee9ad653bbd04a2ada90da1b0d2a5105a42a23070f26
79cd41e20d3c4127f6a43c0202ce0771d9bf0fe55970dc88ae9ecae593ed11f46078907a
8ff0ad78b506fb13db3279bc6003dd7b8a9d53d46b6b19257e5c863b7d7349850325feb9
344d159c12c50859de0901f2dbcef9723aaf1528b3b3651fe87131f590173fa9a764228c
d7d670b7cf3441811f2ee19a4fed7b10495691cffd338d8e7f215a7e7c36ac157c98b71d
a02228c9fcaa268d5df790725b77048c9a5a015ad2eaeaf977dbe9972cb9c6580507f335
3bc17e5733dac50a82092d70a08e7d0544f7915bdf476ce9b5241856c9c07f4fc4558992
1db9541bbb1c6687a0105a68cd1c6db757b758f79608b1ee2b939c75a7bd839b9551a8bf
97b725920efe9cd644b24d65aedddb89412519f0bc0dd818c56c58de473dac6e93249951
939e73ef54eeb701cd611938fb7dc9ff008028ab5a64315adf099ae26650a7ef907f90ac
bbc9d16fe05f3d403b8b8dddb1c66b53c3a0dda466ea2567f2f2c08e739e0d4bd816e53d
6e6b65d4a5bc92f2148c8585776793c9edf5aab1bacca92452c3344cc57744c4e08fc2a4
d623d2af750b9d3eeb6c660943a05902672a39c5258d8db59c0915a31745766259b7727e
954d2b01d55dbfcdd715458f049e31c75eb56a5e5f91ed9aab3b140ddce3815086ccf9f8
7396e0566dc1254e3047b8abb292796c8cf5acfbb2c90b317ede95a477219cceb13c71c9
e5ed2c0738e9835932c8b2606eebd855ad472f2924e430c63dab3c4a14e48edc57745687
3b2abcac938073b57a0278a5b8550bb8839232003dea51124b890e383d2b43c33a5b6ada
c798c330427273d09f4a739a845c98e2b99d8ddf0ae926d6237732fef9d33eeab5bc2c84
c9334b2ec926231b4f21474157cc1e5e55bee76c700d29891195b209f53c9fc2bcebb6dc
9eece8f2322ee08eda686d6ce355bbba7dacea06427524fe5561f68b86b58885b5b70136
8e85ba93496b2ac9ab5f5e104bdac7b510e3a63271f5a669d186b64919831946f27dcf35
8cbde9d9ecbf32a3a44bb6af0bb3c121dd0cca62901e98355ad22640f6d20cc90b18dbfa
1fc45585802646473db14ebafddcf15f63092811ccdd830e84fd688abe8323d7606974db
7d4d07efec5b127bad6869901d52249a2665b72339c633ec2a5b6dcf0bab22b413031e0a
e431fa7a53239de39a5b3526111e31183c63dbdab5e82f518d298ee1ad00f2e68b870a48
dca7a7ff00ae9dc0e053353692e024ca112e605e1c9ff583fbb4db6b8171079ca48c70ea
7aa9ee0d16ea0c69d3ad6e4aacdba20a498dd7828c7bd3104b6f71f66b8f9675e51b3f2c
8bea3fa8a74778279b644372800924e320f423d6ac4c8b716de4ca4ed5398dc7de8cfb51
e4c432e2317362d139db10e98c0f298739f7e6b2e349ae2de585a578ae623b5b078c8eff
004356e190c73fd9ee829723208195907f787d3d2adea1a6ce90c5a85aa79f3ecd922281
9917b7e229aec36634305cbbace5c4659b33275048e847a54f35c43148aad21690fdd8d4
e59be805595d2af668d5efa64b283fe79a1cc87f1edf855ab7363a644cb616eaae473348
32edf53d4d276ea0528bc3977a906f393ecd033063e69dcf91d303a0ad48bc2d6a154497
177263d6523f95517b99e76dd24acdeddbf2a4cb753237e6695d8f436ee344d26e26125c
5ac3249b40dce32702a8368fa7a336cd36d147981465472bdcd65ddc8ad756259589f9e2
2c471d3239fc2a731479e547e54eed750ba363fb1b442e7759da7031f716b2b559e1d1b4
bbfb8d32d2281d13892351fd2a309106fb9d38e94ebe8e01e16d4be4c865e9efda88bbbb
313f238ab7f1e5ff00981eee182e01e0878b04fe35d5c335beab1add5bbdcd9070018961
0067d704567c1a2e950c8b2a5a82d8c6186e07f035ad0b7cf1ac68490c005518ab94a3f6
5095fa9bb2b7cc4e3bf4aa974bb90e07b1ab9b0bc8cc149c8e87b556b8cedf4a81b334ae
1836067d3d6b3ae490ac4f1938208eb5ac88541073bb2719aa574982c0919cf1551dc967
1ba82e25f318aabf3c0f4ac6655494a92791dc5743ab5ab07571865cf214739acb9a2093
066e703d3f9d76c1e873b5a99d2322c0dcfcca38aef34e6b4f0fe9103b6061048edeac4e
33c570b3443791d9c715d3786f561a9dba595c6df3adc6dc30cef5ec707ad618a4f953e8
9ea694baaea75f15d7da879c0023b0ea706ac201e51c91bbb1f4fc2aadb95de549c381cf
fb3ed56c10d16491d3a1ef58ad7528c7f316cfc431c8f9f2ee57cb6e075f538a2106ceee
7b32d80877267ba1e951eb93db259c9148f87182a075e7d315716c27d4a1b0bb27c8744d
b2971d56b9eafbb252efa7f91a4355613733b60659bb0039abf6b88e2786611b472b6c74
73d38e295e2586d6492ca3322afdf2172cff00e23dab316e05e2af94e5c9f95477fa734e
2efaa2ad62cdc7996b7e6d660630798981e1c7f8d2ec79b6888aacf1e590f52fedf4ff00
f5d694b6b03e9b158df48cf211b838eb11ed83ed591209ad2416f74e558ffaa9d780ff00
43ebed5aa77d512d130d56031ab33797206c156e0a3771505c48d0ce6fedd4b4447fa400
723030011ea692ee21b3cf8c05200591300971ea074c8fa74abd696f6ab144d08568f3bf
6e061b3c9aa10c11c170f05d44e0285f94a7707b7d2ac6e52718c9ec00a174c92dee4cb6
2aa6c67cbed3ff002c9bbe3d8fa54d0cc96cff00685c4b1aa9679319231d463b54b1d891
3484bc84adf460459dcab9c153eb9ed561efa3b78c436a8a5538e7a62a95c6a2d7d1831b
e213c803bd553208d72c5b1dce3a521dedb115d3490dcf9cf233dacadf2b93931b7f74fb
7a53b0a549ded564b42d19dca2489d70ebd9855378a4d3e65b6998bc2ffea263ce47f74f
bd3b5c4488ab8ce4d380ce71d3de8181c16fd29ca54f1bbf2a56115351473a4cf3aa902d
a449439e9c1f9bf4aa51ea96f773b45697c259846d20544e0e0671935ad25a25dc53dac9
23949e32a1474ce3bd63e85a758d95b432c16816e36ed691d8b107a1c7a55a4ada85cbf1
dc7988ac54a93cf07349a85d01a2bdb004c934aa07d370a9c42891a200d8400553bb4690
5b4641da6e06d38f4c9ebf854a5a85c7f90d8c190d490c4c1d1f74870dfc039fc2a7c201
c83567198a362309c9001c1cfd69586b534d2320924e322a9dc0e18e3d4d6838f9091545
f2ca78e734d048a18c91c703a13515cc6a7763818c54ef9de54290073f5aa735c6d629b4
1f419a168c5630b508cf90c157f0c62b9698b7cedb5813efd2bb49d3320247ff005ab97f
1032d9b2ed014b03902baa94ba18cd7532d8a2c1d0139c004f4ad1f0de9a9657075ad425
36d6cbc463bc87fc29da36990080eafab9d96283288dd666ff000aa3a96ab36b3742ea55
31db46716f02f41e9f8d29c9d4bc23b757fa21c572fbccef2c6fa1d4a159addff7658819
1f8608a8e7be96e19ed2d62578f661e527017dc1e95cf697a749a75b4b7bac5c1b3b2946
7c8cfcf21edc76359daa6b92ddc1f67b54363a68fbb1a70f27d6b9a14dddc60eebbff5b9
a49add9e93a4e8f6d305b8dc93b0e37eedc01f6ad9bab9b7d321cc8c32dc2af735c2782e
d350d2435dcf2bc3048bf25a7f7bfda3e95d0ce5351468b5000a1398e54e1a33ea0d60e8
a8cef277355256d115ff00b6275b9f3d08551ff2cc7ddc7a56a0b25f346a16512457922e
e689cf0dfe07deb1ece08ec2e18ea132caa847907b484f427deac8bc17170d20986f46c1
c7f0d0d6ba05f4d4a5737d72eacd870e84f9c84e1d7e98ad2d32e0dcd90b6bd8967b52a0
2b9392c3d7da8b9b587575fde3886f14612651f7bd88ee3da8b1b6d4652609a010ba70cf
fc247a8ad22fb136036773a6ccb35a83776c0fc85b974f63ea2a41691da4cdba52cd27ef
3ece060063d7f0f6adc863834fb725e43eaccc7a9aac24b3d4f7a3029260a03d0e3d41aa
e61f2957ed4ee119e35c281845e00ff3e9543cd960bb21a4fddc849824031f553ee29a86
4b3b936378d975e6393a798bebf5f5a9e48e296264624237279e54f661ef4fc992529edc
c2cf716b2988f5681b98d8f7c7753fa54275037f6725b473358dcb00c8cc3d3b0f506aca
4e913b4173322ccb8c12789076229cf6504ea71b48e4804646718e94fd444503bdbdb46d
70e1ae0ae24f2f85273d71d8d68c52437362f6f720b5bc8b904f543ed5973dbb5940d341
399238d7749049c903d55bbfd0d5b8d84e991d319a4efb8cad15c3c537d9666391f71d80
1bc7f8d5d13285248503ae4d232d8c9a7186f0ed669310c807cfbf19c8fa5555b1b5b7b0
7baba79b5192320b4721daa07a851c1a370b04b7b3cb24474f8ccccb20326d1c05079e7a
539749d5434c6d7c8585e43247248d9e09cf4c7f5ab4351f36d825bb471c24602c6a00c5
44ed23a2a9772a3a65ba51cc9058aab67acc32fcd776137aa9caff008d5eb8d1ee5aded2
681636b88d8bb02fc742300e3dea9ba618f04f3562fa768ae34c8b2428b766383d7a509e
a1621f3ef9941fb197271c2b8faf7ab7e74d39123c12c51a47901f183f4c530df46000ca
dc7439c5565d408b7be943129147f202720601a7a3057e8759b4a861eb544960d8c71eb5
a322fcdc7e7552740c072722a1329a28ccb842c0f22b3e58c2852d85622b52407906a85d
47bbe6e4fa0aa20ccbd78aded8cb2725472335c9d9dac5addcdd6ab7aa4e9f6670507591
876fa575f75109c8591781c60f4ae6f51d1eeacc4a34eb831a4cb89e3078c7afd6b58eb1
b276643df530ef2e2f35fbe0f700c3651f114206001db8a709dad6e639edd57cd81f2323
e527e9561918ac6aa0e071c1ef8aa5248b6f21693853d7eb5d0a2b97952d0c9b77b93eb9
2a5edd2dfbb3b060310c8d9dadec2b734af0e9d3ed9758d5a2323823ca83195847f79bd6
b2f4bd2e368ffb7b565f2ec61398623f7a56ed5b7a4f8d5e6be16fa940ab6d70d88c8fe0
07a035cb56538c79692ba5bff92378a4dde5bb36c48b707cdf95b23839a68532b15e918f
bc4679f6ab1268334578ad652a259c9cb86ff967ee3fc2a9ca663b96d991c2e42e01c1f7
eb5cb1929eccd2d62e433c451eda6b6f36d5f82a4e4a8f63542e34c7b2b949e0779ac89d
a1d79651fdd61dc7bd456934aae6064226fee609c93e87bd757a6d85c5ad94929c3cf27f
0765aa775a02d7531eee6874db55bbbc04b647936ea3e690f6ad4d3afef534d49f55548e
773911c7c903b669c74d469ffb52ead37de431e1143641fa0e99ac78ef64bedd33be1b3c
a1182bed8ed434b9477b126a373711dcf993bf9968e7f7522f45f63e87de9a262d865639
539069f14ac84a3c41e27fbf1b746155a4b76b3067b7dd2d913f320e5e1ff11445f425f7
34e5f2f59b5f226222b94398a5c77acf826964678258585c44db1e3cf53ea3d8d6969760
6ed9277dc20072bcfdff00feb55cd4ef2cac6f6dd9add5e7901504750a3ad5a6b61dba99
5b85bc0606b786704e5830c85f6150082d1be78e29ed1fd6de4caffdf278fd2a2bdb7b59
26926b312db0c0384639279cf1d3d2a378afe2e62bc8a78f2171226c3923d47d3d2abd19
25d369349a75cc3f6b8a69a50026f5d842e7a1a8ededaffcc485ed9e3cf1bd18320fc7ff
00ad50192e914bcb6f70aa0ed25543ae7ea2b67412b2f9b701d8c6a36f23033de93bf51a
d4cabb4f3f54da8c0c566362f3fc6796344b0968f8e5fa8f43f5a92faca2babb92eb4a70
9704e5e227e59c7b7a35456b7026c83b9645387561cafd686baa119a251637221d8eb0c9
d0b1fb8de99f435a00b6c048e47a64d4f25b5b5ddbc8d72f9841da541c173d87ff005ea1
8e178a15569598018c9a6f50b8e50e5198e41ec09a7df36fd6625dcac22b60383c727ffa
d4df29993607fbdc0fc6a04b636facdf29d9f26d5c8181ebd3f1a12d188b921dea434608
fad64dded4d1f512a800601063d7fc9ad29bfd43312838ed58f7ca0684b86c799703047d
7ffad44772e3d4f4b0831cf4a8248ff786ade38351ca9d0e39ef59a2d9973a00e7ae3daa
a4d80a46338fe55a73203b8e2b36e4ac7197209f418e4d5a664d19d2c2e72d91b4f4cd50
78dcc6dedd78eb57e7bd5202200fce09ec28921c9cae7a76ef54b413399b8b6c46d20550
154e31fceb2b4ed3a3d4ae1f52d44f95a55af39e9e730fe95d3de5b160cbf36c3d71dab9
ad461bfb5d3df4d8d127b3660ca58f317af1deb6bc9ab27a99e89dd8dbed45b579fed720
d96d0fcb6f00e30bfdefad4b6f1c3a6449a84d12dc6a132e6dadfaac4bfdf6f7aa71c988
94855240c354964228ff00d50da5d7e627f955b87bbcab6279b5bb37b43f165d69f2fd9f
58264b494e04d8ff0056c7b1f6ad8bed365b475bbd2c09ade5396894fdd27f897dbdab8c
bbdd338d3eda233dccc40541c8c7a9f4ad2bad464f0fe971e87697467bc23334a4e4423b
81ef5cb5695a49d3ddf4e9ea6d19dd7bc58d4f5ffec79fcbb6114d7cb8695d8fca83fba3
dcd765a6ebcb26971de4b0bc5e68e236e0e7dbdab85f0cf8656f15b53ba4796d63cbc719
196998773ed5b82737a7cf2fc0e020e883d3158d5846e94775bbfd0b8c9daecb536a7752
de0b812ec61c85cf18f4a9e6b78b54537568cb0ea0a3e643f764faff008d505894e4161c
1eb8a0e613bd25dac390c28badc2e491de33178e5430ce9f7e26ea3fc4567ddebf6da44d
1cf733322c876844192c3d48f4a6f8935d820b2864b9b7126a39fdd28e0b0f53ed5c15c3
cb219eeaedfcc95c65b8e9ec3dab5a747db6fa2225350db73db749d56def2de378268e58
5c7cac87f4f6ac1d46e9ceb1712ddc5242a088e12ea76ec1df3ee73fa560f86eda6d27c2
2928252e6fa4dc83fba0f4fd39aea53589e34114aa9381c7cc3afe35cf15c8e514ee91ab
7748aa248e54ca156f706947fb2318e6a27b7b1753712208b73ec500ed25b938c8ed8c54
e6cd9029b7bc65563802550e3a67d8ff003ab8cae458b56d7b716aa543295273b5856eda
ceb358999d046a41247b572c906a523a16b78e688b6df3617e9ee41c11fad68f89af174f
d112d233b0cec21ddfdd1dcfe5fcead34dd86af62a5bd9dadc5fc53d85c88eda43b9e27c
864f74fafa56fdc68d6b737297650f9cabfc2d80fec7d6b94468fc9091761c1153daeb53
dab85126f41d55aab9bb09586bb9b8bb97ed11f93321dad191d0678c7a8f7a79daa71baa
cdd5de91ab0492ed668645e9246483f98ed51ff60a4c09b1d6ce4f4599037f81a7a31598
eb721eee15de5b2e3b7bd5676126a9a8b93c19f03f000558b1d235ab4d4e0795ad66b756
f99d18a91ff0123fad539f4cd62d2e2e1d6da3b98e499a4063930d8273d0e3f9d3b01236
1509c8acfd46161a758a1e8672723b8f98d4cd732c511fb5413dbbf6df11fe6322a3ba9c
9fecc4e4af965f9f5c0ff1a12686b667a264af6a47638614fce3dbdeb3ee7518e3426165
91b380a3d6b135092545de188000e7dab0e30f7bbe36f9a3639493a569c5a7bdcca6e6e5
0a64e420ee3b66a77880180b85ed8ab4ec66d199f634886d098cf5cf7355e7ca49d07f85
6aec67e08e9d0d52b88c31e3ef739a7726c653819208c83d6b32ea338c2723b823a8adc9
23f94920ff005aa571189570bc376c8fe7571643471f736e5256057111ebed505cb6e68a
