<PAMDataset>
  <SRS>GEOGCS["WGS 84",DATUM["WGS_1984",SPHEROID["WGS 84",6378137,298.257223563,AUTHORITY["EPSG","7030"]],AUTHORITY["EPSG","6326"]],PRIMEM["Greenwich",0],UNIT["degree",0.0174532925199433],AUTHORITY["EPSG","4326"]]</SRS>
  <GeoTransform>  1.6991621748946219e+01,  1.8519073626036921e-06,  0.0000000000000000e+00,  5.8760104364217923e+01,  0.0000000000000000e+00, -1.8519073626036921e-06</GeoTransform>
  <Metadata domain="IMAGE_STRUCTURE">
    <MDI key="INTERLEAVE">PIXEL</MDI>
  </Metadata>
  <Metadata>
    <MDI key="AREA_OR_POINT">Area</MDI>
    <MDI key="TIFFTAG_DATETIME">2017:03:08 15:07:38</MDI>
    <MDI key="TIFFTAG_RESOLUTIONUNIT">2 (pixels/inch)</MDI>
    <MDI key="TIFFTAG_SOFTWARE">Adobe Photoshop CS4 Windows</MDI>
    <MDI key="TIFFTAG_XRESOLUTION">600</MDI>
    <MDI key="TIFFTAG_YRESOLUTION">600</MDI>
  </Metadata>
</PAMDataset>
