<PAMDataset>
  <SRS>GEOGCS["WGS 84",DATUM["WGS_1984",SPHEROID["WGS 84",6378137,298.257223563,AUTHORITY["EPSG","7030"]],AUTHORITY["EPSG","6326"]],PRIMEM["Greenwich",0],UNIT["degree",0.0174532925199433],AUTHORITY["EPSG","4326"]]</SRS>
  <GeoTransform> -3.4541390429924439e+00,  1.9279126855925727e-05,  0.0000000000000000e+00,  5.5932994436146849e+01,  0.0000000000000000e+00, -1.9279126855925727e-05</GeoTransform>
  <Metadata domain="IMAGE_STRUCTURE">
    <MDI key="INTERLEAVE">PIXEL</MDI>
  </Metadata>
  <Metadata>
    <MDI key="AREA_OR_POINT">Area</MDI>
    <MDI key="EXIF_BitsPerSample">8 8 8</MDI>
    <MDI key="EXIF_Compression">5</MDI>
    <MDI key="EXIF_Inter_Color_Profile">0x7e 0xd1 0xd9 00 0xd7 0x58 0x58 0xb7 0x94 0x46 0x73 0x64 0x9c 0x38 0x4a 0xc4 0x3b 0xd9 00 0xaf 0x6e 0xc8 0x37 0x9c 0x14 0x4b 0x9 0x17 0x47 0x69 0xee 0x82 0xe1 0xe5 0x30 0xc 0x9b 0x9c 0x27 0xb8 0x58 0x26 0xe0 0xe3 0xba 00 0x1b 0x1b 0x27 0x6d 00 0xf6 0xb2 0x68 0x3 0xf6 0x44 0x92 0xf 0x6 0xc8 0x3 0x6f 0x74 0xaf 0x71 0x60 0x42 0x6b 0xb7 0xf 0x74 0x83 0x71 0x70 0x10 0xe 0xb7 0xbe 0x50 0x17 0xbf 0x28 0xdb 0xd9 0x2 0x2c 0x33 0x74 0x2 0xb7 0x97 0x1c 0xa2 0x7 0x1e 0xa8 0x81 0x60 0x13 0x5c 0x8 0x20 0x8c 0xa0 0x9 0xb8 0xbd 0xb9 0x4d 0xe4 0x70 0x9c 0xd1 0xc9 0x27 0xba 0x44 0x91 0xec 0x10 0xd 0xe1 0xb9 0x9 0xa1 0xdb 0x5f 0x8e 0xe9 0xf6 0x24 0x67 0x84 0x9a 0xcb 0x1b 0x9b 0x14 00 0x20 0x91 0x64 0x9a 0x2c 0xdb 0x10 0x9c 0x6e 0x6 0x10 0x2e 0xc2 0x1 0xf6 0xc6 0x53 0xb 0x2f 0xf6 0x44 0xdc 0xb4 0xd8 0xa4 0x2f 0xb4 0x2 0x72 0x80 0x68 0x16 0x19 0x37 0x4d 0x2d 0xb9 0x1c 0xa9 0x48 0x4 0x24 0xee 0x31 0x85 00 0xdb 0xb4 0x58 0x1e 0x51 0x16 0x5 0x6 0xdc 0x93 0x74 0x8d 0xc7 0x39 0x40 0x12 0x33 0x82 0x9a 0x49 0x26 0xc9 0xc9 0x84 0x90 0x55 0x3 0x9a 0x79 0x5 0x22 0x5 0xb2 0x32 0x90 0xb5 0xbd 0x11 0x40 0x34 0x9c 0x59 0x6 0x91 0x7c 0x26 0x92 0x6f 0xec 0x8b 0x5b 0x8b 0x95 0x18 0xb 0xf8 0xf7 0x40 0x11 0xb7 0x8b 0x22 0xe2 00 0xe2 0xc9 0x67 0x6 0xfc 0xa0 0x1c 0x5 0xf8 0x16 0x9 0xbc 0xe1 0x38 0x3b 0x68 0x37 0x2a 0x31 0xe6 0x26 0xc8 0x7 0x82 0x7 0x29 0x1b 0xee 0x16 0x9 0xa0 0x38 0x1b 0xa9 0xd 0xc0 0x26 0xf9 0x54 0xd 0x3c 0xf9 0xb8 0x43 0x6d 0xae 0x6e 0x95 0xc9 0xc1 0xb2 0x44 0x76 0x3c 0x28 0x51 0x85 0xae 0x24 0x12 0x70 0x8b 0x43 0x4f 0x8 0xf6 0x45 0x8c 0xb0 0x25 00 0x8b 0x7d 0xf0 0x95 0xaf 0x60 0xa 0x69 0x6d 0xfb 0xe1 0x3d 0x83 0x68 0x36 0x40 0x34 0xd8 0x1c 0x94 0xe2 0x2f 0xc2 0x24 0x5c 0x64 0x65 0x34 0x5e 0xd6 0x25 0x8 0x11 0xce 0x11 0x51 0xd8 0x13 0x6b 0xa7 0x86 0x9f 0x54 0x1 0x22 0xe1 0x26 0x7 0x1 0x82 0x5c 0x91 0x1f 0xcd 0x94 0x5a 0x7d 0x10 0xc 0x20 0x83 0xe8 0x83 0xb1 0x6b 0x9c 0x14 0xf2 0x40 0xc7 0xaa 0xe 00 0xd8 0x21 0x40 0x1a 0x2d 0x6b 0x61 0x34 0xc6 0x6e 0x9f 0xb6 0xe7 0xba 0xe 0x1b 0xb1 0x73 0xee 0xa0 0x6 0xd3 0x7e 0xc5 0x1b 0x6d 0x48 0xb 0xc 0x1c 0x21 0x7b 0x9f 0x74 0x1 0xbd 0x89 0xba 0x3e 0x20 0x7 0x1 0x2b 0x2 0x38 0xca 0x8e 0xc2 0xf8 0x28 0x9 0x41 0x37 0x4b 0x6d 0xd3 0x33 0xfa 0x29 0x41 0xb8 0xcf 0x28 0x41 0x8f 0x69 0xd8 0x7b 0x59 0x37 0xf2 0xf 0x55 0x29 0xcb 0x53 0x76 0x8b 0xf 0x54 0x17 0x6 0x2 0x75 0xbc 0xb6 0xc9 0x9 0xaf 0x4 0x36 0xf6 0x1f 0x64 0xe8 0xee 0x40 0xec 0x96 0x1 0xed 0xe9 0x64 0xe6 0x7a 0xa0 0x72 0xe1 0x7e 0xc8 0xb4 0x9d 0xc7 0xd1 0x4e 0x64 0x63 0x89 0xce 0xd0 0xa 0x69 0x3 0x84 0x43 0xda 0x49 0xf5 0x4c 0x6d 0x8b 0xef 0x7c 0xad 0xb2 0x21 0xce 0x3b 0x41 0xf4 0xb2 0x82 0xc4 0xbc 0x1e 0x7d 0x94 0xb2 0xdb 0x1d 0xd4 0x64 00 0x77 0x2c 0xb3 0x51 0x1e 0x7e 0x8b 0x81 0x62 0x93 0x37 0x58 0xdc 0xa0 0x2f 0xe9 0x84 0x6d 0x6f 0xba 0x1 0xdd 0x85 0xf9 0x42 0xd6 0x38 0xe1 0x1e 0x47 0xba 0xd 0xb7 0xaa 0xa4 0x7 0x7e 0x51 0x27 0x8c 0x22 0x46 0x79 0x4b 0x6d 0xce 0x38 0x8 0x6 0x32 0xe6 0xf7 0x3 0x94 0xf4 0xf 0x3c 0xa0 0x72 0x7b 0xd9 0xa 0x20 0xe1 0xba 0xd8 0x44 0x90 0xa 0x68 0x8c 0x6e 0xb8 0x4f 0xda 0xa 0x58 0x80 0xdc 0xa 0x76 0xd 0xac 0x85 0x85 0x8d 0x92 00 0x20 0x11 0x16 0x40 0x80 0x89 0x1e 0x85 0x2b 0x13 0xce 0x54 00 0xc1 0x16 0x28 0x6 0xda 0xe9 0xdb 0x47 0xae 0x53 0x43 0xe 0xfb 0xdd 0x5 0xc5 0x61 0x93 0x90 0x88 0x6b 0x6d 0x9b 0x94 0x5d 0x71 0x64 0xd0 0x3d 0xd5 0x3 0x5f 0x16 0xe3 0x76 0x92 0x11 0x60 0x23 0x93 0x85 0x25 0xfd 0x53 0x30 0x4d 0xac 0x50 0xa3 0x9a 0x8 0xbf 0x9 0x5b 0x76 0xa 0x20 0x24 0x84 0x1a 0x1a 0x33 0x84 0x48 0xc0 0x4e 0xe4 0x5d 0x34 0x80 0x7b 0xa0 0xf 0x38 0x48 0xb4 0x5d 00 0x2c 0x79 0x4b 0x9e 0x10 0x8 0xd9 0x34 0x8b 0xf0 0x96 0xcc 0x92 0x93 0x5a 0x6f 0x72 0x7f 0x44 0x1 0x68 0x37 0xf3 0x1c 0x25 0xb4 0xb 0xa3 0x6e 0xa 0x44 0x5c 0xfb 0x20 0x5 0xac 0x2d 0x74 0xbb 0x8b 0xa0 0x59 0x63 0x7e 0x51 00 0xf2 0x80 0x22 0xc4 0xe5 0x20 0x30 0x80 0x69 0xb9 0xb9 0xb8 0x49 0xc3 0x8 0x4 0xd1 0x6e 0xe9 0xd6 0xc5 0xca 0x6d 0x8a 0x4 0x1b 0x8c 0xa0 0x9 0x19 0xba 0x44 0x24 0xe1 0x91 0x64 0x33 0xbb 0xd9 0xa 0x1b 0x4 0xad 0xee 0x95 0xb0 0x7b 0x26 0xb8 0x96 0x81 0x74 0x3 0x8d 0xb0 0x97 0x73 0xb5 0x35 0xcd 0x27 0x37 0xb2 0x2d 0x65 0x85 0xee 0xa8 0x8 0x24 0x5f 0x70 0xc2 0x47 0x39 0x9 0x38 0x61 0x34 0x5f 0xb9 0xfd 0x14 0x25 0x87 0x5f 0x7 0x19 0x4a 0xde 0xa9 0xad 0xc5 0xc5 0xc8 0x1e 0xe8 0xb8 0x9d 0xb8 0xee 0x80 0x44 0x90 0x6e 0x95 0xb1 0xdc 0xa6 0x81 0xf9 0x4f 0x8 0x96 0x90 0x30 0x6c 0x85 0xb 0x77 0xe 0x46 0x3d 0x52 0x39 0x16 0xf5 0x40 0xb 0x36 0xc5 0xd7 0x5 0x34 0x5c 0x9d 0xbb 0x4e 0xd4 0x21 0x27 0x2 0xdc 0x91 0xdd 0x3 0x61 0x90 0x4d 0xca 0x47 0x18 0xba 0x23 0x1e 0xe8 00 0x71 0xf6 0x44 0x1c 0x5d 0x1 0xb8 0xfd 0x5f 0xb2 0x63 0x83 0x81 0xc0 0xc2 0x14 0x79 0x38 0xb8 0x4a 0xe4 0xdb 0x9 0x83 0x78 0x3e 0xca 0x46 0xb4 0x9c 0x93 0x64 0xdc 0x83 0x5c 0xc0 0xe3 0x9e 0x3d 0x11 0x37 0xe3 0x8 0x90 0x4f 0x74 0x8f 0x8 0x5 0x70 0x80 0x76 0xe3 0x62 0xf 0xdd 0x23 0xb7 0x84 0x2f 0x8b 0x5f 0xfa 0x20 0x8 0x69 0xbd 0xc1 0xc2 0x44 0x2 0x6d 0x84 0xb0 0x14 0x6d 0xdc 0x5c 0x4b 0x9b 0xff 00 0x24 0x29 0x25 0x80 0x19 0x1f 0xb2 0x6d 0xc5 0xf2 0x8 0x9 0xcd 0x24 0xdb 0x16 0x47 0x6d 0xf9 0xca 0x10 0x6 0xce 0x16 0x69 0x44 00 0x3b 0xa4 00 0x3 0x1 0x34 0xe7 0xb2 0x5c 0xf 0x38 0xf7 0x41 0xcd 0xc7 0xa2 0x6e 0xd1 0x83 0x90 0x53 0x88 0xc8 0xbe 0x52 0xe0 0x6 0xd6 0xca 0xd 0x16 0xed 0x84 0x4f 0x39 0xb5 0x93 0x5e 0x73 0x8e 0x52 0xe5 0x1e 0x1a 0x12 0xb0 0x18 0xe 0x4c 0xcf 0x3c 0x84 0x8d 0xae 0x82 0xc3 0x9c 0xdd 0xce 0x6 0xf6 0xb2 0xf 0xe7 0x1c 0xa0 0xe3 0x8c 0xf1 0xea 0x95 0xbd 0xd0 0x58 0x25 0xa3 0x6f 0x29 0x34 00 0xdb 0x5f 0x29 0xb7 0xce 0x72 0x13 0x45 0xcb 0x89 0xec 0x82 0xc4 0xce 0x6d 0xc2 0x1b 0x3c 0xa3 0xb1 0x4d 0x69 0xc6 0x6e 0x83 0xc1 0x26 0xe1 00 0xf6 0x81 0xdc 0x24 0xee 0xd6 0x4d 0x6b 0x6c 0x3b 0xa5 0xc9 0xe0 0xa0 0x4 0x84 0x5f 0x82 0x8b 0x5b 0x9b 0x90 0x51 0x6e 0x7b 0xa2 0x1b 0x9b 0xdd 00 0x76 0xdd 0x10 00 0xfb 0xa0 0xf 0xba 0xe 0xb9 0xe3 0x94 0x20 0x6d 0x67 0x5d 0xb 0x5c 0xdf 0xb2 0x36 0xf5 0x4d 0xd 0x3 0xd5 0x50 0x12 0x5 0xb0 0x9a 00 0x19 0x68 0xca 0x75 0xd2 0x37 0x6 0xea 00 0xed 0xbb 0x7d 0xa 0x4d 0x1d 0xca 0x19 0xbd 0xc9 0x4d 0x37 0xbf 0xb2 0x1 0xe4 0x79 0x81 0xbe 0x10 0x2d 0xbe 0x6f 0x84 0x86 0x2 0xd 0x24 0x9f 0x64 0x1 0xdb 0x6e 0xe8 0x9f 0x6c 0xa5 0x8c 0x14 0xaf 0x61 0x84 00 0xbe 0x6c 0x2 0x44 0xe2 0xe7 0x5 0xf 0x33 0xb8 0x9 0x6 0x13 0x72 0x5c 0xa8 0x1c 0xe 0x30 0x8e 0x9 0xb9 0x19 0x40 0x36 0xc3 0x94 0x9c 0x9 0x55 00 0x8c 0xf3 0x64 0x1c 0x3d 0x2c 0x9b 0xb4 0x1 0x6c 0xa0 0x3d 0x45 0xd4 0x3 0x86 0xe 0x2 0x44 0x12 0x33 0xc2 0x56 0xec 0x38 0x47 0xd8 0x28 0x6 0x8e 0x31 0xd9 0x26 0x10 0xeb 0x8b 0x59 0x3c 0x36 0xe3 0x8c 0xa4 0x5 0x8f 0xa 0x80 0x6c 0x17 0xba 0x5b 0x41 0x45 0xf9 0x7 0x69 0xca 0x63 0x1 0x68 0xf3 0x1b 0xa0 0x1c 0xeb 0xb4 0x1 0xdd 00 0xf 0xe6 0x21 0x12 0xe3 0xdd 0x2b 0xf7 0x40 0x34 0x9c 0x10 00 0xba 0xd 0xe4 0xb 0x59 0x1b 0x1b 0x20 0xdb 0xe5 00 0xe6 0xb2 0xce 0x25 0x3b 0xd6 0xd6 0xba 0x6d 0xf1 0xee 0x81 0xb5 0xee 0x80 0x2d 0xe 0x26 0xce 0xca 0x39 0x7 0x94 0xd7 0x1c 0x79 0x53 0x81 0x25 0x9c 0x20 0x9 0x17 0xb5 0x8a 0x69 0x6e 0xd 0xc5 0xc2 0x22 0xf6 0x40 0xef 0x1c 0x11 0x64 0x2 0x73 0x77 0x34 00 0xa0 0x90 0x3f 0x7b 0x5b 0x80 0xd1 0xc9 0x53 0x12 0xed 0xd9 0x21 0x11 0xef 0xdd 00 0x1a 0xd2 00 0xb7 0x9 0x3a 0xc4 0x8c 0x24 0x30 0x4f 0xa2 0x22 0xd6 0xb8 0x50 0x8 0x5e 0xe8 0x13 0x67 0x5c 0x84 0xf2 0xe 0x13 0x5d 0xb4 0x3b 0x3c 0xa0 0x3 0x5c 0x5c 0x4f 0x60 0x8e 0xd1 0x73 0xca 0x43 0x9f 0x64 0x79 0x18 0xe1 0x50 0x37 0xd2 0xfc 0xa2 0x3c 0xdd 0xf0 0x89 0xb6 00 0xe5 0x7 0x34 0x5a 0xf6 0x40 0x33 0x6d 0x8e 0x12 0xb9 0xdd 0x90 0x40 0x4e 0x2e 0x7 0x8e 0x42 0x21 0xc4 0x8b 0x77 0x42 0x83 0x70 0xf4 0x4b 0xf5 0x40 0x2 0x2f 0x7b 0x10 0x96 0x3b 0x72 0x80 0x44 0x8b 0x81 0x74 0xaf 0x63 0xc9 0x40 0xb 0xdb 0x70 0xca 0x26 0xe3 0xb6 0x3d 0xd0 0x4 0x1b 0xb 0x9c 0xa4 0x46 0xe1 0xde 0xe8 0x37 0x26 0xfc 0x25 0xc9 0xee 0x80 0xe 0x2 0xc0 0xa4 00 0x23 0x84 0x8b 0x5d 0x7f 0x64 0xee 0x31 0xfd 0x90 0xc 0x23 0x1d 0x93 0xae 0xd2 0x2d 0x7f 0xd1 0x34 0xdf 0xb8 0xb0 0x4e 0x6e 0x6c 0x6c 0x14 0x28 0xdf 0x2e 0xeb 0x81 0x90 0x8b 0x8e 0xeb 0x58 0x59 0x12 0xdf 0x32 0x16 0xb6 0x5c 0xa9 0x6 0x86 0xd8 0xdc 0x65 0x3c 0x8b 0x81 0xeb 0xe8 0x93 0xad 0x6b 0x8e 0x10 0x7 0xd4 0xd9 00 0xd0 0x6f 0x70 0xef 0xd1 0x12 0xe1 0xc1 0x22 0xe9 0xd 0xa5 0xd8 0x17 0x48 0x8c 0x1b 0xd9 0xa 0x35 0xe0 0x72 0x30 0x93 0x48 0xe1 0xc8 0x8b 0xe 0xc2 0xde 0xa8 0x80 0x7 0xfe 0xa 00 0x1c 0x11 0x8c 0x24 0xb 0xb8 0xe2 0xe9 0xc4 0x34 0xda 0xdc 0xa4 0x1a 0x73 0x6b 0xdf 0xb5 0xd0 0xd 0x37 0x1d 0xd4 0x66 0xce 0xe7 0xa 0x53 0x18 0x22 0xe4 0x65 0x6 0xb0 0x38 0x70 0x80 0xd 0x2 0xd6 0x68 0xfd 0x54 0x8d 0x16 0x2 0xe9 0xbb 0x40 0xc7 0x9 0xdc 0x70 0xa9 0x4 0xe2 0x31 0x62 0x53 0x1c 0xec 0x1e 0xe1 0x27 0xd8 0x1b 0x7a 0xa4 0xe0 0x6d 0xc2 0x85 0x1 00 0x36 0xed 0x8 0x33 0xdd 0x37 0x68 0x75 0xc5 0xcf 0xd8 0x27 0x86 0xda 0xc3 0x84 0x2 0xb8 0xbd 0xbb 0x24 0xdd 0xb6 0xce 0x42 0x1f 0x4f 0xba 0x6b 0xae 0x3b 0x2a 0x40 0x9d 0xae 0x69 0xb5 0xc0 0x49 0xa3 0x6b 0x6d 0x74 00 0xed 0x6b 0x25 0xb0 0x93 0x9e 0x14 0x1 0x68 0xb1 0xc7 0x29 0xce 0xe3 0x25 0x6 0x5f 0xbd 0x82 0x75 0xb6 0x8e 0x41 0x42 0x82 0xf8 0xb2 0x63 0xc0 0x16 0x4f 0xe 0xbb 0xae 0x38 0x8 0x16 0x82 0x49 0xe5 0x52 0xc 0x2 0xe5 0x3d 0xbe 0x5e 0xd7 0x40 0x36 0xdf 0x4a 0x39 0x1c 0xa0 0x6 0xd1 0xba 0xf6 0x48 0xed 0x37 0x19 0x8 0xbd 0xcd 0xb6 0x39 0x4d 0x6d 0x8f 0x2a 0x1 0x6d 0x1b 0x71 0xca 0x22 0xd8 0xf5 0x46 0xc0 0x9c 0x26 0xd8 0x83 0x8e 0x50 0x5 0xb7 0xb9 0x24 0x61 0x20 0xd0 0x78 0xb2 0x71 0x36 0xc1 0x29 0x85 0xd7 0xc0 0x28 0x51 0x1 0x63 0x8c 0xa6 0xbc 0x5c 0xd8 0x27 0x12 0x41 0x19 0x4b 0xbe 0x6c 0x84 0x6 0xd0 0x5 0xc6 0xa 0x69 0x6f 0xae 0x53 0x85 0xbb 0x64 0xa0 0xfb 0xdb 0x4 0x25 0x80 0xd2 0xe2 0x30 0x10 0x23 0x17 0x23 0x29 0xcd 0x60 0xb8 0xb9 0xba 0x4f 0xbd 0xc0 0xb6 0x10 0xd 0x7 0x9 0xd9 0x2 0xe4 0x82 0x90 0x61 0xec 0x9a 0xeb 0x8c 0x80 0x80 0x45 0xd7 0xf7 0x8 0xdb 0xda 0xe1 0x31 0xa1 0xdb 0xae 0x7f 0x65 0x23 0x7c 0xa3 0x37 0x40 0x32 0xc4 0x7d 0x21 0x3b 0x3c 0x10 0x83 0xc7 0x16 0x28 0x12 0x50 0x6 0xd6 0x28 0xc 0xb 0xa2 0x3 0xb9 0x45 0xdc 0x67 0x94 0x28 0x2f 0x74 0x6 0xe 0x45 0xd1 0xd 0xb1 0xbf 0x64 0xb3 0x7f 0x44 00 0x37 0xfd 0x12 0x71 0x27 0xb2 0x71 0x6f 0x6 0xe8 0x12 0x4e 0x2 0x2 0x33 0x9b 0x2 0x11 0x68 0xca 0x7b 0x9b 0x8e 0x32 0x98 0x1 0xba 0x1 0xd9 0xec 0x2e 0x9a 0xef 0x4e 0xe8 0xb8 0x91 0xc2 0x4 0xba 0xd8 0x8 0x1 0x6b 0x77 0x4e 0x6b 0x8f 0x64 0x1b 0x73 0xf5 0xc 0x20 0x48 0x1f 0x4a 0x1 0x17 0x10 0x85 0xc7 0x27 0x94 0xb6 0xde 0xe9 0x1 0x61 0x90 0x80 0x70 0x76 0x10 0x2e 0x4d 0x3c 0xe1 0x38 0x82 0x5 0xc8 0x8 0x40 0x6e 0x48 0x1c 0xa1 0x92 0x78 0x44 0xdc 0xf0 0x10 0x5 0xd7 0x21 00 0x4f 0x8 0xdf 0x8 0x13 0x64 0x1 0x17 0x9 0x10 0x52 0x4 0xf7 0x8 0x97 0x65 00 0xc0 0x49 0x4f 0x4 0xda 0xe5 0x35 0x38 0xf 0x52 0x80 0x6b 0x8d 0xca 0xd 0x19 0x47 0x17 0x4e 0xe0 0x20 0x5 0x8a 00 0xd8 0xa3 0x73 0x64 0x1a 0x40 0xe5 00 0xf0 0xeb 0x8f 0x54 0xd2 0x53 0xaf 0x8c 0x26 0xde 0xe5 0xa 0x37 0xcd 0xd9 0x3a 0xf7 0xe5 0x12 0xed 0xa1 0x34 0x94 0x2 0xba 0x69 0x7d 0xfe 0x9c 0xa3 0xca 0x8c 0x8d 0xa6 0xe3 0x85 0x1 0x4 0xce 0xbd 0xee 0xb9 0x8d 0x86 0x57 0x44 0xd6 0xb5 0xc7 0x2b 0x93 0x9e 0x50 0xa3 0xa1 0x94 0x19 0x32 0x2f 0x6f 0x65 0x71 0x44 0xe1 0x20 0xb9 0x68 0x3 0xd5 0x53 0xc4 0xc1 0xe2 0x83 0x7b 0x3 0x85 0x6d 0x4d 0x1e 0xdf 0xa6 0xee 0xc2 0xc4 0x81 0xd0 0x5c 0xd0 0x4b 0x4e 0x7e 0xca 0x37 0x35 0xa0 0xdf 0xfa 0x29 0x5a 0x7 0xe6 0x19 0x51 0x4f 0x67 0x1b 0x34 0xdc 0xfa 0x2c 0x33 0x68 0x6e 0xd6 0x9e 0x7b 0x71 0x62 0x81 0xd 0x16 0x17 0xc1 0xe5 0x28 0x45 0x9b 0x77 0x76 0x44 0xb0 0x65 0xc1 0xd9 0x3e 0xc8 0x83 0x1e 0xd0 0xd0 0x6c 0x14 0x85 0xa4 0x28 0xda 0x30 00 0xe5 0x48 0xcb 0x81 0x9c 0xad 0xa3 0xc 0x8b 0x60 0xde 0x2e 0x9c 0xe2 0x38 0x8 0xb9 0xb7 0x70 0xf3 00 0x10 0x76 0xdb 0xdb 0xba 0xd0 00 0xc1 0xca 0x24 0x34 0xa6 0xda 0xc6 0xfd 0x92 0x1 0x52 0x11 0xe3 0x76 0x11 0x36 0xb2 0x3b 0x40 0x75 0xca 0xe 0x2d 0xb2 0x1 0xad 0x7 0x9e 0xc8 0xe0 0xf2 0x9b 0x70 0x46 0x9 0x44 0x91 0xdd 0x8 0x2b 0x8e 0x2c 0x92 0x4d 0x22 0xc9 0x1b 0x13 0x93 0x64 0x2 0x20 0xe 0x2f 0x74 0x1 0x27 0x9 0xc2 0xd6 0xc1 0xba 0x2d 0x68 0x3d 0xc5 0xd0 0xa4 0x60 0x27 0xf6 0xf6 0x4e 0xd9 0x94 0xad 0x84 0x23 0x1a 0xf 0xaa 0x44 0x80 0x8d 0xc0 0x8 0x5b 0x37 0xec 0xa8 0x8 0x29 0x38 0xfb 0x27 0x34 0x8f 0xd5 0x27 0x67 0xb8 0x40 0x34 0x11 0xdc 0x21 0x71 0x8c 0x23 0x7b 0xe2 0xc9 0x16 0xd8 0x70 0xa1 0x44 0x45 0xc5 0xc2 0x41 0xb6 0x45 0xa0 0x5f 0x28 0xd8 0x20 0x18 0xe1 0x84 00 0x1 0x48 0x40 0x3 0x8 0x6d 0x40 00 0x2d 0xdd 0x29 0x24 0xb3 0x53 0x6f 0xe6 0xc8 0xc2 0x90 00 0x46 0x10 0x11 0xef 0x16 0xc0 0x48 0x48 0x7d 0x14 0x9b 0x40 0x8 0x58 0xdd 00 0xd6 0x12 0xe2 0x6f 0x84 0xe 0xf0 0xf1 0x6b 0x6d 0x4e 0x2 0xee 0xb2 0x71 0xe6 0xd6 0x42 0x2 0x36 0xbc 0xbc 0x92 0xe0 0x42 0x7d 0xcd 0xec 0xeb 0x4 0x5b 0x6e 0x40 0xb2 0x4e 0x37 0x23 0x17 0x54 0x8 0x32 0xe7 0x25 00 0xc2 0x9 0xb2 0x70 0x6 0xfc 0x59 0x2 0x48 0x3e 0xa8 0x7 0x37 0x9b 0x14 0x8 0x17 0x49 0xb9 0x37 0xbe 0x12 0x36 0x40 0x38 0xf0 0x2c 0x12 0xe4 0xb 0xa6 0x17 0x5c 0xd8 0x27 0xb7 0x90 0x8 0x50 0xa3 0xda 0x5 0xc2 0x6b 0xf0 0x6f 0xca 0x24 0x6d 0x37 0x17 0xb2 0x6b 0x8e 0xe3 0x60 0x15 0x20 0x5a 0x41 0x6f 0x19 0x48 0x5e 0xe2 0xc3 0xf7 0x48 0x1b 0xe1 0x11 0xe5 0x37 0x25 00 0x89 0xb7 0x64 0x79 0x6a 0x57 0xb9 0xcd 0xc2 0x36 0xb8 0xc2 0x14 0x5c 0xf0 0x83 0x99 0x7e 0xe8 0xb8 0xe3 0xd1 0xf 0x31 0xec 0x7e 0xe8 0x2 0x3f 0x44 0x1c 0x33 0x8e 0x51 0xee 0x9d 0x80 0x80 0x6d 0xc0 0xb7 0xaa 0x1 0xe4 0xbb 0xcd 0x6b 0x22 0x79 0xc5 0x90 0x3c 0xf2 0x10 0xe 0xc1 0xe0 0x5f 0xec 0x80 0x2d 0xcd 0x91 0x75 0x87 0x27 0xfa 0x28 0x1a 0x24 0xd 0x70 0x73 0xc3 0x8d 0xf0 0x40 0x50 0x12 0xb5 0xdc 0xf2 0x8d 0xec 0x7d 0xca 0x8e 0x27 0xd8 0x59 0xdc 0xf7 0xba 0x9e 0xc1 0xc3 0x18 0x40 0xb 0x71 0x74 0x81 0xf3 0x5e 0xd7 0x9 0x38 0x80 0x10 0x6 0xe4 0x5c 0x2a 0x41 0xe5 0xed 0xec 0x2c 0x91 0x16 0x18 0xc1 0x40 0xed 0xf4 0x4e 0x39 0x19 0x40 0x37 00 0x65 00 0x6c 0xd2 0x42 0x26 0xc4 0x91 0xc8 0xee 0x80 0x1b 0x46 0x38 0x28 0x3 0x19 0xee 0x42 0x36 0xb9 0xc9 0x40 0x5c 0xf1 0xc2 0x36 0xb3 0x81 0x40 0x3 0x70 0xe 0x51 0xbf 0x17 0x20 0xa0 0x4d 0xc7 0x9a 0xdc 0xf0 0x8e 0xd6 0xe2 0xd6 0x42 0x8c 0x68 0x69 0x79 0x70 0x4 0x94 0xf6 0x5f 0x72 0x16 0xb7 0xa9 0x4e 0x1e 0x61 0x7f 0x44 0x20 0x8f 0x26 0xc8 0x1b 0xf 0xba 0x44 0xf6 0xba 0x5b 0x41 00 0xde 0xc8 0x4 0x1d 0x84 0xb7 0x5f 0x20 0x4 0x4d 0xb6 0x80 0x2c 0x81 0x16 0xe5 00 0x70 0x7 0x19 0x48 0xf0 0x9 0x3c 0x20 0xe2 0x2d 0x70 0x90 0xb5 0xb1 0x74 0x3 0xae 0x2d 0xec 0x90 0xcf 0x25 0xd 0xb7 0xfb 0x20 0x1a 0x33 0xe8 0x7b 0x28 0x7 0x10 0x7 0xaa 0x68 0x19 0xb8 0xba 0xd 0x1c 0x5d 0xdc 0x27 0xb 0xef 0xe7 0xb 0x5c 0x80 0x80 0xb9 0xcf 0x8 0xfd 0x85 0x91 0x77 0xaf 0x16 0x48 00 0x72 0xa1 0x4 0x78 0xca 00 0x3 0xc8 0x8 0x10 0x1a 0xe0 0x9c 0x7d 0x90 0xd 0xb6 0x7d 0x11 0x27 0x6d 0xb1 0xf7 0x41 0xa0 0x2 0x6e 0x8d 0xc0 0xe5 0x52 0x81 0xa4 0xe6 0xc7 0x1 0xf 0xcd 0xdf 0x28 0x81 0x9b 0x8e 0x10 0xbf 0x99 0x40 0x39 0xed 0x7 0x23 0x94 0xb 0x41 0x17 0x17 0xba 0x3d 0xfc 0xa9 0x92 0x4e 0xd6 0x9b 0x38 0xd8 0xa5 0xc2 0x24 0x6f 0x16 0x28 0x8b 0xfa 0xe1 0x71 0x7c 0xe4 0x41 0xd6 0xde 0x2e 0xa7 0x74 0xa4 0xb6 0xed 0x20 0xa8 0xa4 0x9e 0x3 0x8b 0x44 0xb6 0xcd 0xd2 0x23 0xf5 0x51 0xc2 0xe2 0x45 0xdf 0xdd 0x3c 0x7b 0x2a 0x4 0xe2 0x6d 0xc2 0xc 0x6a 0x24 0xe3 0x25 0x26 0x9c 0x5e 0xca 0x90 0x24 0xd9 0x26 0x82 0x73 0xd9 0xb 0x83 0x92 0x88 0x4 0x8c 0x61 00 0x4d 0x8f 0xdd 0x31 0xce 0xb7 0x3 0x28 0xb8 0x91 0x90 0x12 0xb8 0x77 0x7 0x28 0x6 0x9 0x1d 0xcb 0x82 0x97 0x75 0xd4 0x76 0x27 0x24 0x80 0x9f 0x6f 0xdd 00 0xbe 0xfc 0x22 0xf 0x16 0x4d 0xb1 0xbe 0x13 0xbf 0x55 00 0x2f 0x9e 0x13 0xaf 0x84 0x33 0x74 0x45 0xef 0x8c 0xa0 00 0xe7 0x94 0x1c 0xf2 0x4d 0x85 0x93 0xbe 0xe1 0x35 0xd6 0xdc 0x30 0xa8 0x11 0x17</MDI>
    <MDI key="EXIF_PhotometricInterpretation">2</MDI>
    <MDI key="EXIF_PlanarConfiguration">1</MDI>
    <MDI key="EXIF_ResolutionUnit">2</MDI>
    <MDI key="EXIF_RowsPerStrip">1</MDI>
    <MDI key="EXIF_SamplesPerPixel">3</MDI>
