<PAMDataset>
  <SRS>GEOGCS["WGS 84",DATUM["WGS_1984",SPHEROID["WGS 84",6378137,298.257223563,AUTHORITY["EPSG","7030"]],AUTHORITY["EPSG","6326"]],PRIMEM["Greenwich",0],UNIT["degree",0.0174532925199433],AUTHORITY["EPSG","4326"]]</SRS>
  <GeoTransform>  2.9228178758312300e+01,  3.5411082987088498e-06,  0.0000000000000000e+00,  4.6131630322418658e+01,  0.0000000000000000e+00, -3.5411082987088498e-06</GeoTransform>
  <Metadata domain="IMAGE_STRUCTURE">
    <MDI key="INTERLEAVE">PIXEL</MDI>
  </Metadata>
  <Metadata>
    <MDI key="AREA_OR_POINT">Area</MDI>
    <MDI key="EXIF_DateTime">2020:04:17 11:41:00</MDI>
    <MDI key="EXIF_ImageDescription">Krasna, Akkerman, Bessarabia, Russia, village plan 1940, drawn by Melchior Koch.

Source:  Otto Riehl</MDI>
  </Metadata>
</PAMDataset>
