<PAMDataset>
  <SRS>GEOGCS["WGS 84",DATUM["WGS_1984",SPHEROID["WGS 84",6378137,298.257223563,AUTHORITY["EPSG","7030"]],AUTHORITY["EPSG","6326"]],PRIMEM["Greenwich",0],UNIT["degree",0.0174532925199433],AUTHORITY["EPSG","4326"]]</SRS>
  <GeoTransform>  1.6315631321160307e+01,  2.8041411870062147e-06,  0.0000000000000000e+00,  5.9236858111217387e+01,  0.0000000000000000e+00, -2.8041411870062147e-06</GeoTransform>
  <Metadata domain="IMAGE_STRUCTURE">
    <MDI key="INTERLEAVE">PIXEL</MDI>
  </Metadata>
  <Metadata>
    <MDI key="AREA_OR_POINT">Area</MDI>
    <MDI key="TIFFTAG_DATETIME">2022:02:14 13:04:36</MDI>
    <MDI key="TIFFTAG_RESOLUTIONUNIT">2 (pixels/inch)</MDI>
    <MDI key="TIFFTAG_SOFTWARE">Adobe Photoshop 22.5 (Windows)</MDI>
    <MDI key="TIFFTAG_XRESOLUTION">400</MDI>
    <MDI key="TIFFTAG_YRESOLUTION">400</MDI>
  </Metadata>
</PAMDataset>
