<PAMDataset>
  <SRS>GEOGCS["WGS 84",DATUM["WGS_1984",SPHEROID["WGS 84",6378137,298.257223563,AUTHORITY["EPSG","7030"]],AUTHORITY["EPSG","6326"]],PRIMEM["Greenwich",0],UNIT["degree",0.0174532925199433],AUTHORITY["EPSG","4326"]]</SRS>
  <GeoTransform> -8.0108059874403139e+01,  2.3479808619445569e-04,  0.0000000000000000e+00,  9.4713319875642341e+00,  0.0000000000000000e+00, -2.3479808619445569e-04</GeoTransform>
  <Metadata domain="IMAGE_STRUCTURE">
    <MDI key="INTERLEAVE">PIXEL</MDI>
  </Metadata>
  <Metadata>
    <MDI key="AREA_OR_POINT">Area</MDI>
    <MDI key="Raw_profile_type_exif">exif
    8286
45786966000049492a000800000009000001040001000000380400000101040001000000
a80b000002010300030000007a0000001a01050001000000800000001b01050001000000
88000000280103000100000002000000310102000d000000900000003201020014000000
9e0000006987040001000000b2000000c400000008000800080048000000010000004800
00000100000047494d5020322e31302e31340000323032303a30343a31322030383a3530
3a333600010001a00300010000000100000000000000080000010400010000005c000000
01010400010000000001000002010300030000002a010000030103000100000006000000
060103000100000006000000150103000100000003000000010204000100000030010000
0202040001000000271f000000000000080008000800ffd8ffe000104a46494600010100
000100010000ffdb004300080606070605080707070909080a0c140d0c0b0b0c1912130f
141d1a1f1e1d1a1c1c20242e2720222c231c1c2837292c30313434341f27393d38323c2e
333432ffdb0043010909090c0b0c180d0d1832211c213232323232323232323232323232
323232323232323232323232323232323232323232323232323232323232323232323232
ffc00011080100005c03012200021101031101ffc4001f00000105010101010101000000
00000000000102030405060708090a0bffc400b510000201030302040305050404000001
7d01020300041105122131410613516107227114328191a1082342b1c11552d1f0243362
7282090a161718191a25262728292a3435363738393a434445464748494a535455565758
595a636465666768696a737475767778797a838485868788898a92939495969798999aa2
a3a4a5a6a7a8a9aab2b3b4b5b6b7b8b9bac2c3c4c5c6c7c8c9cad2d3d4d5d6d7d8d9dae1
e2e3e4e5e6e7e8e9eaf1f2f3f4f5f6f7f8f9faffc4001f01000301010101010101010100
00000000000102030405060708090a0bffc400b511000201020404030407050404000102
77000102031104052131061241510761711322328108144291a1b1c109233352f0156272
d10a162434e125f11718191a262728292a35363738393a434445464748494a5354555657
58595a636465666768696a737475767778797a82838485868788898a9293949596979899
9aa2a3a4a5a6a7a8a9aab2b3b4b5b6b7b8b9bac2c3c4c5c6c7c8c9cad2d3d4d5d6d7d8d9
dae2e3e4e5e6e7e8e9eaf2f3f4f5f6f7f8f9faffda000c03010002110311003f00f609b5
99e3be9e011c6151f62e7396f954fafbd471ebd348b1b2246c1d8af0318c67dfa71d7dc7
ad56d42d1defeee54646fde82401cafc89f9d5502642c37c6ac4649618c0f71d6802fdc7
88a586da69d561648c9181c9241c6073ebc548daece663022c6d2840e73190319c7ad674
5693076042aff11222207d49c51f64b8cbbf9c03b00080d8dc01ce45006b45aa5dbedcc5
17cd9dbf29e719f7f6a6aeaf79e610d0c2141c161923f9fb551fbd12c6d22c64fcc71c70
31dbb7d2a65817ecec524566cee201e49a00b4bab4f233796b01507b839fcb340d624c48
182068c02e0479c6471fc559f140fe63064750c3a8438c7e5fad2bd90dbb925c8ef82306
80343fb52e1a58902c7fbc52eb94208031d79f71f9d44daf48b0dcc8b1ac82dd8abed439
c8009c0cf3d4536342d116c8691460313c815007923dc189208e327a1a0093fe12297746
042079881c10a4f07f1ad8d3ee8de5947390016cf18f4247f4ae46466fb4c7805f271ef5
d568cbb74b8c7a33f7ff0068d0050b99c2cf7c4c258aca154e01e76a0f4f5c538fef6108
5498fab6548f97d01f7e7f314f92448ee6e5191e46697845c73f2ad3d83120b23851c042
c3e6c9e9f9ff002a00600b0bcaab92fb73117c9ddc018cfd71f9d3d6431db967b81b4aab
6ff2f68c1eff00afad22a149554e4984166f9be5193c0f7e2991e5a2754dce03b61dba63
7123a761fd280193c502000b112124e0819c8e99e9cf20fe1d6a459769c89ca3c80ed257
017f3e0f6a851551d5a742eaf1aa02c47cc413fa648029c9243839b78d481cf43b7ea4e3
3400f7bb33ca1635704a953b42b0efbb9ce06081d7d71cf6494a969581f2f3f2ac806413
efea30071ef434d2c320fdd03211862a338f4efc0c7a54124db15923462d82541ce7d79a
00996e02b6c01892796dbc1a49950fcdb864f6c62a8e67699e1b4dcf3b61a47639587ffa
f83c0f6cd4b1cb65008e3fb43ee236fef1ce4f6eff004a00a92006750481cf715d168c73
a6467767e77e7d7e7358d342ceccd12860a48e3e6e9f4cd6c68983a5a1e7fd649d7fdf6a
00a72ae2faf24f914ab6771e78dab9fc7a7e552b0db787214a819033fc478fe40fe74d99
03cf7439fde48636edc6c53fe7eb55e6cb4d2cb1b84ca859b78e0b606063b7bf3c5004eb
1996257200e7e66039233c7ebcd0db9c80a7cb944603846e9e98c1e4673f9d46b234526d
40c92e395006718ebe87f5eb56fcbdc88f3948d9be6014e391d083c7e3f4a00a3741ccd0
c1705dd41de0e012369040e3af201fc2ab953044a89f392b805816666da00c91d723bfad
5d92f6172f6ef209be7da0302ac1bb738e71ebed55a39edfcb11a4fe646e70a36f2abedc
7b7ea2801e0b6f66f2cfce014dc369e31c723af1596f25c4b3b5ac1bda52d896603708c7
a74ebfa0efef34f78d2c22df4e8a595635f2c93182180180aa4719f97af414905bb2c091
89e68b04ab46b18ce49c907b727bf7a009e710c761e55a6017c0c927241201638e7f3ab3
238b6b32aa4b3200136f4271d7e94288bc892150449d096e79e9938c0cf1daa28e78bccb
73e733ab29d9803b700807ff00d7f9d0025b4be55f489846757f94e32dce49edf5e95b3a
51cd937fd779bff463551b48c34f230caa838048cfb9ff00d08d5cd17e6d3c9ce7f7f372
7bfef1a802acb2886e6ec48a76bccaa8ddb71551cfe869b2440b796e1f38e24247b7071e
fdea3b8976dedfe501092272d26d5e517a8efdb8c530b8055c80aa83985ce712641008cf
a1fa500588a17d855a1995400792304ffb3ce41f7e0532e1d6d58fef95e63ca83966e7d8
9c03d39aaaf3cb36327e63ce3d0f5e9ebf5355e49a0b5b59279dd628e3c96908c9cf61d3
ad003f594b5b9d3e517b34e902609911cab03ec477f6efc573da4595d33ac335d5d4f048
a1e25bbc097671b433000e06d6e9ea339ad0814dfdc4777a90d90a61aded70492b9c798f
8383db8edfcf45a1b6b98e59db713e600bd55931d3b7d4fe34013e9f0dc0977249095ddf
3aec3c7d39c01d08f63df34db9b9b8172eb134244836a87c80cf8ce072304e09fa525b4d
2286db2425ca805e484e48fa8233f9554ba62b237da255520191704b0ce7838f4e0ff9c6
0027956c576bcd20765c6162c9cb93f789faf6f7a9e5b4f918ccc23888e9d188cb607230
3ef566247686d8e1f31c443236ed983d0600e4e0e39ec4f04d559af05e27d9ce44ae84e5
937039e324e79c641ce727b5007456f3416711f371044b84447931bbdcf6c939e7bd6868
8cb26981d395696520839e3cc6ef5c648f3aaa46d7aeaec76990642f4edd40c7a1fcfd7a
ef0d90fa142c81305e4fb83033e63668033efae45bea578eb1ef9bcd50ac573e58f2d73f
4fafff005aaacce82d6599919b7125db6e327b703f4a93539123d56e4152034c198ee037
6234c0ebf5aa06446508b1ba2c929f378dc7a704a8e40e05004ca6e66b20b6c1219e553f
78b0d98ee383dc8fcea2d65bf79a74a103a24e5195811b9ca9c1c77eff009d3d5e5530c9
2334b1491798a0295cf3ead83d39edf4acfd4239af745d4921622544f3616cfdd75f9873
f85006cdcf9ada646368ba65943fcc0eeda1b774fc07a0f7a92dd85da67c975f35448cc0
920fd01e7a557b176bf86cb501bc3b209067e65dac391c1fd7da9351b86b7d3deded895b
876648c01b891938c014008912493a60347b89046e0429cf4a25f2c9b82ea8c36ac4b919
ce371e87ae3355e2f3ec2396ca0950152556699865413c617b91f4c77cd4f736f711cb1a
12e36824118009e39c50043e4b49b22430aed042baa162bc637153c13c7a607a1a82e6e9
a389a448e1710a48d3372a1769e70bd71f962b4109b42fe7e59da32d827af5fe7599a059
411df6a172f23dccb8cb460e506e50718ce327fad004aeb3df496f0cd1a344d900c51fdd
04770412303d3db27b5755e1b11ae89188902279b2e0039ff968c73fd6b3eda22d64b3c8
15e291d9e3d8df74376f7e2b5343863834b58a30446b24817273c6f3401cd6bbbd757b92
10ba19d3705382bfbb4c9fa607eb4db78920b6fde282e0489803002e4b6c627f84e7ea31
f8545e2399e3d4b50531b3219571f2e410224ce71ce7d3e957ac8a036f06e0cb12492c44
2e15c72ac3f36047b1c50050339171757217cdb997023840ea070318cf1cf5e94eb14bd3
29536b6e87255b792db867191cf03a1e87f0ab133476ba9bbc4b1ef9d23882632a9f31c6
7ea58fd7152ac925a5abb4085a57c36e90b724f3838ce781c500677870358e8f75a7bcf1
e34e9658829c86d84e50839e9838fc3daa49ae608944d04a2db1372aedb91f1d012bee7a
77ac9d5ade29a591f7c90dd1872f7902e370380aac33cf638fa54fe16d7afeeadaf2d353
433989c2bf971aa0704641231d7e9de803622b9ccb2b3ac656421a46c8da48da3a727a7f
2a0cb26a092345130dbc6e89831739e831f77b75c7d29967f6368e4769b6c2195482a42e
49c32e3b8c1033d79e7d05cd35a0f32f9d76af9d851285208033c7b8e49fa93401973cb6
eb01912e6295b1b3c9494af5248fd3d69b06b09713d94715bac214e5d58ecc7c98c02383
827f1c52186de3530f985d2489a3deb18dc00232013c739e73dfe954ade78a5b68da0fb4
bc737084c792c9dfdb38f5a00db491ed669a2815f64c4ac7000482c71f303d00f5fa5741
e1d63268d1b36e2dbe40c581049de727a0efed5c4428caf1adb2cb9dc65884a8c1546307
80481d71d6bb8d019df49469176b192438cf41bce3f4a00c4d4a478f51d45f797447dde5
b28e079480ed6c6413c77238e944315bc17fb2185a38e1b6202a83d5983608f5c28c8c7e
669babdc241aa5ca85632b4e0a90c4007cb4db9c751bb1c77c63a66996d6b12d9adbc48e
1666db3cd22fef1cb2f278ce0b055031d07e140148798236b895a479a72bb536e727000c
01ff00d6e86b494868c42bb95dc898331c2e300124fa0e38fa0a9d2dece19b7bc0b91b92
38a156931c724f1e8ddbfbddc915495e3b768ede4b4532e176ab3e70064927dc6188f41e
99c5003dec9228cc10309de38c20f35f0a08c9249e416627a638c0ed5cb69c04bae6aa23
5702411744e1498f2a7240e9cfe9e95b1777515a06bd5220419926f308c0039c9fa73591
a04b7175717dabc8121b2ba910c2f27398d170ac4f1d7ae7a5005dd3e1075867b87962f9
311ca70c8028f9b7e4fcbc91c8e3e95d15c43782d145ba84ba89015599890c303a9ebd09
ff00ebd63146040780a87e1209b1b195b860dd7838ff0039ad349268888e33be3032bbe5
0cf1f3d3233b97d3278fd00041ba0bc431db4aa2f0b481a07f9bc876db9f43b720907d0f
e55a537c04c51d638db00b860d2449b71e982030ce73d0fd337f54904134202aab33b248
ca7247031f4ce4ff009e0d6d1af56e36dd162aa1f0ca41c463855524f539ea471c8a00b7
e40bf314b6c2658939538fbae386072738e30319eb9addd0e2921d3024cfb9c48f93ff00
023583617324b35c479dfb06f01db7120bbafe00616ba0d254a59104b13e63925baf2c4d
0072baee1f55d40b4ae9e5c8a10a8ee634e7df18cfe1c53ec196495e382679e618904f2e
1d4670bd3a0c83838e473839a9f54971ab5eabbaac2b282e1d720feed318e79a8a261e52
cfe633798e9b555b682031e9f81ffebd002dcdf2cd097dd1233b619b7615a3c8c8520f7c
0e3ae338f5a65a5a069661e5024a6d692591890a7dc83d80e3dfdf9cf851a2ba783cfdd1
4c44672b800920f2b93cfcb8e7ad4fa6ee58de0991cc7bb745029242a8c1046081f8e303
039a00e7b5bbab4f136bf17874b4b05ac282eeef28479b8dac13919c63ae2b7d31733a45
20f2ac9506d46f937fa0e9f2818c6d23ff00af8faedb35bea516b61c1961c0758f0ca220
4601cfbf3d7919fc34ed627d427f22d641379916f848931e9c1e7a0dc0fa9a00e96d458e
ac98712c7708ab2248554390b821978c1ebe9fc478e6a3bed42133b9588adc2011b4871c
004373effe35553fb574e9e196ead49db9556dcadb89c718073db8edea2a6bf16d7d1b96
80c72f9671215c11c63191dbf9d0045756b15cc48b1796513e521a20c0e4e771cf279fc6
aa86114c220916e42630cd9186e0280074c9271d7b7353d95eb5e5b432bb4aaed18f3542
e143f7febea3fa45aa4444c36f99fbd81973b72548c10475e87a7b9a008ddc44ea2428a2
65caa9419c3704e719e6bacd24ff00a175dc3cc7e7d7922b0cc4b7512ce8a72ea0862b96
e7e6c7e04d6e69208b1c1dd9f31f39ebf78d0073dab0b45d4afe5b85f3251228455c9d80
c69f31fa7af6a6c909d8cf206779329142c48cb751b9b0481c67d07a1ab77709b8bcd4c0
5059a5f294741fea50963f4e3f2a082cb0f9e0166560a857a7c84e7eb8e3fc8a00cf96d8
9b803cd290db37cfb55433b15cb374e83803f2ed50b5bcf6b3aa5bab6d0c3cc8c301f367
2076ce339357d228e1b85468633e6b02e447f780058b1edce31f53535bb98ae254ba88c4
198ca8ea4963cf1d39e9ebee3a500654915c3c7288ad92da4f2c46f994155ef8e71f99f4
ef58d61677f67e5ad9f90a215501cb152885b18dc0823383c7b0aec5edd24b59e4c432c6
d9dac4673c63e9ff00eaaa91594466ba825850c12057454f94000f18fa77fc28028daeb7
7324d1c57f8325bb6246590938c70481f291c919ebdbad589196f6d4084811c8ff003067
2a518fbf7e847d315535536eb1fdaad94bbf90a980d8c28ceecfa03d73ec0f6e6cacff00
da05228e0b7469bfd63eddccc5877fa057ce7a11ec3200b6100b6b75f255a38e49379241
391927b1c0c839fc7f0ab772e6347ba60c4345c024e1006cf5e7693c7af4aa6b7a11648d
1bcd9013872381ce3851d7fcf4a65c6c1349130f3527e728c40618ce587bf1da802792e0
49652f92155c46012ad9dad8eddfa9c8f6e9c8ae8f46de74f1e611bbcc7ce3a7535c6c32
4167b1638a45491577c6460975c80bc7238e78ed5d8e86ccda682f8cf98fd0606371ed40
0d8edd6e2eaf0b3498f3767cbc7544e7f4fe74adf64f3d50aca1d1c81f29c1e3079c74e6
a0374b05f4d189a0467958f9724c10b7cabc8e09ec695ad8dcf98eb1c45d8e5992e9bb0c
0c8c7d2802c3bd992400eac836e550f00f6e9fa532e959edd998655802250305476c8edf
5f7e9517f673195185bc5f2a903fd25b3d73d71f5a9bfd322b7c1106e53d7ce278cf03ee
fa719a00cfb09f72aa14da564652a0019e4f3f8f5fad3a792337121525420513320dc40c
92140c707fc453c5a436b308a152b8014166ce40155268b64a4ceafe531f913712327b9c
1f6ebd3f4a00ad3c8b72e2e04b098773a161d5800381c15183fc8fa561c5349a5eb70452
c2231240cc8be66d5623824e339e0818f5c9e735b57769f6f855da66540e33e54a705464
15c0c63f97a565595bbdeea375349b9628f65b6cda492dd5fb67ee6dc1a009e3ba81635f
2700c6807ee973b9cf50063dbafebcd5a86eaf2e153c9b610b383979595b9fa039039fe7
ed55a1b0f24c911051bcb044607e072477076f4ab5a64f2cf0c8a2d9da48a4092e18004e
016c67b636ff009068023d461bb77854b94dff00f3ccb020ed2492411d7a75e6ba7f0f06
1a4aee6663e639dcd9c91b8e335cf15956d614562a724a27f701078ebec47d05747a1482
5d3778ce1a473cf6f98f1401466b34935196e9c2158cb8c1855b048ebb8f23f953eceee0
81186e56c8c7ca8a98c76e2a63c8ba5066dcceff002aa9c7e605403ce3185c5c6395f9a3
7cf23af4cff914017edef6295c0546eb8c80081f5c1fad57d4ae5370b350ad2382cdd460
0c7f52292d8bc2f995ee303076a42e73907afcbf4a8ef191ae7ed91a64c71900b2956272
38fd2802ac1038664397dc0057de484e792474e7d6ae79c1644c3fc9cee73c0ce3f5ff00
3ef4d79bcc1118c96538248c71edfe354ee4cfe5968a03239caa3793858c0ea467ae49fd
3da802a5fdc45a7dab4f1c10cb7520c46eaa092e33d7fa7b903bd50d1ed3659c9048aeff
0069ff004995ccbc9761cae47a11c7a639c715775c01ac256dec5a38cc998d7e5070703f
303d7a546eb20b74226ca85625638f3ce49c64f1dc50021bb3347044d3ab96b67b95919d
c3a72a319eeb87efcfd7b4f6b70929f3adef2d9a453b8c6186f6553921bf887d314d86d6
5b6f293cf666813602ab954cfde1db23a0fc2a748dd35742aeccb144599b6820b13803ae
4f1bbf4e6802299c99a796755699172addb049201e8781f41f37b9adef0f0234901e4f31
bcc932f8ea771e6b28ce82c1773c82e262a0b6de4962338cf6c67e98ad7d108fecf3b73b
7cd931918e371a0096cf23ed0704e666ef56581dbc0e71d77556b5da3cec84e666fe74e9
a52ae218951a53cf43851ea7fc3bfeb40114b753346f15b46a6eb180b2370bfed1f6fe7e
dda1b9b590be092f88be625b1bb9e4fd7a55b4b6890a90c378392c7ab7ae692e5598610a
87d840fd0ff4a00c499435bc4c80891301a32c5578e0af6e3d0fd3ad4c1e37b34921563b
d404555ce3d8a8e9ee28b719b665972581dae181193ea33d73d7f1c76a64b16c91c799e5
829b4ede3bf193ed40191a9413a8962926015911123c9c0f9b91ea0e339c7afb55e96112
5e496e8bb1480e54cb9ea402bec793597e22170f671b457481e272d2c6b826521480bcfa
920e7daaf5adda9b4802a4224b88d1b76000ecdd0f5e7271f9d0068bc8c997405e666f95
0107048ffeb75aa56712896edd24dd23732aabfdc2010064e0faf3d3a63a73756dd8cb2c
4238cbb1e6654c96fafa0c7f9359fabd9c76d2c37ca7cb9e35299da3eef1c1c8fba4f5a0
09eda149b4e888c65a2daa55f214f3c8ebdff1e2b5f402cda582db47ef641807200dc702
b1b4bd420212d2ea15b69e320a2383b0939e158f1ea00edc56ee8a8a9a7008140f365240
39e77b66802bb5f35b4d3c7e5cae03b1ca264839e38a934fb90903cb707cb3bc97240c9f
727b9e9fd2abca4a5c5cb2ab48ed3018ce15460753f53fad50587ce943bc5249b4a0dcc4
61b0f93807b020f4e3a63a62803a49a6312ef00b0fa7159b2ea52aba6e42a03005b70c72
0fff005a90eac9f675574dabf2f2adc6c3d0fa0e013f4a63286d9693c4ea49255c49f7c2
9cfd738c647b9a00866b797cd9096936b292c7a63a0cf53ce335333a5dc2f1bb3c526186
d65fbc3919e4608fcfad521f67b3b6491426e9482aa25542147cb9cb1e99c9fa1e869acf
22c643c31a8077ac91cdf20e7e5033c67b67a1f6a00ab7b676d771c6afa644d0090f9a56
15c4871d71d47e3dfa557d36d13ec68c216cc6001c018c01f2fe63f5f4ab2f7f220747b4
329552e8ecea31c73903af38e9ea2a5d26e556c6d22650adbd51d48ea391f8e703f3f534
0166d45e4cd344924c163c6c5f39838560793ef906abc8b71f6e48a732b2ecdc489c96c0
38e878192456c0482069266558fe5fbc5fb0e79e7a553880fed222472649235057920b02
4f1f9f23b71400d4b585db65d19e4defb42c9f32b1c73c7f9e95ada3c71c3a72a4431189
1f03fe046a89dcf70d126c2e8de6fcc71c8c6067b6707f2ad0d2c6db2c018c4b277cff00
19a00c39a757d56fd248cb08e500624651d14f2076e7dea486412bc51b242adbf0307036
e091818ff648c7e34974a8b7f78f8218cd8e9d7e45a6c72aa807041daa373f20119e4e31
d72726802511446d62774527e542f9fe0dc3afe1fa1348ae12e9401f2ef2bc9e1b2a49c7
d08e73e951c97325b2a42c1d82619151036f551f77f31fa5485ff73046d96785812d8cee
e76e303d7279f5a00986d8a478d951a22db00c72a48ce47b73d3fc97c502adb79914b0b2
ed621881b5c1e72401ebe98a5652fe7a639dfb978ee40c13f88aa772c86d67544652dd8a
852481d323af14018dab5c48cd158208025cb18bae5d43649231dc0271ed9ad2b4f2214b
5b794c6cd90106c190473b8fbf04e7ebf5acbd42d449ac192333c8f149b77ec2559c820f
0013c7d3a1abd64de4ea077c73a3a83b99d7737cc081f8703b71d28035678d19d22322fe
f09ce4fdec0247d3a0fd6ab8713e798c05255867e6ebdc7e07eb9ab37836468c049b8659
762fcc581e07e591d7a1aa735c2ac3298b692e8761e475ecd8e738feb400fb68e58ac7ce
8995f237119e483c8209e33dfd31c715aba1b6fd30329ce65979f7ded9acd96528ad0890
b390bc60024f1b739e9920fe46b4b4289a2d2c231cb09a6c903033e6376a00cdbc52751b
affaec01c9ff00a6698a8993038ce7eb4fba754d4af9fcb0c44c0124ff00d334aa5f6853
2e32b9c9fc2801ef0472285d8a1d98202429c8009c73d7a1a920663316425012ab976e17
19ff0013d7807152bc69e646d846206e0dc919e474fc4d55840de570bc9ce48e9401af22
ac4b179432bb0c6aa1fef771fc8f354034864599fe60c048a81ba065e7afe3c9c6777b53
77bc605bfca53390413c7f9cd54d45cd9e9f7a16440c222100e8588c0fd68025b0273149
3388cdd2991497e41621b675fa7e5425c4e2ea6839b775002665563201d3008c77f7ed53
1522368d668d444815485ced61e82a29d629df6b2472838ddbd032e7209c03d3903f2a00
b2a6f22d8559e418f9d5d80cf51d07e754da3943b98acd99981f34aca324e7b367ebd40a
99218612afe4c0ac3255b60c8273d29d11716ad2b850cce790a3a74ed4011cab04934979
307c295dcaeff3003247cbd01cb11dba5743a38c69fd777efa639ce73fbc6ae7d4ee655c
ae3a600ebf5f5adfd1c83a6a60823cc907000fe36f4a00c6bc702ff5056607f7eb80179f
f569593791cb148596db78070bc90cdc7d7d4fe95d549a2c725ecf75f699c34cc19932a5
410a178e33d00ef4a34752c49bb9ce463076e3f950060bbcb6f04863b790944f978c9638
ce31fa5113e5a431c2e3cb507e61f78d6f9d1d19706e252339e71fe14ada5065c7da65c7
a714018d23c88ed88d5b1f38e42e79e9d31fad41747ed96c90bcce7e68dc9645f9b6b86c
76f4c57403478d42859586d181c67f9d45fd871e1732e70739d9401862765791ddd4163f
28c703a7e54f0e12ebece159884dc485cf3fe1fe06b6db46561b7ceffc70530e82a719b8
6247b63f91a00c7b6bc98a4321b697f78d80acb8c0f7f4e3b53e69e4292aac531f282853
b4fced83c0fc475f7ad81a30d814cc719cf00f3fad325d26650ab0bc4eb93bbccc8c67d3
1f8d006133346d1b02c0ed0cc0ae08ef8ae8b4390c9a52b1c9ccb37518ff00968d59d2e8
37d24abfbdb71185c0605832f03381d3d6b5349b13a769915b31059773360e46e662c71e
d93401ffd900
</MDI>
  </Metadata>
</PAMDataset>
