<PAMDataset>
  <SRS>GEOGCS["WGS 84",DATUM["WGS_1984",SPHEROID["WGS 84",6378137,298.257223563,AUTHORITY["EPSG","7030"]],AUTHORITY["EPSG","6326"]],PRIMEM["Greenwich",0],UNIT["degree",0.0174532925199433],AUTHORITY["EPSG","4326"]]</SRS>
  <GeoTransform>  3.0774551193510685e-01,  3.5003246383082894e-03,  0.0000000000000000e+00,  5.5236650994423307e+01,  0.0000000000000000e+00, -3.5003246383082894e-03</GeoTransform>
  <Metadata domain="IMAGE_STRUCTURE">
    <MDI key="INTERLEAVE">PIXEL</MDI>
  </Metadata>
  <Metadata>
    <MDI key="AREA_OR_POINT">Area</MDI>
    <MDI key="XML_com.adobe.xmp">&lt;?xpacket begin="&#xFEFF;" id="W5M0MpCehiHzreSzNTczkc9d"?&gt;
&lt;x:xmpmeta xmlns:x="adobe:ns:meta/" x:xmptk="XMP Core 5.5.0"&gt;
   &lt;rdf:RDF xmlns:rdf="http://www.w3.org/1999/02/22-rdf-syntax-ns#"&gt;
      &lt;rdf:Description rdf:about=""
            xmlns:dc="http://purl.org/dc/elements/1.1/"
            xmlns:xmp="http://ns.adobe.com/xap/1.0/"
            xmlns:xmpMM="http://ns.adobe.com/xap/1.0/mm/"
            xmlns:stRef="http://ns.adobe.com/xap/1.0/sType/ResourceRef#"
            xmlns:stEvt="http://ns.adobe.com/xap/1.0/sType/ResourceEvent#"
            xmlns:pdf="http://ns.adobe.com/pdf/1.3/"
            xmlns:xmpTPg="http://ns.adobe.com/xap/1.0/t/pg/"
            xmlns:stDim="http://ns.adobe.com/xap/1.0/sType/Dimensions#"
            xmlns:stFnt="http://ns.adobe.com/xap/1.0/sType/Font#"
            xmlns:xmpG="http://ns.adobe.com/xap/1.0/g/"
            xmlns:illustrator="http://ns.adobe.com/illustrator/1.0/"
            xmlns:photoshop="http://ns.adobe.com/photoshop/1.0/"
            xmlns:exif="http://ns.adobe.com/exif/1.0/"&gt;
         &lt;dc:format&gt;image/tiff&lt;/dc:format&gt;
         &lt;dc:title&gt;
            &lt;rdf:Alt&gt;
               &lt;rdf:li xml:lang="x-default"&gt;HRR1648_222&lt;/rdf:li&gt;
            &lt;/rdf:Alt&gt;
         &lt;/dc:title&gt;
         &lt;xmp:CreatorTool&gt;Adobe Illustrator 26.0 (Macintosh)&lt;/xmp:CreatorTool&gt;
         &lt;xmp:CreateDate&gt;2022-02-07T14:38:10+01:00&lt;/xmp:CreateDate&gt;
         &lt;xmp:ModifyDate&gt;2022-02-07T14:42:25+01:00&lt;/xmp:ModifyDate&gt;
         &lt;xmp:MetadataDate&gt;2022-02-07T14:42:25+01:00&lt;/xmp:MetadataDate&gt;
         &lt;xmpMM:DocumentID&gt;xmp.did:70a5bbb7-2d7f-4490-8baf-e07564a4dd14&lt;/xmpMM:DocumentID&gt;
         &lt;xmpMM:InstanceID&gt;xmp.iid:702af3d7-1698-4fea-9952-451cf7f2e1cc&lt;/xmpMM:InstanceID&gt;
         &lt;xmpMM:RenditionClass&gt;proof:pdf&lt;/xmpMM:RenditionClass&gt;
         &lt;xmpMM:OriginalDocumentID&gt;uuid:5AC23A8DF5B011DCAC6FC16DAEACCF3A&lt;/xmpMM:OriginalDocumentID&gt;
         &lt;xmpMM:DerivedFrom rdf:parseType="Resource"&gt;
            &lt;stRef:instanceID&gt;uuid:1613dfd8-97fb-4248-b89d-df4d0cd2f742&lt;/stRef:instanceID&gt;
            &lt;stRef:documentID&gt;xmp.did:70a5bbb7-2d7f-4490-8baf-e07564a4dd14&lt;/stRef:documentID&gt;
            &lt;stRef:originalDocumentID&gt;uuid:5AC23A8DF5B011DCAC6FC16DAEACCF3A&lt;/stRef:originalDocumentID&gt;
            &lt;stRef:renditionClass&gt;proof:pdf&lt;/stRef:renditionClass&gt;
         &lt;/xmpMM:DerivedFrom&gt;
         &lt;xmpMM:History&gt;
            &lt;rdf:Seq&gt;
               &lt;rdf:li rdf:parseType="Resource"&gt;
                  &lt;stEvt:action&gt;saved&lt;/stEvt:action&gt;
                  &lt;stEvt:instanceID&gt;xmp.iid:74117FDA200711688CF3A4D6CC908D33&lt;/stEvt:instanceID&gt;
                  &lt;stEvt:when&gt;2009-09-25T11:18:28+02:00&lt;/stEvt:when&gt;
                  &lt;stEvt:softwareAgent&gt;Adobe Illustrator CS4&lt;/stEvt:softwareAgent&gt;
                  &lt;stEvt:changed&gt;/&lt;/stEvt:changed&gt;
               &lt;/rdf:li&gt;
               &lt;rdf:li rdf:parseType="Resource"&gt;
                  &lt;stEvt:action&gt;saved&lt;/stEvt:action&gt;
                  &lt;stEvt:instanceID&gt;xmp.iid:70a5bbb7-2d7f-4490-8baf-e07564a4dd14&lt;/stEvt:instanceID&gt;
                  &lt;stEvt:when&gt;2022-02-07T14:38:06+01:00&lt;/stEvt:when&gt;
                  &lt;stEvt:softwareAgent&gt;Adobe Illustrator 26.0 (Macintosh)&lt;/stEvt:softwareAgent&gt;
                  &lt;stEvt:changed&gt;/&lt;/stEvt:changed&gt;
               &lt;/rdf:li&gt;
               &lt;rdf:li rdf:parseType="Resource"&gt;
                  &lt;stEvt:action&gt;converted&lt;/stEvt:action&gt;
                  &lt;stEvt:parameters&gt;from application/pdf to application/vnd.adobe.photoshop&lt;/stEvt:parameters&gt;
               &lt;/rdf:li&gt;
               &lt;rdf:li rdf:parseType="Resource"&gt;
                  &lt;stEvt:action&gt;derived&lt;/stEvt:action&gt;
                  &lt;stEvt:parameters&gt;converted from application/vnd.adobe.photoshop to image/tiff&lt;/stEvt:parameters&gt;
               &lt;/rdf:li&gt;
               &lt;rdf:li rdf:parseType="Resource"&gt;
                  &lt;stEvt:action&gt;saved&lt;/stEvt:action&gt;
                  &lt;stEvt:instanceID&gt;xmp.iid:f502cd7b-c2ad-4002-bd37-bd13649bcbc8&lt;/stEvt:instanceID&gt;
                  &lt;stEvt:when&gt;2022-02-07T14:41:42+01:00&lt;/stEvt:when&gt;
                  &lt;stEvt:softwareAgent&gt;Adobe Photoshop 23.0 (Macintosh)&lt;/stEvt:softwareAgent&gt;
                  &lt;stEvt:changed&gt;/&lt;/stEvt:changed&gt;
               &lt;/rdf:li&gt;
               &lt;rdf:li rdf:parseType="Resource"&gt;
                  &lt;stEvt:action&gt;saved&lt;/stEvt:action&gt;
                  &lt;stEvt:instanceID&gt;xmp.iid:702af3d7-1698-4fea-9952-451cf7f2e1cc&lt;/stEvt:instanceID&gt;
                  &lt;stEvt:when&gt;2022-02-07T14:42+01:00&lt;/stEvt:when&gt;
                  &lt;stEvt:softwareAgent&gt;Adobe Photoshop 23.0 (Macintosh)&lt;/stEvt:softwareAgent&gt;
                  &lt;stEvt:changed&gt;/&lt;/stEvt:changed&gt;
               &lt;/rdf:li&gt;
            &lt;/rdf:Seq&gt;
         &lt;/xmpMM:History&gt;
         &lt;pdf:Producer&gt;Adobe PDF library 16.03&lt;/pdf:Producer&gt;
         &lt;xmpTPg:NPages&gt;1&lt;/xmpTPg:NPages&gt;
         &lt;xmpTPg:HasVisibleTransparency&gt;False&lt;/xmpTPg:HasVisibleTransparency&gt;
         &lt;xmpTPg:HasVisibleOverprint&gt;False&lt;/xmpTPg:HasVisibleOverprint&gt;
         &lt;xmpTPg:MaxPageSize rdf:parseType="Resource"&gt;
            &lt;stDim:w&gt;411.153363&lt;/stDim:w&gt;
            &lt;stDim:h&gt;335.152498&lt;/stDim:h&gt;
            &lt;stDim:unit&gt;Millimeters&lt;/stDim:unit&gt;
         &lt;/xmpTPg:MaxPageSize&gt;
         &lt;xmpTPg:Fonts&gt;
            &lt;rdf:Bag&gt;
               &lt;rdf:li rdf:parseType="Resource"&gt;
                  &lt;stFnt:fontName&gt;LAstrologyPi-One&lt;/stFnt:fontName&gt;
                  &lt;stFnt:fontFamily&gt;Linotype Astrology Pi&lt;/stFnt:fontFamily&gt;
                  &lt;stFnt:fontFace&gt;1&lt;/stFnt:fontFace&gt;
                  &lt;stFnt:fontType&gt;Type 1&lt;/stFnt:fontType&gt;
                  &lt;stFnt:versionString&gt;001.001&lt;/stFnt:versionString&gt;
                  &lt;stFnt:composite&gt;False&lt;/stFnt:composite&gt;
                  &lt;stFnt:fontFileName&gt;LAstPiOne; Linotype Astrology Pi&lt;/stFnt:fontFileName&gt;
               &lt;/rdf:li&gt;
               &lt;rdf:li rdf:parseType="Resource"&gt;
                  &lt;stFnt:fontName&gt;Georgia&lt;/stFnt:fontName&gt;
                  &lt;stFnt:fontFamily&gt;Georgia&lt;/stFnt:fontFamily&gt;
                  &lt;stFnt:fontFace&gt;Regular&lt;/stFnt:fontFace&gt;
                  &lt;stFnt:fontType&gt;Open Type&lt;/stFnt:fontType&gt;
                  &lt;stFnt:versionString&gt;Version 5.00x-4&lt;/stFnt:versionString&gt;
                  &lt;stFnt:composite&gt;False&lt;/stFnt:composite&gt;
                  &lt;stFnt:fontFileName&gt;Georgia.ttf&lt;/stFnt:fontFileName&gt;
               &lt;/rdf:li&gt;
               &lt;rdf:li rdf:parseType="Resource"&gt;
                  &lt;stFnt:fontName&gt;VialogLT-Light&lt;/stFnt:fontName&gt;
                  &lt;stFnt:fontFamily&gt;Vialog LT&lt;/stFnt:fontFamily&gt;
                  &lt;stFnt:fontFace&gt;Light&lt;/stFnt:fontFace&gt;
                  &lt;stFnt:fontType&gt;Type 1&lt;/stFnt:fontType&gt;
                  &lt;stFnt:versionString&gt;001.000&lt;/stFnt:versionString&gt;
                  &lt;stFnt:composite&gt;False&lt;/stFnt:composite&gt;
                  &lt;stFnt:fontFileName&gt;VialoLTLig; Vialog LT Light&lt;/stFnt:fontFileName&gt;
               &lt;/rdf:li&gt;
               &lt;rdf:li rdf:parseType="Resource"&gt;
                  &lt;stFnt:fontName&gt;VialogLT-LightItalic&lt;/stFnt:fontName&gt;
                  &lt;stFnt:fontFamily&gt;Vialog LT&lt;/stFnt:fontFamily&gt;
                  &lt;stFnt:fontFace&gt;Light Italic&lt;/stFnt:fontFace&gt;
                  &lt;stFnt:fontType&gt;Type 1&lt;/stFnt:fontType&gt;
                  &lt;stFnt:versionString&gt;001.000&lt;/stFnt:versionString&gt;
                  &lt;stFnt:composite&gt;False&lt;/stFnt:composite&gt;
                  &lt;stFnt:fontFileName&gt;VialoLTLigIta; Vialog LT LightItalic&lt;/stFnt:fontFileName&gt;
               &lt;/rdf:li&gt;
               &lt;rdf:li rdf:parseType="Resource"&gt;
                  &lt;stFnt:fontName&gt;VialogLT-Regular&lt;/stFnt:fontName&gt;
                  &lt;stFnt:fontFamily&gt;Vialog LT&lt;/stFnt:fontFamily&gt;
                  &lt;stFnt:fontFace&gt;Regular&lt;/stFnt:fontFace&gt;
                  &lt;stFnt:fontType&gt;Type 1&lt;/stFnt:fontType&gt;
                  &lt;stFnt:versionString&gt;001.000&lt;/stFnt:versionString&gt;
                  &lt;stFnt:composite&gt;False&lt;/stFnt:composite&gt;
                  &lt;stFnt:fontFileName&gt;VialoLTReg; Vialog LT Regular&lt;/stFnt:fontFileName&gt;
               &lt;/rdf:li&gt;
               &lt;rdf:li rdf:parseType="Resource"&gt;
                  &lt;stFnt:fontName&gt;VialogLT-Medium&lt;/stFnt:fontName&gt;
                  &lt;stFnt:fontFamily&gt;Vialog LT&lt;/stFnt:fontFamily&gt;
                  &lt;stFnt:fontFace&gt;Medium&lt;/stFnt:fontFace&gt;
                  &lt;stFnt:fontType&gt;Type 1&lt;/stFnt:fontType&gt;
                  &lt;stFnt:versionString&gt;001.000&lt;/stFnt:versionString&gt;
                  &lt;stFnt:composite&gt;False&lt;/stFnt:composite&gt;
                  &lt;stFnt:fontFileName&gt;VialoLTMed; Vialog LT Medium&lt;/stFnt:fontFileName&gt;
               &lt;/rdf:li&gt;
               &lt;rdf:li rdf:parseType="Resource"&gt;
                  &lt;stFnt:fontName&gt;VialogLT-MediumSC&lt;/stFnt:fontName&gt;
                  &lt;stFnt:fontFamily&gt;Vialog LT&lt;/stFnt:fontFamily&gt;
                  &lt;stFnt:fontFace&gt;Medium Small Caps&lt;/stFnt:fontFace&gt;
                  &lt;stFnt:fontType&gt;Type 1&lt;/stFnt:fontType&gt;
                  &lt;stFnt:versionString&gt;001.000&lt;/stFnt:versionString&gt;
                  &lt;stFnt:composite&gt;False&lt;/stFnt:composite&gt;
                  &lt;stFnt:fontFileName&gt;VialoLTMedSC; Vialog LT Medium SC&lt;/stFnt:fontFileName&gt;
               &lt;/rdf:li&gt;
               &lt;rdf:li rdf:parseType="Resource"&gt;
                  &lt;stFnt:fontName&gt;VialogLT-Bold&lt;/stFnt:fontName&gt;
                  &lt;stFnt:fontFamily&gt;Vialog LT&lt;/stFnt:fontFamily&gt;
                  &lt;stFnt:fontFace&gt;Bold&lt;/stFnt:fontFace&gt;
                  &lt;stFnt:fontType&gt;Type 1&lt;/stFnt:fontType&gt;
                  &lt;stFnt:versionString&gt;001.000&lt;/stFnt:versionString&gt;
                  &lt;stFnt:composite&gt;False&lt;/stFnt:composite&gt;
                  &lt;stFnt:fontFileName&gt;VialoLTBol; Vialog LT Bold&lt;/stFnt:fontFileName&gt;
               &lt;/rdf:li&gt;
               &lt;rdf:li rdf:parseType="Resource"&gt;
                  &lt;stFnt:fontName&gt;Walbaum-Bold&lt;/stFnt:fontName&gt;
                  &lt;stFnt:fontFamily&gt;Walbaum&lt;/stFnt:fontFamily&gt;
                  &lt;stFnt:fontFace&gt;Bold&lt;/stFnt:fontFace&gt;
                  &lt;stFnt:fontType&gt;Type 1&lt;/stFnt:fontType&gt;
                  &lt;stFnt:versionString&gt;001.000&lt;/stFnt:versionString&gt;
                  &lt;stFnt:composite&gt;False&lt;/stFnt:composite&gt;
                  &lt;stFnt:fontFileName&gt;WalbaBol; Walbaum&lt;/stFnt:fontFileName&gt;
               &lt;/rdf:li&gt;
            &lt;/rdf:Bag&gt;
         &lt;/xmpTPg:Fonts&gt;
         &lt;xmpTPg:PlateNames&gt;
            &lt;rdf:Seq&gt;
               &lt;rdf:li&gt;Cyan&lt;/rdf:li&gt;
               &lt;rdf:li&gt;Magenta&lt;/rdf:li&gt;
               &lt;rdf:li&gt;Yellow&lt;/rdf:li&gt;
               &lt;rdf:li&gt;Black&lt;/rdf:li&gt;
               &lt;rdf:li&gt;Reuss&lt;/rdf:li&gt;
               &lt;rdf:li&gt;Sachsen&lt;/rdf:li&gt;
            &lt;/rdf:Seq&gt;
         &lt;/xmpTPg:PlateNames&gt;
         &lt;xmpTPg:SwatchGroups&gt;
            &lt;rdf:Seq&gt;
               &lt;rdf:li rdf:parseType="Resource"&gt;
                  &lt;xmpG:groupName&gt;Standard-Farbfeldgruppe&lt;/xmpG:groupName&gt;
                  &lt;xmpG:groupType&gt;0&lt;/xmpG:groupType&gt;
                  &lt;xmpG:Colorants&gt;
                     &lt;rdf:Seq&gt;
                        &lt;rdf:li rdf:parseType="Resource"&gt;
                           &lt;xmpG:swatchName&gt; schwarz&lt;/xmpG:swatchName&gt;
                           &lt;xmpG:mode&gt;CMYK&lt;/xmpG:mode&gt;
                           &lt;xmpG:type&gt;PROCESS&lt;/xmpG:type&gt;
                           &lt;xmpG:cyan&gt;0.000000&lt;/xmpG:cyan&gt;
                           &lt;xmpG:magenta&gt;0.000000&lt;/xmpG:magenta&gt;
                           &lt;xmpG:yellow&gt;0.000000&lt;/xmpG:yellow&gt;
                           &lt;xmpG:black&gt;100.000000&lt;/xmpG:black&gt;
                        &lt;/rdf:li&gt;
                        &lt;rdf:li rdf:parseType="Resource"&gt;
                           &lt;xmpG:swatchName&gt;20 Gelb&lt;/xmpG:swatchName&gt;
                           &lt;xmpG:mode&gt;CMYK&lt;/xmpG:mode&gt;
                           &lt;xmpG:type&gt;PROCESS&lt;/xmpG:type&gt;
                           &lt;xmpG:cyan&gt;0.000000&lt;/xmpG:cyan&gt;
                           &lt;xmpG:magenta&gt;0.000000&lt;/xmpG:magenta&gt;
                           &lt;xmpG:yellow&gt;20.000000&lt;/xmpG:yellow&gt;
                           &lt;xmpG:black&gt;0.000000&lt;/xmpG:black&gt;
                        &lt;/rdf:li&gt;
                        &lt;rdf:li rdf:parseType="Resource"&gt;
                           &lt;xmpG:swatchName&gt;50/50&lt;/xmpG:swatchName&gt;
                           &lt;xmpG:mode&gt;CMYK&lt;/xmpG:mode&gt;
                           &lt;xmpG:type&gt;PROCESS&lt;/xmpG:type&gt;
                           &lt;xmpG:cyan&gt;50.000000&lt;/xmpG:cyan&gt;
                           &lt;xmpG:magenta&gt;0.000000&lt;/xmpG:magenta&gt;
                           &lt;xmpG:yellow&gt;0.000000&lt;/xmpG:yellow&gt;
                           &lt;xmpG:black&gt;50.000000&lt;/xmpG:black&gt;
                        &lt;/rdf:li&gt;
                        &lt;rdf:li rdf:parseType="Resource"&gt;
                           &lt;xmpG:swatchName&gt;50/50&lt;/xmpG:swatchName&gt;
                           &lt;xmpG:mode&gt;CMYK&lt;/xmpG:mode&gt;
                           &lt;xmpG:type&gt;PROCESS&lt;/xmpG:type&gt;
                           &lt;xmpG:cyan&gt;50.000000&lt;/xmpG:cyan&gt;
                           &lt;xmpG:magenta&gt;0.000000&lt;/xmpG:magenta&gt;
                           &lt;xmpG:yellow&gt;0.000000&lt;/xmpG:yellow&gt;
                           &lt;xmpG:black&gt;50.000000&lt;/xmpG:black&gt;
                        &lt;/rdf:li&gt;
                        &lt;rdf:li rdf:parseType="Resource"&gt;
                           &lt;xmpG:swatchName&gt;Anhalt&lt;/xmpG:swatchName&gt;
                           &lt;xmpG:mode&gt;CMYK&lt;/xmpG:mode&gt;
                           &lt;xmpG:type&gt;PROCESS&lt;/xmpG:type&gt;
                           &lt;xmpG:cyan&gt;50.000000&lt;/xmpG:cyan&gt;
                           &lt;xmpG:magenta&gt;20.000000&lt;/xmpG:magenta&gt;
                           &lt;xmpG:yellow&gt;40.000000&lt;/xmpG:yellow&gt;
                           &lt;xmpG:black&gt;0.000000&lt;/xmpG:black&gt;
                        &lt;/rdf:li&gt;
                        &lt;rdf:li rdf:parseType="Resource"&gt;
                           &lt;xmpG:swatchName&gt;Anhalt&lt;/xmpG:swatchName&gt;
                           &lt;xmpG:mode&gt;CMYK&lt;/xmpG:mode&gt;
                           &lt;xmpG:type&gt;PROCESS&lt;/xmpG:type&gt;
                           &lt;xmpG:cyan&gt;50.000000&lt;/xmpG:cyan&gt;
                           &lt;xmpG:magenta&gt;20.000000&lt;/xmpG:magenta&gt;
                           &lt;xmpG:yellow&gt;40.000000&lt;/xmpG:yellow&gt;
                           &lt;xmpG:black&gt;0.000000&lt;/xmpG:black&gt;
                        &lt;/rdf:li&gt;
                        &lt;rdf:li rdf:parseType="Resource"&gt;
                           &lt;xmpG:swatchName&gt;OF&lt;/xmpG:swatchName&gt;
                           &lt;xmpG:mode&gt;CMYK&lt;/xmpG:mode&gt;
                           &lt;xmpG:type&gt;PROCESS&lt;/xmpG:type&gt;
                           &lt;xmpG:cyan&gt;50.000000&lt;/xmpG:cyan&gt;
                           &lt;xmpG:magenta&gt;25.000000&lt;/xmpG:magenta&gt;
                           &lt;xmpG:yellow&gt;50.000000&lt;/xmpG:yellow&gt;
                           &lt;xmpG:black&gt;0.000000&lt;/xmpG:black&gt;
                        &lt;/rdf:li&gt;
                        &lt;rdf:li rdf:parseType="Resource"&gt;
                           &lt;xmpG:swatchName&gt;Austria&lt;/xmpG:swatchName&gt;
                           &lt;xmpG:mode&gt;CMYK&lt;/xmpG:mode&gt;
                           &lt;xmpG:type&gt;PROCESS&lt;/xmpG:type&gt;
                           &lt;xmpG:cyan&gt;10.000000&lt;/xmpG:cyan&gt;
                           &lt;xmpG:magenta&gt;30.000000&lt;/xmpG:magenta&gt;
                           &lt;xmpG:yellow&gt;100.000000&lt;/xmpG:yellow&gt;
                           &lt;xmpG:black&gt;0.000000&lt;/xmpG:black&gt;
                        &lt;/rdf:li&gt;
                        &lt;rdf:li rdf:parseType="Resource"&gt;
                           &lt;xmpG:swatchName&gt;Austria2&lt;/xmpG:swatchName&gt;
                           &lt;xmpG:mode&gt;CMYK&lt;/xmpG:mode&gt;
                           &lt;xmpG:type&gt;PROCESS&lt;/xmpG:type&gt;
                           &lt;xmpG:cyan&gt;0.000000&lt;/xmpG:cyan&gt;
                           &lt;xmpG:magenta&gt;20.000000&lt;/xmpG:magenta&gt;
                           &lt;xmpG:yellow&gt;80.000000&lt;/xmpG:yellow&gt;
                           &lt;xmpG:black&gt;0.000000&lt;/xmpG:black&gt;
                        &lt;/rdf:li&gt;
                        &lt;rdf:li rdf:parseType="Resource"&gt;
                           &lt;xmpG:swatchName&gt;Baden&lt;/xmpG:swatchName&gt;
                           &lt;xmpG:mode&gt;CMYK&lt;/xmpG:mode&gt;
                           &lt;xmpG:type&gt;PROCESS&lt;/xmpG:type&gt;
                           &lt;xmpG:cyan&gt;0.000000&lt;/xmpG:cyan&gt;
                           &lt;xmpG:magenta&gt;40.000000&lt;/xmpG:magenta&gt;
                           &lt;xmpG:yellow&gt;70.000000&lt;/xmpG:yellow&gt;
                           &lt;xmpG:black&gt;5.000000&lt;/xmpG:black&gt;
                        &lt;/rdf:li&gt;
                        &lt;rdf:li rdf:parseType="Resource"&gt;
                           &lt;xmpG:swatchName&gt;Schweden&lt;/xmpG:swatchName&gt;
                           &lt;xmpG:mode&gt;CMYK&lt;/xmpG:mode&gt;
                           &lt;xmpG:type&gt;PROCESS&lt;/xmpG:type&gt;
                           &lt;xmpG:cyan&gt;10.000000&lt;/xmpG:cyan&gt;
                           &lt;xmpG:magenta&gt;55.000000&lt;/xmpG:magenta&gt;
                           &lt;xmpG:yellow&gt;80.000000&lt;/xmpG:yellow&gt;
                           &lt;xmpG:black&gt;10.000000&lt;/xmpG:black&gt;
                        &lt;/rdf:li&gt;
                        &lt;rdf:li rdf:parseType="Resource"&gt;
                           &lt;xmpG:swatchName&gt;Bavaria&lt;/xmpG:swatchName&gt;
                           &lt;xmpG:mode&gt;CMYK&lt;/xmpG:mode&gt;
                           &lt;xmpG:type&gt;PROCESS&lt;/xmpG:type&gt;
                           &lt;xmpG:cyan&gt;30.000000&lt;/xmpG:cyan&gt;
                           &lt;xmpG:magenta&gt;0.000000&lt;/xmpG:magenta&gt;
                           &lt;xmpG:yellow&gt;30.000000&lt;/xmpG:yellow&gt;
                           &lt;xmpG:black&gt;0.000000&lt;/xmpG:black&gt;
                        &lt;/rdf:li&gt;
                        &lt;rdf:li rdf:parseType="Resource"&gt;
                           &lt;xmpG:swatchName&gt;Mecklenburg&lt;/xmpG:swatchName&gt;
                           &lt;xmpG:mode&gt;CMYK&lt;/xmpG:mode&gt;
                           &lt;xmpG:type&gt;PROCESS&lt;/xmpG:type&gt;
                           &lt;xmpG:cyan&gt;25.000000&lt;/xmpG:cyan&gt;
                           &lt;xmpG:magenta&gt;20.000000&lt;/xmpG:magenta&gt;
                           &lt;xmpG:yellow&gt;30.000000&lt;/xmpG:yellow&gt;
                           &lt;xmpG:black&gt;5.000000&lt;/xmpG:black&gt;
                        &lt;/rdf:li&gt;
                        &lt;rdf:li rdf:parseType="Resource"&gt;
                           &lt;xmpG:swatchName&gt;Bavaria2&lt;/xmpG:swatchName&gt;
                           &lt;xmpG:mode&gt;CMYK&lt;/xmpG:mode&gt;
                           &lt;xmpG:type&gt;PROCESS&lt;/xmpG:type&gt;
                           &lt;xmpG:cyan&gt;50.000000&lt;/xmpG:cyan&gt;
                           &lt;xmpG:magenta&gt;0.000000&lt;/xmpG:magenta&gt;
                           &lt;xmpG:yellow&gt;50.000000&lt;/xmpG:yellow&gt;
                           &lt;xmpG:black&gt;0.000000&lt;/xmpG:black&gt;
                        &lt;/rdf:li&gt;
                        &lt;rdf:li rdf:parseType="Resource"&gt;
                           &lt;xmpG:swatchName&gt;Bavaria3&lt;/xmpG:swatchName&gt;
                           &lt;xmpG:mode&gt;CMYK&lt;/xmpG:mode&gt;
                           &lt;xmpG:type&gt;PROCESS&lt;/xmpG:type&gt;
                           &lt;xmpG:cyan&gt;80.000000&lt;/xmpG:cyan&gt;
                           &lt;xmpG:magenta&gt;0.000000&lt;/xmpG:magenta&gt;
                           &lt;xmpG:yellow&gt;80.000000&lt;/xmpG:yellow&gt;
                           &lt;xmpG:black&gt;0.000000&lt;/xmpG:black&gt;
                        &lt;/rdf:li&gt;
                        &lt;rdf:li rdf:parseType="Resource"&gt;
                           &lt;xmpG:swatchName&gt;DK+Old&lt;/xmpG:swatchName&gt;
                           &lt;xmpG:mode&gt;CMYK&lt;/xmpG:mode&gt;
                           &lt;xmpG:type&gt;PROCESS&lt;/xmpG:type&gt;
                           &lt;xmpG:cyan&gt;20.000000&lt;/xmpG:cyan&gt;
                           &lt;xmpG:magenta&gt;0.000000&lt;/xmpG:magenta&gt;
                           &lt;xmpG:yellow&gt;60.000000&lt;/xmpG:yellow&gt;
                           &lt;xmpG:black&gt;10.000000&lt;/xmpG:black&gt;
                        &lt;/rdf:li&gt;
                        &lt;rdf:li rdf:parseType="Resource"&gt;
                           &lt;xmpG:swatchName&gt;Grenzgruen&lt;/xmpG:swatchName&gt;
                           &lt;xmpG:mode&gt;CMYK&lt;/xmpG:mode&gt;
                           &lt;xmpG:type&gt;PROCESS&lt;/xmpG:type&gt;
                           &lt;xmpG:cyan&gt;50.000000&lt;/xmpG:cyan&gt;
                           &lt;xmpG:magenta&gt;5.000000&lt;/xmpG:magenta&gt;
                           &lt;xmpG:yellow&gt;100.000000&lt;/xmpG:yellow&gt;
                           &lt;xmpG:black&gt;0.000000&lt;/xmpG:black&gt;
                        &lt;/rdf:li&gt;
                        &lt;rdf:li rdf:parseType="Resource"&gt;
                           &lt;xmpG:swatchName&gt;Fluesse&lt;/xmpG:swatchName&gt;
                           &lt;xmpG:mode&gt;CMYK&lt;/xmpG:mode&gt;
                           &lt;xmpG:type&gt;PROCESS&lt;/xmpG:type&gt;
                           &lt;xmpG:cyan&gt;100.000000&lt;/xmpG:cyan&gt;
