<PAMDataset>
  <SRS>GEOGCS["WGS 84",DATUM["WGS_1984",SPHEROID["WGS 84",6378137,298.257223563,AUTHORITY["EPSG","7030"]],AUTHORITY["EPSG","6326"]],PRIMEM["Greenwich",0],UNIT["degree",0.0174532925199433],AUTHORITY["EPSG","4326"]]</SRS>
  <GeoTransform>  1.4351709859235735e+01,  5.4190677631578664e-03,  0.0000000000000000e+00,  6.2412863534959044e+01,  0.0000000000000000e+00, -5.4190677631578664e-03</GeoTransform>
  <Metadata domain="IMAGE_STRUCTURE">
    <MDI key="INTERLEAVE">PIXEL</MDI>
  </Metadata>
  <Metadata>
    <MDI key="AREA_OR_POINT">Area</MDI>
    <MDI key="EXIF_ColorSpace">1</MDI>
    <MDI key="EXIF_DateTime">2022:03:07 10:51:26</MDI>
    <MDI key="EXIF_DateTimeDigitized">2022:03:07 10:43:36</MDI>
    <MDI key="EXIF_DateTimeOriginal">2022:03:07 10:43:36</MDI>
    <MDI key="EXIF_Orientation">1</MDI>
    <MDI key="EXIF_Software">Windows Photo Editor 10.0.10011.16384</MDI>
    <MDI key="EXIF_SubSecTime_Digitized">00</MDI>
    <MDI key="EXIF_SubSecTime_Original">00</MDI>
  </Metadata>
</PAMDataset>
