<PAMDataset>
  <SRS>GEOGCS["WGS 84",DATUM["WGS_1984",SPHEROID["WGS 84",6378137,298.257223563,AUTHORITY["EPSG","7030"]],AUTHORITY["EPSG","6326"]],PRIMEM["Greenwich",0],UNIT["degree",0.0174532925199433],AUTHORITY["EPSG","4326"]]</SRS>
  <GeoTransform>  1.7679852142237743e+02,  8.3204788642931828e-05,  0.0000000000000000e+00, -1.7331240907548580e+01,  0.0000000000000000e+00, -8.3204788642931828e-05</GeoTransform>
  <Metadata domain="IMAGE_STRUCTURE">
    <MDI key="INTERLEAVE">PIXEL</MDI>
  </Metadata>
  <Metadata>
    <MDI key="AREA_OR_POINT">Area</MDI>
    <MDI key="EXIF_BitsPerSample">8 8 8</MDI>
    <MDI key="EXIF_ColorSpace">65535</MDI>
    <MDI key="EXIF_Compression">1</MDI>
    <MDI key="EXIF_DateTime">2017:12:19 12:42:23</MDI>
    <MDI key="EXIF_Inter_Color_Profile">00 00 0x2 0x30 0x41 0x44 0x42 0x45 0x2 0x10 00 00 0x6d 0x6e 0x74 0x72 0x52 0x47 0x42 0x20 0x58 0x59 0x5a 0x20 0x7 0xcf 00 0x6 00 0x3 00 00 00 00 00 00 0x61 0x63 0x73 0x70 0x41 0x50 0x50 0x4c 00 00 00 00 0x6e 0x6f 0x6e 0x65 00 00 00 00 00 00 00 00 00 00 00 00 00 00 00 00 00 00 0xf6 0xd6 00 0x1 00 00 00 00 0xd3 0x2d 0x41 0x44 0x42 0x45 00 00 00 00 00 00 00 00 00 00 00 00 00 00 00 00 00 00 00 00 00 00 00 00 00 00 00 00 00 00 00 00 00 00 00 00 00 00 00 00 00 00 00 00 00 00 00 0xa 0x63 0x70 0x72 0x74 00 00 00 0xfc 00 00 00 0x32 0x64 0x65 0x73 0x63 00 00 0x1 0x30 00 00 00 0x6b 0x77 0x74 0x70 0x74 00 00 0x1 0x9c 00 00 00 0x14 0x62 0x6b 0x70 0x74 00 00 0x1 0xb0 00 00 00 0x14 0x72 0x54 0x52 0x43 00 00 0x1 0xc4 00 00 00 0xe 0x67 0x54 0x52 0x43 00 00 0x1 0xd4 00 00 00 0xe 0x62 0x54 0x52 0x43 00 00 0x1 0xe4 00 00 00 0xe 0x72 0x58 0x59 0x5a 00 00 0x1 0xf4 00 00 00 0x14 0x67 0x58 0x59 0x5a 00 00 0x2 0x8 00 00 00 0x14 0x62 0x58 0x59 0x5a 00 00 0x2 0x1c 00 00 00 0x14 0x74 0x65 0x78 0x74 00 00 00 00 0x43 0x6f 0x70 0x79 0x72 0x69 0x67 0x68 0x74 0x20 0x31 0x39 0x39 0x39 0x20 0x41 0x64 0x6f 0x62 0x65 0x20 0x53 0x79 0x73 0x74 0x65 0x6d 0x73 0x20 0x49 0x6e 0x63 0x6f 0x72 0x70 0x6f 0x72 0x61 0x74 0x65 0x64 00 00 00 0x64 0x65 0x73 0x63 00 00 00 00 00 00 00 0x11 0x41 0x64 0x6f 0x62 0x65 0x20 0x52 0x47 0x42 0x20 0x28 0x31 0x39 0x39 0x38 0x29 00 00 00 00 00 00 00 00 00 00 00 00 00 00 00 00 00 00 00 00 00 00 00 00 00 00 00 00 00 00 00 00 00 00 00 00 00 00 00 00 00 00 00 00 00 00 00 00 00 00 00 00 00 00 00 00 00 00 00 00 00 00 00 00 00 00 00 00 00 00 00 00 00 00 00 00 00 00 00 00 0x58 0x59 0x5a 0x20 00 00 00 00 00 00 0xf3 0x51 00 0x1 00 00 00 0x1 0x16 0xcc 0x58 0x59 0x5a 0x20 00 00 00 00 00 00 00 00 00 00 00 00 00 00 00 00 0x63 0x75 0x72 0x76 00 00 00 00 00 00 00 0x1 0x2 0x33 00 00 0x63 0x75 0x72 0x76 00 00 00 00 00 00 00 0x1 0x2 0x33 00 00 0x63 0x75 0x72 0x76 00 00 00 00 00 00 00 0x1 0x2 0x33 00 00 0x58 0x59 0x5a 0x20 00 00 00 00 00 00 0x9c 0x18 00 00 0x4f 0xa5 00 00 0x4 0xfc 0x58 0x59 0x5a 0x20 00 00 00 00 00 00 0x34 0x8d 00 00 0xa0 0x2c 00 00 0xf 0x95 0x58 0x59 0x5a 0x20 00 00 00 00 00 00 0x26 0x31 00 00 0x10 0x2f 00 00 0xbe 0x9c</MDI>
    <MDI key="EXIF_PhotometricInterpretation">2</MDI>
    <MDI key="EXIF_PixelXDimension">21116</MDI>
    <MDI key="EXIF_PixelYDimension">24012</MDI>
    <MDI key="EXIF_PlanarConfiguration">1</MDI>
    <MDI key="EXIF_ResolutionUnit">2</MDI>
    <MDI key="EXIF_RowsPerStrip">24012</MDI>
    <MDI key="EXIF_SamplesPerPixel">3</MDI>
    <MDI key="EXIF_Software">paint.net 4.2.10</MDI>
    <MDI key="EXIF_XResolution">(400)</MDI>
    <MDI key="EXIF_YResolution">(400)</MDI>
  </Metadata>
</PAMDataset>
