<PAMDataset>
  <SRS>GEOGCS["WGS 84",DATUM["WGS_1984",SPHEROID["WGS 84",6378137,298.257223563,AUTHORITY["EPSG","7030"]],AUTHORITY["EPSG","6326"]],PRIMEM["Greenwich",0],UNIT["degree",0.0174532925199433],AUTHORITY["EPSG","4326"]]</SRS>
  <GeoTransform>  1.4736363178038766e+02,  4.9603947457631501e-07,  0.0000000000000000e+00, -3.5110991515572785e+01,  0.0000000000000000e+00, -4.9603947457631501e-07</GeoTransform>
  <Metadata domain="IMAGE_STRUCTURE">
    <MDI key="INTERLEAVE">PIXEL</MDI>
  </Metadata>
  <Metadata>
    <MDI key="AREA_OR_POINT">Area</MDI>
    <MDI key="EXIF_ApertureValue">(2.97085)</MDI>
    <MDI key="EXIF_BitsPerSample">8 8 8</MDI>
    <MDI key="EXIF_ColorSpace">1</MDI>
    <MDI key="EXIF_Contrast">0</MDI>
    <MDI key="EXIF_CustomRendered">0</MDI>
    <MDI key="EXIF_DateTime">2021:05:31 13:37:41</MDI>
    <MDI key="EXIF_DateTimeDigitized">2021:05:27 10:33:33</MDI>
    <MDI key="EXIF_DateTimeOriginal">2021:05:27 10:33:33</MDI>
    <MDI key="EXIF_DigitalZoomRatio">(1)</MDI>
    <MDI key="EXIF_ExifVersion">0231</MDI>
    <MDI key="EXIF_ExposureBiasValue">(0)</MDI>
    <MDI key="EXIF_ExposureMode">0</MDI>
    <MDI key="EXIF_ExposureProgram">2</MDI>
    <MDI key="EXIF_ExposureTime">(0.003125)</MDI>
    <MDI key="EXIF_FileSource">0x3</MDI>
    <MDI key="EXIF_Flash">32</MDI>
    <MDI key="EXIF_FNumber">(2.8)</MDI>
    <MDI key="EXIF_FocalLength">(4.49)</MDI>
    <MDI key="EXIF_FocalLengthIn35mmFilm">24</MDI>
    <MDI key="EXIF_GainControl">0</MDI>
    <MDI key="EXIF_GPSAltitude">(178.5)</MDI>
    <MDI key="EXIF_GPSLatitude">(35) (6) (44.255)</MDI>
    <MDI key="EXIF_GPSLatitudeRef">S</MDI>
    <MDI key="EXIF_GPSLongitude">(147) (21) (53.257)</MDI>
    <MDI key="EXIF_GPSLongitudeRef">E</MDI>
    <MDI key="EXIF_ISOSpeedRatings">100</MDI>
    <MDI key="EXIF_LightSource">1</MDI>
    <MDI key="EXIF_Make">DJI</MDI>
    <MDI key="EXIF_MaxApertureValue">(2.97)</MDI>
    <MDI key="EXIF_MeteringMode">3</MDI>
    <MDI key="EXIF_Model">FC7303</MDI>
    <MDI key="EXIF_Orientation">1</MDI>
    <MDI key="EXIF_PixelXDimension">3068</MDI>
    <MDI key="EXIF_PixelYDimension">5000</MDI>
    <MDI key="EXIF_ResolutionUnit">2</MDI>
    <MDI key="EXIF_SamplesPerPixel">3</MDI>
    <MDI key="EXIF_Saturation">0</MDI>
    <MDI key="EXIF_SceneCaptureType">0</MDI>
    <MDI key="EXIF_SceneType">0x1</MDI>
    <MDI key="EXIF_Sharpness">0</MDI>
    <MDI key="EXIF_ShutterSpeedValue">(8.32193)</MDI>
    <MDI key="EXIF_Software">Adobe Photoshop 22.3 (Windows)</MDI>
    <MDI key="EXIF_SubjectDistance">(0)</MDI>
    <MDI key="EXIF_SubjectDistanceRange">0</MDI>
    <MDI key="EXIF_WhiteBalance">0</MDI>
    <MDI key="EXIF_XResolution">(300)</MDI>
    <MDI key="EXIF_YResolution">(300)</MDI>
  </Metadata>
</PAMDataset>
