<PAMDataset>
  <SRS>GEOGCS["WGS 84",DATUM["WGS_1984",SPHEROID["WGS 84",6378137,298.257223563,AUTHORITY["EPSG","7030"]],AUTHORITY["EPSG","6326"]],PRIMEM["Greenwich",0],UNIT["degree",0.0174532925199433],AUTHORITY["EPSG","4326"]]</SRS>
  <GeoTransform>  2.4135686408506441e+01,  1.5927578436747002e-05,  0.0000000000000000e+00,  4.5812274856233365e+01,  0.0000000000000000e+00, -1.5927578436747002e-05</GeoTransform>
  <Metadata domain="IMAGE_STRUCTURE">
    <MDI key="INTERLEAVE">PIXEL</MDI>
  </Metadata>
  <Metadata>
    <MDI key="AREA_OR_POINT">Area</MDI>
    <MDI key="EXIF_ExifVersion">0210</MDI>
    <MDI key="EXIF_ImageUniqueID">562ce0af4702f0b3bed5a2478168585f</MDI>
    <MDI key="EXIF_Interoperability_Version">0x30 0x31 0x30 0x30</MDI>
    <MDI key="EXIF_PixelXDimension">1360</MDI>
    <MDI key="EXIF_PixelYDimension">2048</MDI>
    <MDI key="EXIF_Software">Picasa 3.0</MDI>
  </Metadata>
</PAMDataset>
