<PAMDataset>
  <SRS dataAxisToSRSAxisMapping="2,1">GEOGCS["WGS 84",DATUM["WGS_1984",SPHEROID["WGS 84",6378137,298.257223563,AUTHORITY["EPSG","7030"]],AUTHORITY["EPSG","6326"]],PRIMEM["Greenwich",0],UNIT["degree",0.0174532925199433,AUTHORITY["EPSG","9122"]],AXIS["Latitude",NORTH],AXIS["Longitude",EAST],AUTHORITY["EPSG","4326"]]</SRS>
  <GeoTransform>  9.7188926238633542e+00,  2.5259063616236677e-03,  0.0000000000000000e+00,  6.7304937136631665e+01,  0.0000000000000000e+00, -2.5259063616236677e-03</GeoTransform>
  <Metadata domain="IMAGE_STRUCTURE">
    <MDI key="INTERLEAVE">PIXEL</MDI>
  </Metadata>
  <Metadata>
    <MDI key="AREA_OR_POINT">Area</MDI>
    <MDI key="EXIF_ColorSpace">1</MDI>
    <MDI key="EXIF_DateTime">2022:06:03 10:34:32</MDI>
    <MDI key="EXIF_DateTimeDigitized">2022:06:03 09:33:44</MDI>
    <MDI key="EXIF_DateTimeOriginal">2022:06:03 09:33:44</MDI>
    <MDI key="EXIF_Orientation">1</MDI>
    <MDI key="EXIF_Software">Windows Photo Editor 10.0.10011.16384</MDI>
    <MDI key="EXIF_SubSecTime_Digitized">00</MDI>
    <MDI key="EXIF_SubSecTime_Original">00</MDI>
  </Metadata>
</PAMDataset>
