<PAMDataset>
  <SRS dataAxisToSRSAxisMapping="2,1">GEOGCS["WGS 84",DATUM["WGS_1984",SPHEROID["WGS 84",6378137,298.257223563,AUTHORITY["EPSG","7030"]],AUTHORITY["EPSG","6326"]],PRIMEM["Greenwich",0],UNIT["degree",0.0174532925199433,AUTHORITY["EPSG","9122"]],AXIS["Latitude",NORTH],AXIS["Longitude",EAST],AUTHORITY["EPSG","4326"]]</SRS>
  <GeoTransform> -7.3972105286694813e+01,  6.9633377283828842e-05,  0.0000000000000000e+00,  4.0919015578044032e+01,  0.0000000000000000e+00, -6.9633377283828842e-05</GeoTransform>
  <Metadata domain="IMAGE_STRUCTURE">
    <MDI key="INTERLEAVE">PIXEL</MDI>
  </Metadata>
  <Metadata>
    <MDI key="AREA_OR_POINT">Area</MDI>
    <MDI key="Author">User:DutchTreat</MDI>
    <MDI key="Created">2022-06-05T08:07:25</MDI>
    <MDI key="Creator">QGIS 3.18.3-Zürich</MDI>
    <MDI key="Producer">QGIS 3.18.3-Zürich</MDI>
  </Metadata>
</PAMDataset>
