<PAMDataset>
  <SRS dataAxisToSRSAxisMapping="2,1">GEOGCS["WGS 84",DATUM["WGS_1984",SPHEROID["WGS 84",6378137,298.257223563,AUTHORITY["EPSG","7030"]],AUTHORITY["EPSG","6326"]],PRIMEM["Greenwich",0],UNIT["degree",0.0174532925199433,AUTHORITY["EPSG","9122"]],AXIS["Latitude",NORTH],AXIS["Longitude",EAST],AUTHORITY["EPSG","4326"]]</SRS>
  <GeoTransform>  5.0355986236157211e+00,  3.2302754955532331e-05,  0.0000000000000000e+00,  4.9806007697410635e+01,  0.0000000000000000e+00, -3.2302754955532331e-05</GeoTransform>
  <Metadata domain="IMAGE_STRUCTURE">
    <MDI key="INTERLEAVE">PIXEL</MDI>
  </Metadata>
  <Metadata>
    <MDI key="AREA_OR_POINT">Area</MDI>
    <MDI key="COMMENT">Texte = Tekst + images = afbeeldingen</MDI>
    <MDI key="EXIF_Artist">Cosyn, Maurice</MDI>
    <MDI key="EXIF_ColorSpace">65535</MDI>
    <MDI key="EXIF_ComponentsConfiguration">0x01 0x02 0x03 0x00</MDI>
    <MDI key="EXIF_Copyright">BE-KBR00</MDI>
    <MDI key="EXIF_DateTime">2021:12:14 10:17:37</MDI>
    <MDI key="EXIF_DateTimeDigitized">2021:12:14 10:17:37</MDI>
    <MDI key="EXIF_DateTimeOriginal">2021:12:14 10:17:37</MDI>
    <MDI key="EXIF_ExifVersion">0230</MDI>
    <MDI key="EXIF_FlashpixVersion">0100</MDI>
    <MDI key="EXIF_ImageDescription">Texte = Tekst + images = afbeeldingen</MDI>
    <MDI key="EXIF_Make">i2S, Corp.</MDI>
    <MDI key="EXIF_Model">CopiBook OS A2 [SN: ] - Eagle 50mm [SN: 414002]</MDI>
    <MDI key="EXIF_ResolutionUnit">2</MDI>
    <MDI key="EXIF_Software">LIBFORMAT (c) Pierre-e Gougelet</MDI>
    <MDI key="EXIF_XResolution">(300)</MDI>
    <MDI key="EXIF_YCbCrPositioning">1</MDI>
    <MDI key="EXIF_YResolution">(300)</MDI>
  </Metadata>
</PAMDataset>
