<PAMDataset>
  <SRS dataAxisToSRSAxisMapping="2,1">GEOGCS["WGS 84",DATUM["WGS_1984",SPHEROID["WGS 84",6378137,298.257223563,AUTHORITY["EPSG","7030"]],AUTHORITY["EPSG","6326"]],PRIMEM["Greenwich",0],UNIT["degree",0.0174532925199433,AUTHORITY["EPSG","9122"]],AXIS["Latitude",NORTH],AXIS["Longitude",EAST],AUTHORITY["EPSG","4326"]]</SRS>
  <GeoTransform>  9.5700401266855437e+01,  2.0793956536795707e-04,  0.0000000000000000e+00,  2.8289333538538450e+01,  0.0000000000000000e+00, -2.0793956536795707e-04</GeoTransform>
  <Metadata domain="IMAGE_STRUCTURE">
    <MDI key="INTERLEAVE">PIXEL</MDI>
  </Metadata>
  <Metadata>
    <MDI key="AREA_OR_POINT">Area</MDI>
    <MDI key="EXIF_ColorSpace">65535</MDI>
    <MDI key="EXIF_DateTime">2022:03:07 11:03:21</MDI>
    <MDI key="EXIF_Orientation">1</MDI>
    <MDI key="EXIF_PixelXDimension">6644</MDI>
    <MDI key="EXIF_PixelYDimension">5024</MDI>
    <MDI key="EXIF_ResolutionUnit">2</MDI>
    <MDI key="EXIF_Software">Adobe Photoshop CS4 Macintosh</MDI>
    <MDI key="EXIF_XResolution">(300)</MDI>
    <MDI key="EXIF_YResolution">(300)</MDI>
  </Metadata>
</PAMDataset>
