<PAMDataset>
  <SRS dataAxisToSRSAxisMapping="2,1">GEOGCS["WGS 84",DATUM["WGS_1984",SPHEROID["WGS 84",6378137,298.257223563,AUTHORITY["EPSG","7030"]],AUTHORITY["EPSG","6326"]],PRIMEM["Greenwich",0],UNIT["degree",0.0174532925199433,AUTHORITY["EPSG","9122"]],AXIS["Latitude",NORTH],AXIS["Longitude",EAST],AUTHORITY["EPSG","4326"]]</SRS>
  <GeoTransform>  8.0842271412717288e+00,  1.7653780567956955e-04,  0.0000000000000000e+00,  4.4996406445347567e+01,  0.0000000000000000e+00, -1.7653780567956955e-04</GeoTransform>
  <Metadata domain="IMAGE_STRUCTURE">
    <MDI key="INTERLEAVE">PIXEL</MDI>
  </Metadata>
  <Metadata>
    <MDI key="AREA_OR_POINT">Area</MDI>
    <MDI key="XML_com.adobe.xmp">&lt;x:xmpmeta xmlns:x="adobe:ns:meta/" x:xmptk="XMP Core 6.0.0"&gt;
   &lt;rdf:RDF xmlns:rdf="http://www.w3.org/1999/02/22-rdf-syntax-ns#"&gt;
      &lt;rdf:Description rdf:about=""
            xmlns:exif="http://ns.adobe.com/exif/1.0/"&gt;
         &lt;exif:PixelYDimension&gt;1100&lt;/exif:PixelYDimension&gt;
         &lt;exif:PixelXDimension&gt;1168&lt;/exif:PixelXDimension&gt;
         &lt;exif:UserComment&gt;Screenshot&lt;/exif:UserComment&gt;
      &lt;/rdf:Description&gt;
   &lt;/rdf:RDF&gt;
&lt;/x:xmpmeta&gt;
</MDI>
  </Metadata>
</PAMDataset>
