<PAMDataset>
  <SRS dataAxisToSRSAxisMapping="2,1">GEOGCS["WGS 84",DATUM["WGS_1984",SPHEROID["WGS 84",6378137,298.257223563,AUTHORITY["EPSG","7030"]],AUTHORITY["EPSG","6326"]],PRIMEM["Greenwich",0],UNIT["degree",0.0174532925199433,AUTHORITY["EPSG","9122"]],AXIS["Latitude",NORTH],AXIS["Longitude",EAST],AUTHORITY["EPSG","4326"]]</SRS>
  <GeoTransform>  1.4704396765789230e+02,  2.3366194974951446e-04,  0.0000000000000000e+00, -7.5634576268556328e+00,  0.0000000000000000e+00, -2.3366194974951446e-04</GeoTransform>
  <Metadata domain="IMAGE_STRUCTURE">
    <MDI key="INTERLEAVE">PIXEL</MDI>
  </Metadata>
  <Metadata>
    <MDI key="AREA_OR_POINT">Area</MDI>
    <MDI key="EXIF_BitsPerSample">8 8 8</MDI>
    <MDI key="EXIF_Compression">1</MDI>
    <MDI key="EXIF_DateTime">2014:07:01 07:46:36</MDI>
    <MDI key="EXIF_Orientation">1</MDI>
    <MDI key="EXIF_PhotometricInterpretation">2</MDI>
    <MDI key="EXIF_PlanarConfiguration">1</MDI>
    <MDI key="EXIF_ResolutionUnit">2</MDI>
    <MDI key="EXIF_RowsPerStrip">8277</MDI>
    <MDI key="EXIF_SamplesPerPixel">3</MDI>
    <MDI key="EXIF_Software">Adobe Photoshop CS5 Windows</MDI>
    <MDI key="EXIF_StripByteCounts">257199498</MDI>
    <MDI key="EXIF_StripOffsets">20774</MDI>
    <MDI key="EXIF_XResolution">(300)</MDI>
    <MDI key="EXIF_YResolution">(300)</MDI>
  </Metadata>
</PAMDataset>
