<PAMDataset>
  <SRS dataAxisToSRSAxisMapping="2,1">GEOGCS["WGS 84",DATUM["WGS_1984",SPHEROID["WGS 84",6378137,298.257223563,AUTHORITY["EPSG","7030"]],AUTHORITY["EPSG","6326"]],PRIMEM["Greenwich",0],UNIT["degree",0.0174532925199433,AUTHORITY["EPSG","9122"]],AXIS["Latitude",NORTH],AXIS["Longitude",EAST],AUTHORITY["EPSG","4326"]]</SRS>
  <GeoTransform>  1.7338717912997492e+02,  3.8423431091233011e-05,  0.0000000000000000e+00, -3.5209111027837423e+01,  0.0000000000000000e+00, -3.8423431091233011e-05</GeoTransform>
  <Metadata domain="IMAGE_STRUCTURE">
    <MDI key="INTERLEAVE">PIXEL</MDI>
  </Metadata>
  <Metadata>
    <MDI key="AREA_OR_POINT">Area</MDI>
    <MDI key="EXIF_ApertureValue">(6.91886)</MDI>
    <MDI key="EXIF_BitsPerSample">8 8 8</MDI>
    <MDI key="EXIF_CFAPattern">0x00 0x02 0x00 0x02 0x00 0x01 0x01 0x02</MDI>
    <MDI key="EXIF_ColorSpace">1</MDI>
    <MDI key="EXIF_Compression">1</MDI>
    <MDI key="EXIF_Contrast">0</MDI>
    <MDI key="EXIF_CustomRendered">0</MDI>
    <MDI key="EXIF_DateTime">2014:12:16 08:55:22</MDI>
    <MDI key="EXIF_DateTimeDigitized">2014:12:15 15:16:59</MDI>
    <MDI key="EXIF_DateTimeOriginal">2014:12:15 15:16:59</MDI>
    <MDI key="EXIF_DigitalZoomRatio">(1)</MDI>
    <MDI key="EXIF_ExifVersion">0230</MDI>
    <MDI key="EXIF_ExposureBiasValue">(0)</MDI>
    <MDI key="EXIF_ExposureMode">1</MDI>
    <MDI key="EXIF_ExposureProgram">1</MDI>
    <MDI key="EXIF_ExposureTime">(0.0025)</MDI>
    <MDI key="EXIF_FileSource">0x03</MDI>
    <MDI key="EXIF_Flash">16</MDI>
    <MDI key="EXIF_FlashpixVersion">0100</MDI>
    <MDI key="EXIF_FNumber">(11)</MDI>
    <MDI key="EXIF_FocalLength">(32)</MDI>
    <MDI key="EXIF_FocalLengthIn35mmFilm">32</MDI>
    <MDI key="EXIF_GainControl">2</MDI>
    <MDI key="EXIF_GPSVersionID">0x02 0x03 0x00 0x00</MDI>
    <MDI key="EXIF_ISOSpeedRatings">3200</MDI>
    <MDI key="EXIF_LightSource">9</MDI>
    <MDI key="EXIF_Make">NIKON CORPORATION</MDI>
    <MDI key="EXIF_MaxApertureValue">(3)</MDI>
    <MDI key="EXIF_MeteringMode">5</MDI>
    <MDI key="EXIF_Model">NIKON D800</MDI>
    <MDI key="EXIF_Orientation">1</MDI>
    <MDI key="EXIF_PhotometricInterpretation">2</MDI>
    <MDI key="EXIF_PixelXDimension">4656</MDI>
    <MDI key="EXIF_PixelYDimension">6848</MDI>
    <MDI key="EXIF_PlanarConfiguration">1</MDI>
    <MDI key="EXIF_ResolutionUnit">2</MDI>
    <MDI key="EXIF_SamplesPerPixel">3</MDI>
    <MDI key="EXIF_Saturation">0</MDI>
    <MDI key="EXIF_SceneCaptureType">0</MDI>
    <MDI key="EXIF_SceneType">0x01</MDI>
    <MDI key="EXIF_SensingMethod">2</MDI>
    <MDI key="EXIF_SensitivityType">2</MDI>
    <MDI key="EXIF_Sharpness">0</MDI>
    <MDI key="EXIF_ShutterSpeedValue">(8.64386)</MDI>
    <MDI key="EXIF_Software">Adobe Photoshop CC 2014 (Windows)</MDI>
    <MDI key="EXIF_SubjectDistanceRange">0</MDI>
    <MDI key="EXIF_SubSecTime">70</MDI>
    <MDI key="EXIF_SubSecTime_Digitized">70</MDI>
    <MDI key="EXIF_SubSecTime_Original">70</MDI>
    <MDI key="EXIF_WhiteBalance">1</MDI>
    <MDI key="EXIF_XResolution">(300)</MDI>
    <MDI key="EXIF_YResolution">(300)</MDI>
  </Metadata>
</PAMDataset>
