<PAMDataset>
  <SRS dataAxisToSRSAxisMapping="2,1">GEOGCS["WGS 84",DATUM["WGS_1984",SPHEROID["WGS 84",6378137,298.257223563,AUTHORITY["EPSG","7030"]],AUTHORITY["EPSG","6326"]],PRIMEM["Greenwich",0],UNIT["degree",0.0174532925199433,AUTHORITY["EPSG","9122"]],AXIS["Latitude",NORTH],AXIS["Longitude",EAST],AUTHORITY["EPSG","4326"]]</SRS>
  <GeoTransform>  2.0580180143921272e+01,  7.6934592186146846e-05,  0.0000000000000000e+00,  3.9143212319615841e+01,  0.0000000000000000e+00, -7.6934592186146846e-05</GeoTransform>
  <Metadata domain="IMAGE_STRUCTURE">
    <MDI key="INTERLEAVE">PIXEL</MDI>
  </Metadata>
  <Metadata>
    <MDI key="AREA_OR_POINT">Area</MDI>
    <MDI key="TIFFTAG_DATETIME">2006:09:28 09:44:32</MDI>
    <MDI key="TIFFTAG_RESOLUTIONUNIT">3 (pixels/cm)</MDI>
    <MDI key="TIFFTAG_SOFTWARE">Adobe Photoshop 7.0</MDI>
    <MDI key="TIFFTAG_XRESOLUTION">118.1102</MDI>
    <MDI key="TIFFTAG_YRESOLUTION">118.1102</MDI>
  </Metadata>
</PAMDataset>
