<PAMDataset>
  <SRS dataAxisToSRSAxisMapping="2,1">GEOGCS["WGS 84",DATUM["WGS_1984",SPHEROID["WGS 84",6378137,298.257223563,AUTHORITY["EPSG","7030"]],AUTHORITY["EPSG","6326"]],PRIMEM["Greenwich",0],UNIT["degree",0.0174532925199433,AUTHORITY["EPSG","9122"]],AXIS["Latitude",NORTH],AXIS["Longitude",EAST],AUTHORITY["EPSG","4326"]]</SRS>
  <GeoTransform> -6.6934273207290730e+01,  1.7137387829273571e-04,  0.0000000000000000e+00,  1.0515306151165460e+01,  0.0000000000000000e+00, -1.7137387829273571e-04</GeoTransform>
  <Metadata domain="IMAGE_STRUCTURE">
    <MDI key="INTERLEAVE">PIXEL</MDI>
  </Metadata>
  <Metadata>
    <MDI key="AREA_OR_POINT">Area</MDI>
    <MDI key="XML_com.adobe.xmp">&lt;?xpacket begin="&#xFEFF;" id="W5M0MpCehiHzreSzNTczkc9d"?&gt;
&lt;x:xmpmeta xmlns:x="adobe:ns:meta/" x:xmptk="Adobe XMP Core 5.6-c138 79.159824, 2016/09/14-01:09:01        "&gt;
   &lt;rdf:RDF xmlns:rdf="http://www.w3.org/1999/02/22-rdf-syntax-ns#"&gt;
      &lt;rdf:Description rdf:about=""
            xmlns:xmp="http://ns.adobe.com/xap/1.0/"
            xmlns:xmpMM="http://ns.adobe.com/xap/1.0/mm/"
            xmlns:stEvt="http://ns.adobe.com/xap/1.0/sType/ResourceEvent#"
            xmlns:dc="http://purl.org/dc/elements/1.1/"
            xmlns:photoshop="http://ns.adobe.com/photoshop/1.0/"
            xmlns:tiff="http://ns.adobe.com/tiff/1.0/"
            xmlns:exif="http://ns.adobe.com/exif/1.0/"&gt;
         &lt;xmp:CreatorTool&gt;Adobe Photoshop CC 2017 (Windows)&lt;/xmp:CreatorTool&gt;
         &lt;xmp:CreateDate&gt;2022-10-30T14:43:55-03:00&lt;/xmp:CreateDate&gt;
         &lt;xmp:MetadataDate&gt;2022-10-30T14:43:55-03:00&lt;/xmp:MetadataDate&gt;
         &lt;xmp:ModifyDate&gt;2022-10-30T14:43:55-03:00&lt;/xmp:ModifyDate&gt;
         &lt;xmpMM:InstanceID&gt;xmp.iid:ac0df570-4e7a-834c-916f-48516f664ea3&lt;/xmpMM:InstanceID&gt;
         &lt;xmpMM:DocumentID&gt;adobe:docid:photoshop:6100e963-587a-11ed-941c-9d3f7ed73cd8&lt;/xmpMM:DocumentID&gt;
         &lt;xmpMM:OriginalDocumentID&gt;xmp.did:a880f047-ac7a-ed4d-a73f-5840491ed519&lt;/xmpMM:OriginalDocumentID&gt;
         &lt;xmpMM:History&gt;
            &lt;rdf:Seq&gt;
               &lt;rdf:li rdf:parseType="Resource"&gt;
                  &lt;stEvt:action&gt;created&lt;/stEvt:action&gt;
                  &lt;stEvt:instanceID&gt;xmp.iid:a880f047-ac7a-ed4d-a73f-5840491ed519&lt;/stEvt:instanceID&gt;
                  &lt;stEvt:when&gt;2022-10-30T14:43:55-03:00&lt;/stEvt:when&gt;
                  &lt;stEvt:softwareAgent&gt;Adobe Photoshop CC 2017 (Windows)&lt;/stEvt:softwareAgent&gt;
               &lt;/rdf:li&gt;
               &lt;rdf:li rdf:parseType="Resource"&gt;
                  &lt;stEvt:action&gt;saved&lt;/stEvt:action&gt;
                  &lt;stEvt:instanceID&gt;xmp.iid:ac0df570-4e7a-834c-916f-48516f664ea3&lt;/stEvt:instanceID&gt;
                  &lt;stEvt:when&gt;2022-10-30T14:43:55-03:00&lt;/stEvt:when&gt;
                  &lt;stEvt:softwareAgent&gt;Adobe Photoshop CC 2017 (Windows)&lt;/stEvt:softwareAgent&gt;
                  &lt;stEvt:changed&gt;/&lt;/stEvt:changed&gt;
               &lt;/rdf:li&gt;
            &lt;/rdf:Seq&gt;
         &lt;/xmpMM:History&gt;
         &lt;dc:format&gt;image/png&lt;/dc:format&gt;
         &lt;photoshop:ColorMode&gt;3&lt;/photoshop:ColorMode&gt;
         &lt;tiff:Orientation&gt;1&lt;/tiff:Orientation&gt;
         &lt;tiff:XResolution&gt;720000/10000&lt;/tiff:XResolution&gt;
         &lt;tiff:YResolution&gt;720000/10000&lt;/tiff:YResolution&gt;
         &lt;tiff:ResolutionUnit&gt;2&lt;/tiff:ResolutionUnit&gt;
         &lt;exif:ColorSpace&gt;1&lt;/exif:ColorSpace&gt;
         &lt;exif:PixelXDimension&gt;261&lt;/exif:PixelXDimension&gt;
         &lt;exif:PixelYDimension&gt;160&lt;/exif:PixelYDimension&gt;
      &lt;/rdf:Description&gt;
   &lt;/rdf:RDF&gt;
&lt;/x:xmpmeta&gt;
&lt;?xpacket end="w"?&gt;</MDI>
  </Metadata>
</PAMDataset>
