<PAMDataset>
  <SRS dataAxisToSRSAxisMapping="2,1">GEOGCS["WGS 84",DATUM["WGS_1984",SPHEROID["WGS 84",6378137,298.257223563,AUTHORITY["EPSG","7030"]],AUTHORITY["EPSG","6326"]],PRIMEM["Greenwich",0],UNIT["degree",0.0174532925199433,AUTHORITY["EPSG","9122"]],AXIS["Latitude",NORTH],AXIS["Longitude",EAST],AUTHORITY["EPSG","4326"]]</SRS>
  <GeoTransform>  1.2692641061673233e+02,  6.8259197627070008e-05,  0.0000000000000000e+00,  3.7606711156160607e+01,  0.0000000000000000e+00, -6.8259197627070008e-05</GeoTransform>
  <Metadata domain="IMAGE_STRUCTURE">
    <MDI key="INTERLEAVE">PIXEL</MDI>
  </Metadata>
  <Metadata>
    <MDI key="AREA_OR_POINT">Area</MDI>
    <MDI key="EXIF_DateTime">2016:05:31 09:56:33</MDI>
    <MDI key="EXIF_DateTimeDigitized">2016:05:31 09:56:33</MDI>
    <MDI key="EXIF_DateTimeOriginal">2016:05:31 09:56:33</MDI>
    <MDI key="EXIF_ExifVersion">0220</MDI>
    <MDI key="EXIF_FileSource">0x03</MDI>
    <MDI key="EXIF_ImageDescription">07619_1</MDI>
    <MDI key="EXIF_Make">Joint Photographic Experts Group</MDI>
    <MDI key="EXIF_Model">Jpeg File</MDI>
    <MDI key="EXIF_PixelXDimension">2004</MDI>
    <MDI key="EXIF_PixelYDimension">1886</MDI>
    <MDI key="EXIF_ResolutionUnit">2</MDI>
    <MDI key="EXIF_SceneType">0x01</MDI>
    <MDI key="EXIF_Software">Capture One 8 Macintosh</MDI>
    <MDI key="EXIF_XResolution">(300)</MDI>
    <MDI key="EXIF_YResolution">(300)</MDI>
  </Metadata>
</PAMDataset>
