<PAMDataset>
  <SRS dataAxisToSRSAxisMapping="2,1">GEOGCS["WGS 84",DATUM["WGS_1984",SPHEROID["WGS 84",6378137,298.257223563,AUTHORITY["EPSG","7030"]],AUTHORITY["EPSG","6326"]],PRIMEM["Greenwich",0],UNIT["degree",0.0174532925199433,AUTHORITY["EPSG","9122"]],AXIS["Latitude",NORTH],AXIS["Longitude",EAST],AUTHORITY["EPSG","4326"]]</SRS>
  <GeoTransform>  1.5149960663111028e+02,  5.1397705752343566e-05,  0.0000000000000000e+00, -3.2615559435556563e+01,  0.0000000000000000e+00, -5.1397705752343566e-05</GeoTransform>
  <Metadata domain="IMAGE_STRUCTURE">
    <MDI key="INTERLEAVE">PIXEL</MDI>
  </Metadata>
  <Metadata>
    <MDI key="AREA_OR_POINT">Area</MDI>
    <MDI key="EXIF_BitsPerSample">8 8 8</MDI>
    <MDI key="EXIF_ColorSpace">65535</MDI>
    <MDI key="EXIF_Compression">1</MDI>
    <MDI key="EXIF_DateTime">2023:01:06 17:21:57</MDI>
    <MDI key="EXIF_DateTimeDigitized">2010:10:28 09:56:31</MDI>
    <MDI key="EXIF_DateTimeOriginal">2010:10:28 09:56:31</MDI>
    <MDI key="EXIF_ExifVersion">0220</MDI>
    <MDI key="EXIF_ExposureTime">(0.0625)</MDI>
    <MDI key="EXIF_FlashpixVersion">0010</MDI>
    <MDI key="EXIF_ImageDescription">nla.map-rm2864-m, Thu Oct 28, 2010,  9:56:31 AM,  8C, 10200x13600,  (0+0), 100%, Repro 2.2 v2,  1/15 s, R80.5, G40.0, B30.6
</MDI>
    <MDI key="EXIF_ISOSpeedRatings">400</MDI>
    <MDI key="EXIF_Make">Better Light</MDI>
    <MDI key="EXIF_Model">Model Super10K</MDI>
    <MDI key="EXIF_Orientation">1</MDI>
    <MDI key="EXIF_PhotometricInterpretation">2</MDI>
    <MDI key="EXIF_PixelXDimension">8535</MDI>
    <MDI key="EXIF_PixelYDimension">10278</MDI>
    <MDI key="EXIF_PlanarConfiguration">1</MDI>
    <MDI key="EXIF_ResolutionUnit">2</MDI>
    <MDI key="EXIF_SamplesPerPixel">3</MDI>
    <MDI key="EXIF_SensingMethod">7</MDI>
    <MDI key="EXIF_ShutterSpeedValue">(4)</MDI>
    <MDI key="EXIF_Software">Adobe Photoshop CS6 (Macintosh)</MDI>
    <MDI key="EXIF_XResolution">(300)</MDI>
    <MDI key="EXIF_YResolution">(300)</MDI>
  </Metadata>
</PAMDataset>
