<PAMDataset>
  <SRS dataAxisToSRSAxisMapping="2,1">GEOGCS["WGS 84",DATUM["WGS_1984",SPHEROID["WGS 84",6378137,298.257223563,AUTHORITY["EPSG","7030"]],AUTHORITY["EPSG","6326"]],PRIMEM["Greenwich",0],UNIT["degree",0.0174532925199433,AUTHORITY["EPSG","9122"]],AXIS["Latitude",NORTH],AXIS["Longitude",EAST],AUTHORITY["EPSG","4326"]]</SRS>
  <GeoTransform>  1.3271393695560494e+02,  6.8835777738439101e-06,  0.0000000000000000e+00,  3.3871614803033154e+01,  0.0000000000000000e+00, -6.8835777738439101e-06</GeoTransform>
  <Metadata domain="IMAGE_STRUCTURE">
    <MDI key="INTERLEAVE">PIXEL</MDI>
  </Metadata>
  <Metadata>
    <MDI key="AREA_OR_POINT">Area</MDI>
    <MDI key="EXIF_ColorSpace">1</MDI>
    <MDI key="EXIF_DateTime">2021:02:15 22:05:53</MDI>
    <MDI key="EXIF_DateTimeDigitized">2021:02:15 20:59:47</MDI>
    <MDI key="EXIF_DateTimeOriginal">2021:02:15 20:59:47</MDI>
    <MDI key="EXIF_Orientation">1</MDI>
    <MDI key="EXIF_Software">Windows Photo Editor 10.0.10011.16384</MDI>
    <MDI key="EXIF_SubSecTime_Digitized">25</MDI>
    <MDI key="EXIF_SubSecTime_Original">25</MDI>
  </Metadata>
</PAMDataset>
