<PAMDataset>
  <SRS dataAxisToSRSAxisMapping="2,1">GEOGCS["WGS 84",DATUM["WGS_1984",SPHEROID["WGS 84",6378137,298.257223563,AUTHORITY["EPSG","7030"]],AUTHORITY["EPSG","6326"]],PRIMEM["Greenwich",0],UNIT["degree",0.0174532925199433,AUTHORITY["EPSG","9122"]],AXIS["Latitude",NORTH],AXIS["Longitude",EAST],AUTHORITY["EPSG","4326"]]</SRS>
  <GeoTransform>  1.1720742098027006e+02,  5.9561391055884224e-04,  0.0000000000000000e+00,  7.5991220076462103e+00,  0.0000000000000000e+00, -5.9561391055884224e-04</GeoTransform>
  <Metadata domain="IMAGE_STRUCTURE">
    <MDI key="INTERLEAVE">PIXEL</MDI>
  </Metadata>
  <Metadata>
    <MDI key="AREA_OR_POINT">Area</MDI>
    <MDI key="EXIF_BitsPerSample">8 8 8</MDI>
    <MDI key="EXIF_ColorSpace">65535</MDI>
    <MDI key="EXIF_Compression">1</MDI>
    <MDI key="EXIF_DateTime">2008:07:23 12:20:25</MDI>
    <MDI key="EXIF_DateTimeDigitized">2008:07:23 11:51:54</MDI>
    <MDI key="EXIF_DateTimeOriginal">2008:07:23 11:51:54</MDI>
    <MDI key="EXIF_ExifVersion">0220</MDI>
    <MDI key="EXIF_ExposureTime">(0.0833333)</MDI>
    <MDI key="EXIF_FlashpixVersion">0010</MDI>
    <MDI key="EXIF_ImageDescription">nla.map-rm2921-m, Wed Jul 23, 2008, 11:51:54 AM,  8C, 10200x13598,  (0+2), 100%, Repro 2.2 v2,  1/12 s, R63.5, G44.8, B58.6</MDI>
    <MDI key="EXIF_ISOSpeedRatings">400</MDI>
    <MDI key="EXIF_Make">Better Light</MDI>
    <MDI key="EXIF_Model">Model Super10K</MDI>
    <MDI key="EXIF_PhotometricInterpretation">2</MDI>
    <MDI key="EXIF_PixelXDimension">11720</MDI>
    <MDI key="EXIF_PixelYDimension">7891</MDI>
    <MDI key="EXIF_PlanarConfiguration">1</MDI>
    <MDI key="EXIF_ResolutionUnit">2</MDI>
    <MDI key="EXIF_RowsPerStrip">7891</MDI>
    <MDI key="EXIF_SamplesPerPixel">3</MDI>
    <MDI key="EXIF_SensingMethod">7</MDI>
    <MDI key="EXIF_ShutterSpeedValue">(3.58496)</MDI>
    <MDI key="EXIF_Software">paint.net 5.0.2</MDI>
    <MDI key="EXIF_XResolution">(300)</MDI>
    <MDI key="EXIF_YResolution">(300)</MDI>
  </Metadata>
</PAMDataset>
