<PAMDataset>
  <SRS dataAxisToSRSAxisMapping="2,1">GEOGCS["WGS 84",DATUM["WGS_1984",SPHEROID["WGS 84",6378137,298.257223563,AUTHORITY["EPSG","7030"]],AUTHORITY["EPSG","6326"]],PRIMEM["Greenwich",0],UNIT["degree",0.0174532925199433,AUTHORITY["EPSG","9122"]],AXIS["Latitude",NORTH],AXIS["Longitude",EAST],AUTHORITY["EPSG","4326"]]</SRS>
  <GeoTransform> -7.4023673823862410e+01,  4.9665242935929905e-06,  0.0000000000000000e+00,  4.0714128180179564e+01,  0.0000000000000000e+00, -4.9665242935929905e-06</GeoTransform>
  <Metadata domain="IMAGE_STRUCTURE">
    <MDI key="INTERLEAVE">PIXEL</MDI>
  </Metadata>
  <Metadata>
    <MDI key="AREA_OR_POINT">Area</MDI>
    <MDI key="EXIF_ColorSpace">65535</MDI>
    <MDI key="EXIF_DateTime">2011:01:19 22:49:23</MDI>
    <MDI key="EXIF_Flash">65529</MDI>
    <MDI key="EXIF_Orientation">1</MDI>
    <MDI key="EXIF_PixelXDimension">3267</MDI>
    <MDI key="EXIF_PixelYDimension">2401</MDI>
    <MDI key="EXIF_ResolutionUnit">2</MDI>
    <MDI key="EXIF_Software">Adobe Photoshop CS Macintosh</MDI>
    <MDI key="EXIF_XResolution">(72)</MDI>
    <MDI key="EXIF_YResolution">(72)</MDI>
  </Metadata>
</PAMDataset>
