<PAMDataset>
  <SRS dataAxisToSRSAxisMapping="2,1">GEOGCS["WGS 84",DATUM["WGS_1984",SPHEROID["WGS 84",6378137,298.257223563,AUTHORITY["EPSG","7030"]],AUTHORITY["EPSG","6326"]],PRIMEM["Greenwich",0],UNIT["degree",0.0174532925199433,AUTHORITY["EPSG","9122"]],AXIS["Latitude",NORTH],AXIS["Longitude",EAST],AUTHORITY["EPSG","4326"]]</SRS>
  <GeoTransform> -7.3696265110241143e+01,  2.0063814021530623e-05,  0.0000000000000000e+00,  4.0817479026962296e+01,  0.0000000000000000e+00, -2.0063814021530623e-05</GeoTransform>
  <Metadata domain="IMAGE_STRUCTURE">
    <MDI key="INTERLEAVE">PIXEL</MDI>
  </Metadata>
  <Metadata>
    <MDI key="AREA_OR_POINT">Area</MDI>
    <MDI key="XML_com.adobe.xmp">&lt;x:xmpmeta xmlns:x="adobe:ns:meta/" x:xmptk="XMP Core 6.0.0"&gt;
   &lt;rdf:RDF xmlns:rdf="http://www.w3.org/1999/02/22-rdf-syntax-ns#"&gt;
      &lt;rdf:Description rdf:about=""
            xmlns:exif="http://ns.adobe.com/exif/1.0/"
            xmlns:tiff="http://ns.adobe.com/tiff/1.0/"&gt;
         &lt;exif:PixelXDimension&gt;3584&lt;/exif:PixelXDimension&gt;
         &lt;exif:UserComment&gt;Screenshot&lt;/exif:UserComment&gt;
         &lt;exif:PixelYDimension&gt;2240&lt;/exif:PixelYDimension&gt;
         &lt;tiff:ResolutionUnit&gt;2&lt;/tiff:ResolutionUnit&gt;
         &lt;tiff:YResolution&gt;144&lt;/tiff:YResolution&gt;
         &lt;tiff:XResolution&gt;144&lt;/tiff:XResolution&gt;
         &lt;tiff:Orientation&gt;1&lt;/tiff:Orientation&gt;
      &lt;/rdf:Description&gt;
   &lt;/rdf:RDF&gt;
&lt;/x:xmpmeta&gt;
</MDI>
  </Metadata>
</PAMDataset>
