<PAMDataset>
  <SRS dataAxisToSRSAxisMapping="2,1">GEOGCS["WGS 84",DATUM["WGS_1984",SPHEROID["WGS 84",6378137,298.257223563,AUTHORITY["EPSG","7030"]],AUTHORITY["EPSG","6326"]],PRIMEM["Greenwich",0],UNIT["degree",0.0174532925199433,AUTHORITY["EPSG","9122"]],AXIS["Latitude",NORTH],AXIS["Longitude",EAST],AUTHORITY["EPSG","4326"]]</SRS>
  <GeoTransform> -6.5105344132006042e+00,  1.9363784269099432e-05,  0.0000000000000000e+00,  4.9998718657582558e+01,  0.0000000000000000e+00, -1.9363784269099432e-05</GeoTransform>
  <Metadata domain="IMAGE_STRUCTURE">
    <MDI key="INTERLEAVE">PIXEL</MDI>
  </Metadata>
  <Metadata>
    <MDI key="AREA_OR_POINT">Area</MDI>
    <MDI key="EXIF_BitsPerSample">8 8 8</MDI>
    <MDI key="EXIF_Compression">5</MDI>
    <MDI key="EXIF_Inter_Color_Profile">0x26 0xe1 0xd0 0xa0 0x07 0x27 0xa2 0xa4 0x1e 0x32 0xa6 0xe2 0x3a 0x0c 0x84 0xc6 0x39 0x00 0x82 0x80 0xa7 0x1c 0x61 0x38 0xef 0xd1 0x42 0x5a 0x3a 0x75 0x53 0x19 0x08 0x12 0x39 0x60 0x9f 0xa2 0xe2 0x7f 0xe5 0x1f 0x55 0xc0 0xe4 0x71 0x83 0xfa 0xae 0x64 0x02 0x06 0x01 0x05 0x0a 0x53 0x9e 0x30 0x02 0x76 0xe7 0xaa 0x71 0x93 0xb7 0x83 0x84 0x1c 0x91 0x9e 0x50 0x87 0x22 0x47 0x19 0x50 0x64 0xf4 0xe8 0xb8 0xb8 0xe7 0xaf 0x65 0x5a 0x49 0x08 0x01 0x1e 0xad 0xc7 0xdd 0x4d 0xa4 0xf4 0x54 0x38 0x34 0xfc 0xfd 0x14 0xcf 0x27 0x1f 0x6c 0x2a 0x0e 0x07 0x9e 0x07 0x6e 0xaa 0x86 0x60 0x63 0x04 0x8f 0x75 0xcb 0xa7 0x2d 0xea 0xa8 0x20 0x9e 0x7a 0xa8 0x5b 0x38 0x71 0xd7 0x0b 0x93 0x88 0xc0 0xe3 0x28 0x31 0x92 0xaf 0xca 0xa3 0x07 0x1e 0xbf 0x45 0x00 0xe7 0x8e 0x8a 0x92 0x4f 0x4e 0x07 0xba 0x9c 0xe7 0xa8 0x4b 0x05 0x3d 0x51 0xfd 0xb8 0xca 0xbb 0xb3 0xd3 0xb7 0x54 0xea 0x8c 0xa8 0xe2 0xee 0x31 0x86 0xa8 0x49 0xf4 0x5c 0x89 0x71 0xe8 0x79 0xe8 0xa3 0xb3 0xc6 0x3a 0xaa 0x80 0x2e 0xce 0x07 0xa2 0x38 0xe5 0xdd 0xc7 0x0a 0x10 0x0f 0x3d 0xd3 0x6f 0xa8 0x28 0x0a 0xdc 0x9e 0xbc 0x85 0x5c 0xd1 0x83 0x8e 0xaa 0x70 0x3a 0x2b 0xd4 0x75 0x42 0x59 0x36 0x1d 0xdf 0x64 0x77 0x18 0xee 0xb9 0x38 0xe0 0x0f 0x99 0x71 0xeb 0xd5 0x02 0x38 0xb4 0x97 0x67 0xa8 0x0b 0x98 0xe0 0x84 0x00 0x1e 0x9d 0x53 0x24 0x14 0x05 0x23 0x3d 0x57 0x1d 0x9f 0xa2 0xae 0xce 0x3a 0x8e 0x55 0x24 0x10 0x33 0xd9 0x19 0x51 0xc7 0xe5 0x1c 0x61 0x42 0x4e 0x0e 0x00 0xc7 0xb2 0xe4 0x71 0x8e 0x99 0x0a 0x01 0xf2 0x9c 0x74 0x50 0x0f 0x97 0x8c 0xf5 0x5c 0x7e 0x62 0x4e 0x06 0x3f 0xd5 0x73 0x18 0xfc 0xcf 0x57 0x8e 0xce 0xc2 0xa8 0x1f 0x27 0x83 0xc6 0x55 0x21 0xc0 0x0e 0xfe 0xeb 0xe9 0xdf 0xd7 0xdd 0x71 0x78 0x23 0xa2 0x8c 0x58 0x03 0x0d 0xc9 0x41 0x93 0xf9 0x54 0x03 0x20 0xee 0x38 0xc2 0xa1 0xd9 0x18 0xe9 0xee 0x80 0x73 0xdf 0xaa 0x06 0xbb 0x39 0x1d 0x57 0x23 0xdb 0xba 0x60 0xf7 0xfb 0x2a 0x43 0x80 0xdd 0xce 0x7a 0xaa 0x46 0x48 0xc7 0x1e 0xaa 0xf3 0xd0 0xf4 0x54 0xe7 0x8c 0x7e 0xe8 0x07 0x03 0x86 0x8f 0xaa 0x8e 0xe1 0x72 0x24 0xef 0xea 0x17 0x12 0x5d 0x9f 0x98 0x70 0x80 0xac 0xe7 0xaf 0x07 0xd1 0x0e 0x77 0x7b 0x23 0xca 0x91 0x97 0x73 0xbf 0xa2 0x0a 0x39 0x3d 0xc3 0xb7 0x54 0x04 0xa6 0x07 0x65 0x08 0xdc 0x3d 0x10 0x85 0x38 0x3d 0x07 0x28 0xee 0x31 0x96 0xf0 0x9b 0x49 0x03 0xe6 0x54 0x00 0x02 0x03 0x88 0x23 0x3e 0xbe 0x9e 0xca 0xa6 0xd1 0xd4 0x22 0x02 0x1d 0xdf 0xe5 0x1f 0x52 0x98 0xc8 0xe7 0x07 0x0a 0xfd 0x15 0x76 0xe3 0x8d 0xbf 0x74 0x40 0xe3 0x80 0xd1 0xf9 0x4f 0x2b 0x91 0xe8 0x31 0xd1 0x51 0x9e 0xea 0x15 0x68 0x59 0xc5 0xd9 0xe3 0x1d 0x7d 0x55 0x2c 0xe0 0x7a 0xf7 0x55 0xc3 0xa7 0xaa 0xe2 0x41 0xe8 0xa0 0x61 0xd8 0x6e 0x17 0x13 0xb8 0x7d 0x0f 0x45 0xc9 0xc0 0x60 0x65 0x01 0x0e 0x18 0x1c 0xfb 0xa5 0x03 0x88 0x27 0xb0 0x3e 0xeb 0x96 0x78 0xfc 0xa9 0x8f 0xd5 0x33 0xff 0x00 0x2a 0x88 0xa4 0xc8 0xfe 0x5e 0xbe 0x8b 0x93 0x8f 0x4f 0x95 0x4f 0xa1 0xc0 0xf6 0x5c 0x72 0xf3 0x26 0xd7 0x34 0xe0 0x74 0x2a 0x83 0x96 0x7d 0x55 0x71 0x3c 0x61 0x47 0xf1 0x85 0x4b 0xba 0x7c 0xa8 0x42 0x16 0x82 0x39 0xca 0x3b 0x60 0x70 0xf9 0x72 0x70 0xb9 0x64 0x63 0x2a 0x3b 0x9c 0x74 0xfb 0x20 0xb3 0x8f 0x27 0xa3 0x70 0xa4 0x64 0x93 0x87 0x2e 0x64 0x7d 0x55 0x23 0xa7 0x75 0x19 0x6c 0xe0 0xe7 0x06 0xf1 0x8c 0xfb 0xa3 0x9e 0x78 0xda 0xb9 0x3c 0x74 0xec 0xa1 0x67 0x20 0xf7 0x4a 0x7d 0x05 0x86 0x92 0x7f 0x33 0x4a 0x1c 0x1e 0x9d 0x54 0x2d 0xf5 0xce 0x57 0x22 0x06 0xdc 0x75 0x2a 0xe7 0xa8 0x21 0x23 0x8d 0xc7 0xa2 0x30 0x83 0x9c 0x2a 0xe6 0xfc 0xc3 0x21 0xb8 0x53 0x18 0xfc 0xaa 0x83 0x93 0xf3 0xdb 0xaa 0x80 0x9c 0x72 0x71 0xec 0xb9 0x74 0x03 0x2b 0x83 0xb1 0x9e 0x3a 0xa3 0x21 0x42 0x6e 0x07 0xab 0x90 0x82 0x71 0x94 0xc0 0x3c 0x28 0x08 0x72 0xde 0x48 0xcf 0xa2 0xe4 0x79 0x03 0x9c 0x2e 0x04 0x60 0xfc 0xd9 0xf6 0x55 0xe3 0xa6 0x14 0x65 0xa0 0x4f 0x6c 0x65 0x71 0x24 0xe7 0xd1 0x19 0x93 0x90 0x57 0x27 0x73 0x81 0xe8 0x97 0x60 0x03 0xeb 0xd5 0x5c 0xee 0x1c 0xf1 0x85 0xc5 0x72 0x08 0x42 0x83 0xc7 0x3c 0xfa 0x15 0x08 0xe7 0x2a 0x38 0x1c 0x7c 0xdd 0x17 0x20 0x43 0x80 0x2d 0xfa 0x2a 0x81 0x09 0xc7 0x05 0x1c 0x5a 0x42 0x83 0x24 0x9e 0x33 0x84 0x24 0x93 0x80 0xd0 0x80 0xe5 0x83 0x81 0xd7 0x0b 0x89 0x03 0x3c 0x21 0x24 0x70 0x4e 0x0a 0x9c 0xe7 0x91 0x90 0x80 0xe4 0x14 0x76 0xe2 0x0a 0xb9 0xc7 0xf2 0xf0 0xa1 0xc9 0xed 0xf4 0x42 0x82 0x43 0x40 0x1b 0xb2 0x7b 0xa9 0x95 0xc8 0x8f 0x98 0xe7 0x19 0xc2 0x00 0x32 0x32 0xd4 0x04 0x77 0xe6 0x38 0xe9 0x85 0xcb 0x23 0x03 0x6f 0x55 0x06 0x32 0x7e 0x55 0x70 0x02 0x10 0x84 0x64 0x7b 0xaa 0x47 0x03 0x38 0xca 0x1c 0x00 0x4a 0x0d 0xa7 0xf2 0xfd 0xd0 0x1c 0x73 0x85 0xc9 0xdc 0x11 0xf3 0x67 0x2a 0x60 0x17 0x03 0xbb 0x94 0x03 0xe6 0xdc 0x80 0xa3 0x3b 0x82 0xe0 0x7a 0x95 0xcc 0x8c 0xfa 0xfd 0x94 0x1d 0x31 0xcf 0xdd 0x01 0x1c 0x76 0x93 0xf2 0xf6 0x54 0x92 0x47 0x1d 0x55 0x76 0x38 0x53 0x20 0x75 0xe8 0x80 0x06 0xe7 0x82 0xa8 0xe7 0x84 0x19 0xc6 0x7b 0x26 0x7d 0x50 0x13 0x00 0x14 0x2e 0x68 0x3c 0xaa 0x0e 0x4f 0xcd 0xc0 0xec 0x84 0x0c 0xe7 0x19 0x40 0x40 0xe1 0xd4 0x35 0x71 0x7e 0xe3 0xd1 0x72 0x2f 0xc7 0xf2 0xa8 0x7e 0x61 0xca 0x02 0x80 0x70 0x32 0x87 0x77 0xd9 0x5e 0x08 0x01 0x42 0x49 0xe9 0xd9 0x46 0x09 0xf9 0x78 0xf5 0x57 0x94 0x70 0x27 0x0b 0x8b 0xce 0xdc 0x6d 0xc7 0xba 0xa8 0x51 0xc8 0x9f 0xf3 0x10 0xd5 0x48 0x07 0x18 0x3b 0x97 0xcf 0x71 0x3d 0xb2 0xb9 0x9c 0x35 0xbc 0xb7 0x08 0x19 0x43 0x9a 0x38 0xeb 0xfe 0x8b 0x89 0x7b 0x73 0x82 0x51 0xe5 0xa0 0xe7 0x3d 0x42 0x84 0xb7 0x7e 0x0e 0x4f 0x08 0x28 0x1e 0x7d 0x87 0xf5 0x5c 0x9d 0xb4 0x38 0x65 0x70 0x07 0xe6 0xf6 0x5c 0x9c 0x06 0xef 0x9f 0xa6 0x10 0xa7 0x12 0x33 0xd7 0xa2 0xe4 0xf3 0xf3 0x60 0x3b 0x80 0x11 0xe0 0xe0 0x7a 0x76 0x54 0x8e 0x07 0x19 0x3e 0xa8 0x2c 0xe1 0x83 0x9f 0x99 0xc7 0x0b 0x96 0x4f 0x64 0x78 0x1b 0x79 0xca 0x65 0xae 0x27 0x6b 0x70 0x40 0x40 0x24 0x2e 0xc2 0x91 0x93 0xce 0x7a 0xae 0x67 0xb0 0x1f 0x75 0xc4 0x8f 0xf3 0x70 0x7b 0x20 0x05 0xd8 0xfa 0xa3 0xce 0x06 0x46 0x32 0xab 0x8b 0x46 0x33 0xc9 0xf5 0x53 0x63 0x73 0xf5 0x40 0x51 0xb7 0x00 0xf7 0x57 0x2b 0x89 0x6b 0x1b 0xc6 0xde 0xa8 0x48 0x20 0x63 0xb7 0x64 0x64 0x29 0xc6 0x7f 0x99 0x01 0x39 0x00 0x77 0x53 0x20 0xf5 0x38 0x0a 0x80 0x08 0xc1 0x44 0x08 0x46 0x1c 0x30 0xef 0xd1 0x08 0x76 0x51 0xc0 0x0c 0x6d 0xca 0x63 0x1d 0x7a 0x94 0x03 0x1e 0xbd 0x55 0xfb 0x2a 0xd0 0xa1 0x68 0x0e 0xcb 0x49 0xca 0x00 0x73 0xc7 0x0a 0xf5 0x1c 0xa9 0xc9 0x38 0x3d 0x15 0x38 0xec 0x80 0x38 0x7c 0xdc 0x7a 0x23 0xb2 0x71 0xb7 0xee 0x9b 0xb0 0x9e 0xc3 0x8e 0xe8 0x0e 0x27 0x2d 0xeb 0xd1 0x72 0x38 0xe1 0x1e 0x1a 0x71 0xb9 0x71 0xcb 0x47 0x0d 0x08 0x0a 0xd3 0xb8 0x91 0xca 0xa0 0xe3 0x21 0x40 0xec 0x8e 0x00 0x57 0x04 0x8e 0x50 0x0c 0xf2 0xa1 0x1b 0xf8 0xe8 0x55 0x18 0x1c 0x0e 0xaa 0x16 0x83 0xf5 0x40 0x50 0x78 0xf5 0xec 0xa6 0x50 0x00 0x0f 0x3d 0x10 0x75 0x3e 0x8a 0x80 0x49 0xc7 0x40 0x8e 0xc6 0x06 0x7a 0xa3 0x06 0x09 0xc7 0x1e 0xca 0x6d 0x39 0x2a 0x03 0x91 0xed 0x85 0x08 0x24 0x74 0xca 0x46 0x3a 0xee 0x72 0xa4 0x8c 0xa0 0x23 0xb2 0xd1 0xf2 0x34 0x65 0x72 0xe7 0x68 0xf5 0x5c 0x7f 0xa2 0x60 0x20 0x2e 0x3f 0xcb 0xd5 0x0e 0x40 0xe5 0x56 0xee 0xee 0x84 0x0c 0xfb 0xa2 0x04 0x73 0xba 0x29 0x97 0x1e 0xbf 0x65 0x48 0xe7 0xba 0x70 0xa8 0x21 0xc1 0xeb 0x9c 0xaa 0x09 0xc7 0x03 0x80 0xaf 0xca 0xdf 0xba 0xe2 0x5c 0x07 0x41 0x82 0x80 0xb9 0xcf 0x41 0xca 0xa4 0x67 0xaf 0x55 0x09 0x24 0x0c 0x0c 0x7f 0xaa 0x7d 0x10 0x03 0x82 0x3a 0xf2 0x80 0x70 0x8e 0xed 0xc2 0x67 0x3f 0x64 0x21 0x42 0xaa 0x05 0x0a 0x02 0xe7 0xd1 0x4c 0x9f 0x40 0xab 0xbb 0x29 0x80 0x80 0x38 0x9e 0xe0 0x2b 0xc1 0xc7 0x04 0x28 0x00 0x54 0x9c 0x84 0x00 0x77 0xca 0xa3 0x9f 0xa2 0xe3 0x80 0xab 0xbb 0x61 0x01 0x7e 0xab 0x8e 0x0f 0xd9 0x39 0xee 0x87 0x90 0x46 0x48 0xcf 0xa2 0x02 0x9e 0x02 0x03 0x9e 0xc5 0x46 0xb4 0x30 0x35 0xa7 0x24 0x81 0xd4 0xae 0x48 0x02 0x99 0x00 0xa7 0xd5 0x4c 0x64 0xf2 0x80 0xa4 0xa2 0xe2 0xe1 0x9e 0x9d 0x95 0x70 0xe0 0x65 0x5a 0x05 0xca 0x3b 0x3c 0x64 0x0c 0x2e 0x2c 0x0e 0x00 0x97 0xf5 0x5c 0x87 0x28 0x09 0xb9 0xa3 0x8c 0x15 0x73 0xc2 0x10 0x89 0x60 0x0f 0x55 0xcb 0x39 0x50 0x1f 0x45 0x3a 0x1e 0x7a 0xa0 0x29 0x1c 0x28 0x46 0x46 0x47 0x64 0xe8 0x8a 0x00 0x33 0xf6 0x4c 0xa6 0x10 0x8e 0x10 0x0c 0xf2 0x84 0xae 0x3b 0x73 0xdc 0xae 0x43 0xa6 0x13 0x3d 0x00 0x0a 0x02 0xee 0x70 0xb9 0x22 0xb4 0x42 0x00 0x71 0xca 0xa8 0x54 0xe1 0x01 0x54 0xce 0x15 0x50 0xa0 0x19 0xf4 0x47 0x13 0x90 0x81 0x54 0xa0 0x5e 0x70 0xb8 0xe7 0x27 0x95 0x42 0xa5 0x00 0x51 0x32 0xa6 0x72 0x80 0xaa 0xf6 0x51 0x15 0x00 0xa2 0x9f 0x55 0x50 0x11 0x07 0x55 0x51 0x00 0xea 0x54 0x23 0x95 0x55 0xe4 0x0e 0xa0 0xa0 0x22 0x1e 0x89 0xf5 0x40 0x80 0x05 0x70 0xa7 0x75 0x79 0xf5 0x08 0x02 0x84 0xa1 0x1c 0x75 0x41 0xc7 0x4e 0x73 0xd5 0x2c 0x04 0x50 0x75 0x42 0x79 0x18 0xfb 0xa9 0x60 0xe4 0xa1 0x54 0xa8 0xab 0x00 0xf3 0xd5 0x11 0x14 0x01 0x10 0x75 0x42 0x80 0x05 0x54 0x4e 0xca 0x81 0xdd 0x32 0xa1 0xf7 0x53 0xe8 0x80 0xe4 0x8a 0x73 0xe8 0xaa 0x80 0xa5 0x45 0x4a 0x8a 0x80 0xb8 0x90 0x71 0xc2 0xe4 0x98 0x50 0x10 0xf4 0x19 0xea 0x80 0x01 0xdf 0x39 0x54 0x74 0x2a 0x04 0xe0 0x1c 0x93 0x0a 0x22 0xa0 0x1c 0x61 0x40 0x47 0x70 0x42 0xaa 0xf6 0x51 0x81 0x8c 0xa1 0x18 0x08 0x01 0x03 0xd8 0xa1 0x55 0x10 0x88 0x8a 0x1e 0x9c 0xf4 0x42 0x97 0xba 0x0e 0xea 0x17 0x72 0xdd 0xad 0x27 0x3d 0x7d 0x95 0xf5 0x50 0x10 0xab 0xe8 0xa0 0x39 0xea 0x08 0x55 0x00 0x21 0x31 0xea 0xa0 0x25 0x5c 0x93 0xd9 0x30 0x01 0x44 0x28 0x80 0x22 0x22 0xa0 0x22 0x38 0x0e 0x39 0x45 0x96 0x02 0x0e 0xaa 0x05 0x5d 0xd9 0x10 0x0e 0x38 0xf5 0xca 0x83 0x18 0xe8 0x41 0x41 0x90 0x73 0xd8 0xaa 0xad 0x00 0x15 0x44 0x5a 0xa0 0x14 0x54 0xa8 0xa3 0x04 0xee 0xaa 0x22 0x00 0x88 0xa4 0xae 0xd8 0xcc 0xb4 0x6e 0x3e 0x88 0x0a 0xa6 0x4e 0x79 0x40 0x1c 0x08 0xce 0x71 0x8c 0xaa 0x7a 0x25 0x14 0x71 0xea 0x8a 0x06 0xab 0x84 0x03 0x1e 0xea 0xae 0x19 0xc2 0x17 0x67 0xa0 0x28 0x43 0x91 0xf4 0x53 0xa0 0xe1 0x72 0x38 0xdb 0xca 0xe0 0x0e 0x4e 0x30 0x50 0x1c 0xbb 0x20 0xea 0x88 0x80 0x14 0xca 0x28 0x10 0x15 0x55 0x15 0x71 0xc6 0x10 0x02 0xa6 0x37 0x02 0x08 0xce 0x50 0x10 0x4f 0x74 0x28 0x13 0x68 0xf9 0xc5 0x10 0x85 0x9b 0x41 0x71 0xf5 0x2e 0x39 0x2b 0x9a 0xe4 0x7b 0x29 0x8e 0x54 0x62 0xec 0x22 0xaa 0x2a 0x02 0x26 0x0a 0x60 0xfa 0x84 0x01 0x55 0x33 0x8e 0x4f 0x45 0x4f 0x41 0x85 0x50 0x08 0xa6 0x15 0xc6 0x7b 0xaa 0x0e 0x3d 0xd5 0x4c 0x05 0x0f 0x45 0x90 0x5e 0xea 0xa7 0x1c 0x26 0x71 0xdb 0x2a 0x82 0x14 0xca 0xa7 0x9e 0x54 0x50 0x04 0x4e 0x11 0x00 0x44 0x0a 0xa5 0x02 0x05 0x51 0x15 0x40 0x85 0x15 0x27 0x8e 0x8b 0x8e 0xee 0x71 0xb4 0xa8 0xc1 0x51 0x14 0xc2 0x02 0xe7 0xb2 0xaa 0x74 0x4f 0xaa 0x01 0x80 0xde 0x06 0xe2 0x7d 0xca 0x2a 0x4a 0x8a 0xb6 0x02 0x22 0xbc 0x1e 0x8a 0x26 0x08 0x88 0x71 0xea 0x83 0x18 0xea 0xa5 0x80 0x88 0x8a 0x80 0x81 0x11 0x28 0x03 0xed 0xc2 0xbd 0xbd 0x7d 0xd1 0x0f 0x74 0xa0 0x45 0x4f 0x45 0x02 0xaa 0x50 0x20 0x55 0x11 0x54 0x88 0x4e 0x11 0x5e 0xcb 0x8f 0x74 0xaa 0x29 0x51 0x10 0x04 0x00 0x2a 0x88 0x15 0x01 0x10 0xa2 0x00 0x88 0x8a 0x80 0x88 0x8a 0x01 0xd1 0x33 0xe8 0x85 0x45 0x00 0xca 0x22 0xa9 0x40 0x88 0x15 0x50 0x77 0xca 0xa0 0x77 0x55 0x4e 0x33 0xdd 0x55 0x10 0x0a 0x67 0x95 0x42 0x85 0x50 0x54 0x50 0x2a 0x94 0x02 0x22 0x67 0x2a 0xf0 0x02 0x22 0x28 0x02 0x71 0xea 0x98 0xf7 0x53 0x6a 0x02 0xe5 0x0a 0x88 0x39 0x28 0x02 0xb8 0x57 0x00 0x77 0x51 0x00 0xc2 0xbd 0x14 0x4c 0x9c 0xa0 0x08 0x8a 0x23 0x05 0xc2 0x61 0x07 0x42 0xa2 0x84 0x2e 0x13 0x85 0x15 0x54 0xa4 0x0a 0xa0 0x44 0x40 0x15 0x32 0xaa 0x23 0x04 0xcf 0xb2 0x0e 0xa9 0xd5 0x5e 0xde 0xe9 0x40 0x83 0xba 0xaa 0x00 0x73 0xd5 0x5c 0x20 0x08 0x4a 0x29 0xdd 0x18 0x28 0x44 0x45 0x50 0x08 0x88 0x80 0x22 0x03 0xc7 0x44 0x40 0x11 0x11 0x2c 0x0e 0xe8 0xa9 0xec 0xa2 0x50 0x08 0x88 0x80 0x22 0x22 0x00 0x10 0xa2 0x20 0x26 0x53 0x18 0x68 0x3c 0xe3 0xb9 0x47 0xb9 0xad 0x69 0x73 0xbe 0x50 0x01 0x24 0xaf 0x05 0xf1 0x37 0xc5 0x67 0x4f 0x52 0xeb 0x3e 0x9e 0x7b 0xd8 0xff 0x00 0x30 0x31 0xd5 0x03 0x8e 0x49 0xc6 0x02 0xcb 0x3a 0xe9 0xe9 0x39 0xdc 0xba 0x23 0xdd 0xdd 0x2c 0x6d 0xc9 0x32 0x34 0x01 0xc6 0x72 0x17 0x26 0x38 0x3f 0xf2 0xbc 0x11 0xec 0x42 0xfc 0xfb 0x2f 0x87 0x5a 0xca 0xae 0xda 0xc9 0x19 0x79 0x74 0xc1 0xf8 0x7e 0xdf 0x30 0x81 0x9f 0xf7 0x5a 0x4b 0x35 0x1e 0xa9 0xd1 0xf7 0xe7 0x09 0xab 0x65 0x33 0xd3 0xbb 0x12 0xc7 0x2b 0x8b 0x9a 0x47 0x6f 0xb2 0x7b 0x3d 0x5a 0xdc 0x84 0x23 0xa7 0x3c 0xc5 0x9f 0xae 0xc7 0x7c 0xe5 0x42 0x57 0x9d 0x78 0x59 0xe2 0x34 0x5a 0xca 0x37 0xd3 0xcd 0x18 0x86 0xb6 0x21 0x97 0x06 0xf4 0x70 0xf5 0x5e 0x86 0xec 0x63 0x39 0xc6 0x16 0x23 0xa9 0xbb 0xa1 0xce 0x4b 0x6b 0xa0 0x48 0x03 0xbf 0xd5 0x70 0x74 0x80 0x7f 0x3b 0x40 0xfa 0xaf 0x1d 0xf1 0x47 0xc4 0x8a 0xba 0x1b 0xa1 0xb4 0xd8 0x1c 0xc7 0x4d 0x8c 0x3d 0xe0 0x64 0xb4 0xfb 0x2c 0x45 0xa7 0x4b 0x6b 0xdb 0xf4 0x1f 0x13 0x70 0xbb 0xc9 0x48 0xc7 0x8f 0x95 0x8e 0x76 0x49 0xfb 0x2d 0x28 0x4e 0x4f 0xc3 0xf7 0x3b 0x4b 0x4e 0x1a 0x7f 0xf2 0x3f 0xa1 0xef 0x6d 0x70 0x7f 0xe4 0x39 0x3e 0x8b 0x90 0xef 0xc7 0xea 0x17 0xe7 0xad 0x55 0x3e 0xba 0xd0 0x74 0xec 0xa9 0x9a 0xe8 0x2a 0x28 0xc9 0x0d 0x0f 0x27 0x3c 0xfa 0x10 0xb7 0x7f 0x0a 0xfc 0x4b 0x1a 0xa9 0xdf 0x87 0xd7 0x35 0xb1 0xd7 0xb5 0xbb 0xb2 0xd1 0x86 0xbc 0x7f 0xba 0xcc 0xfd 0xa6 0x95 0x39 0xac 0x32 0x4f 0x4d 0x25 0x69 0x9e 0x9c 0x89 0xdc 0x74 0xfa 0x2a 0xb7 0xce 0x51 0xc4 0x9d 0x54 0xc0 0xed 0x9f 0xba 0x1c 0x60 0xe5 0x78 0xd7 0x8b 0xde 0x24 0x57 0xe9 0xcb 0xab 0x68 0x6d 0x8e 0x87 0x73 0x59 0xb9 0xdb 0x86 0x48 0x25 0x4d 0x92 0x6a 0xe2 0xad 0x9d 0x34 0xb4 0x9e 0xa3 0xae 0x87 0xb3 0x7e 0xa3 0xea 0x8b 0xc8 0x3c 0x0f 0xd6 0x37 0x2d 0x53 0x59 0x5e 0x6e 0x53 0xef 0x6c 0x60 0x6d 0x66 0xde 0x01 0xc2 0xf5 0xf5 0x98 0x4d 0xbb 0xdc 0xa8 0xcc 0x92 0x8b 0xa4 0x71 0x2c 0xc9 0xce 0x70 0x15 0x19 0x1c 0x28 0x7a 0x80 0xaf 0x6e 0xaa 0xf3 0x82 0x13 0x3d 0xb3 0x85 0xc8 0x7e 0xbf 0x65 0xa5 0x6b 0x9d 0x6b 0x06 0x9c 0x2d 0x8a 0x06 0x8a 0x9a 0xc7 0xfe 0x58 0x01 0xf9 0xbe 0xab 0x00 0xda 0x9d 0x79 0x7b 0x89 0x93 0x45 0x0c 0x34 0x71 0x81 0x9c 0x12 0x01 0xf6 0xce 0x4a 0xaa 0x33 0x78 0x82 0xcf 0xc3 0xf7 0x67 0x4f 0x66 0x97 0xbd 0x24 0xbc 0x8f 0x55 0xea 0x98 0xf7 0x5e 0x37 0x51 0xac 0xf5 0x3e 0x91 0x7c 0x5f 0xde 0x5a 0x31 0x35 0x23 0xdd 0x81 0x34 0x7c 0x91 0xf5 0xc2 0xf5 0x3b 0x25 0xd2 0x9a 0xf1 0x6e 0x8a 0xb2 0x91 0xf9 0x8a 0x41 0xc7 0xa8 0x2b 0x2e 0x52 0x84 0x94 0x75 0x15 0x18 0x94 0x12 0xe1 0xd9 0x91 0xc7 0xba 0x7d 0xca 0xd6 0x3c 0x43 0xbe 0xcb 0xa7 0x74 0xfb 0xab 0x69 0xc3 0x0c 0x99 0xc6 0x1f 0xc8 0x5e 0x55 0x07 0x8c 0x77 0x48 0xa6 0x8c 0x54 0x50 0xc5 0x2b 0x1c 0x39 0xd8 0x08 0x3f 0xd5 0x6e 0x7b 0xa3 0xd2 0xcd 0xc7 0x49 0xc9 0x27 0x7c 0x9e 0xf7 0xf7 0x41 0xfa 0xaf 0x09 0x97 0xc6 0x4a 0xf9 0xcb 0x5b 0x4b 0x41 0x1b 0x0b 0x8e 0x30 0xe6 0x92 0x7f 0x65 0xea 0x5a 0x16 0xe3 0x74 0xba 0x5a 0x5b 0x53 0x78 0xa6 0x65 0x3b 0xdd 0xf9 0x40 0xee 0x16 0x37 0x4d 0x3e 0x09 0x38 0x28 0x75 0xb6 0x6c 0xa8 0x8a 0x2e 0x87 0x34 0x13 0x28 0x15 0x4e 0x41 0x15 0x44 0x40 0x14 0x54 0xae 0x25 0x46 0x0a 0xae 0x14 0xe9 0x8c 0x1c 0xab 0xd9 0x00 0xc2 0x61 0x45 0x50 0x84 0x40 0x88 0x3a 0xa8 0x50 0x88 0x4a 0x20 0x0a 0xf0 0x02 0x8d 0xee 0x84 0x28 0xc0 0x42 0x81 0x0a 0x20 0x3b 0x28 0x3b 0xa6 0x53 0x80 0x85 0x45 0x44 0xed 0xd5 0x44 0x01 0x45 0x4a 0x88 0xc8 0x54 0xc2 0x99 0xcf 0x6c 0x26 0x02 0x85 0x2e 0x3e 0x6c 0xa9 0x81 0xbb 0x2a 0xf7 0x4c 0x61 0x64 0x13 0xb2 0x87 0x95 0x7a 0x1c 0xf7 0x50 0xf3 0xc1 0x54 0xa0 0x64 0xf5 0xe0 0x26 0x38 0xc9 0x4c 0x03 0x80 0x4f 0x21 0x72 0xed 0x8e 0xc8 0x08 0x30 0x46 0x42 0x37 0xa0 0x0a 0xe3 0x27 0x23 0xaa 0xe3 0x83 0x8c 0x3b 0x8f 0x44 0x07 0x27 0x0c 0xf3 0xca 0xe2 0x78 0x39 0xee 0x80 0x96 0x9e 0xbc 0x2e 0x64 0x65 0x01 0xc3 0x71 0x23 0x08 0xd1 0xc6 0x01 0x5c 0xb0 0x3d 0x54 0x07 0xe7 0xe1 0x00 0x23 0xdd 0x71 0xdd 0xf3 0x65 0x73 0xe8 0x54 0x3c 0xf6 0x40 0x42 0x32 0xa1 0x73 0x7a 0x11 0x9f 0x75 0x46 0x47 0x44 0x24 0x9e 0xc1 0x42 0xa2 0x07 0x37 0x38 0x00 0xe5 0x37 0x64 0xe3 0x9c 0xa8 0xdd 0xdc 0x9e 0xeb 0x98 0xc9 0x0a 0x83 0x88 0x2e 0x69 0xc1 0x72 0x12 0x70 0x06 0x33 0xea 0xaf 0x54 0xc1 0x03 0x1f 0xba 0x10 0x67 0x1d 0x94 0x1c 0x1c 0xab 0x85 0x4b 0x8e 0x7a 0xa0 0x20 0xe0 0xf2 0x8e 0x18 0xe4 0x21 0xdc 0x47 0x25 0x40 0x30 0xdc 0x12 0x85 0x19 0xc9 0xc0 0xea 0xa0 0x19 0x54 0xe0 0x72 0xa7 0x3d 0x90 0x14 0xa9 0xbb 0x0d 0xf5 0x40 0x3d 0xd4 0x7b 0x8f 0xb2 0x15 0x0c 0x91 0xc9 0x68 0x5c 0x0b</MDI>
    <MDI key="EXIF_PhotometricInterpretation">2</MDI>
    <MDI key="EXIF_PlanarConfiguration">1</MDI>
    <MDI key="EXIF_ResolutionUnit">2</MDI>
    <MDI key="EXIF_RowsPerStrip">1</MDI>
    <MDI key="EXIF_SamplesPerPixel">3</MDI>
