<PAMDataset>
  <SRS dataAxisToSRSAxisMapping="2,1">GEOGCS["WGS 84",DATUM["WGS_1984",SPHEROID["WGS 84",6378137,298.257223563,AUTHORITY["EPSG","7030"]],AUTHORITY["EPSG","6326"]],PRIMEM["Greenwich",0],UNIT["degree",0.0174532925199433,AUTHORITY["EPSG","9122"]],AXIS["Latitude",NORTH],AXIS["Longitude",EAST],AUTHORITY["EPSG","4326"]]</SRS>
  <GeoTransform>  2.7780288761202714e+00,  9.3480331575366149e-06,  0.0000000000000000e+00,  4.9704566021881639e+01,  0.0000000000000000e+00, -9.3480331575366149e-06</GeoTransform>
  <Metadata domain="IMAGE_STRUCTURE">
    <MDI key="INTERLEAVE">PIXEL</MDI>
  </Metadata>
  <Metadata>
    <MDI key="AREA_OR_POINT">Area</MDI>
    <MDI key="EXIF_ColorSpace">1</MDI>
    <MDI key="EXIF_DateTime">2021:01:26 08:45:31</MDI>
    <MDI key="EXIF_DateTimeDigitized">2021:01:26 08:34:27</MDI>
    <MDI key="EXIF_DateTimeOriginal">2021:01:26 08:34:27</MDI>
    <MDI key="EXIF_Orientation">1</MDI>
    <MDI key="EXIF_Software">Windows Photo Editor 10.0.10011.16384</MDI>
    <MDI key="EXIF_SubSecTime_Digitized">64</MDI>
    <MDI key="EXIF_SubSecTime_Original">64</MDI>
  </Metadata>
</PAMDataset>
