<PAMDataset>
  <SRS dataAxisToSRSAxisMapping="2,1">GEOGCS["WGS 84",DATUM["WGS_1984",SPHEROID["WGS 84",6378137,298.257223563,AUTHORITY["EPSG","7030"]],AUTHORITY["EPSG","6326"]],PRIMEM["Greenwich",0],UNIT["degree",0.0174532925199433,AUTHORITY["EPSG","9122"]],AXIS["Latitude",NORTH],AXIS["Longitude",EAST],AUTHORITY["EPSG","4326"]]</SRS>
  <GeoTransform>  1.0083760533611699e+01,  3.5695304424334654e-05,  0.0000000000000000e+00,  5.3614825681817670e+01,  0.0000000000000000e+00, -3.5695304424334654e-05</GeoTransform>
  <Metadata domain="IMAGE_STRUCTURE">
    <MDI key="INTERLEAVE">PIXEL</MDI>
  </Metadata>
  <Metadata>
    <MDI key="AREA_OR_POINT">Area</MDI>
    <MDI key="COMMENT">Holstein_1789-1796.TIF</MDI>
    <MDI key="EXIF_ColorSpace">65535</MDI>
    <MDI key="EXIF_DateTime">2008:10:30 08:05:59</MDI>
    <MDI key="EXIF_Make">Eskofot</MDI>
    <MDI key="EXIF_Model">EskoScan</MDI>
    <MDI key="EXIF_PixelXDimension">7797</MDI>
    <MDI key="EXIF_PixelYDimension">10555</MDI>
    <MDI key="EXIF_Software">Adobe Photoshop CS Windows</MDI>
  </Metadata>
</PAMDataset>
