<PAMDataset>
  <SRS dataAxisToSRSAxisMapping="2,1">GEOGCS["WGS 84",DATUM["WGS_1984",SPHEROID["WGS 84",6378137,298.257223563,AUTHORITY["EPSG","7030"]],AUTHORITY["EPSG","6326"]],PRIMEM["Greenwich",0],UNIT["degree",0.0174532925199433,AUTHORITY["EPSG","9122"]],AXIS["Latitude",NORTH],AXIS["Longitude",EAST],AUTHORITY["EPSG","4326"]]</SRS>
  <GeoTransform>  2.0467990764662748e+01,  1.5879275024071613e-05,  0.0000000000000000e+00,  5.4729567602405709e+01,  0.0000000000000000e+00, -1.5879275024071613e-05</GeoTransform>
  <Metadata domain="IMAGE_STRUCTURE">
    <MDI key="INTERLEAVE">PIXEL</MDI>
  </Metadata>
  <Metadata>
    <MDI key="AREA_OR_POINT">Area</MDI>
    <MDI key="EXIF_BitsPerSample">8 8 8</MDI>
    <MDI key="EXIF_ColorSpace">1</MDI>
    <MDI key="EXIF_DateTime">2021:02:05 18:55:13</MDI>
    <MDI key="EXIF_DateTimeDigitized">2020:01:15 12:30:03</MDI>
    <MDI key="EXIF_DateTimeOriginal">2020:01:15 12:30:03</MDI>
    <MDI key="EXIF_ExifVersion">0221</MDI>
    <MDI key="EXIF_Orientation">1</MDI>
    <MDI key="EXIF_PhotometricInterpretation">2</MDI>
    <MDI key="EXIF_PixelXDimension">3956</MDI>
    <MDI key="EXIF_PixelYDimension">3380</MDI>
    <MDI key="EXIF_ResolutionUnit">2</MDI>
    <MDI key="EXIF_SamplesPerPixel">3</MDI>
    <MDI key="EXIF_Software">Adobe Photoshop CC 2015 (Macintosh)</MDI>
    <MDI key="EXIF_SubSecTime_Digitized">20</MDI>
    <MDI key="EXIF_SubSecTime_Original">20</MDI>
    <MDI key="EXIF_XResolution">(200)</MDI>
    <MDI key="EXIF_YResolution">(200)</MDI>
  </Metadata>
</PAMDataset>
