<PAMDataset>
  <SRS dataAxisToSRSAxisMapping="2,1">GEOGCS["WGS 84",DATUM["WGS_1984",SPHEROID["WGS 84",6378137,298.257223563,AUTHORITY["EPSG","7030"]],AUTHORITY["EPSG","6326"]],PRIMEM["Greenwich",0],UNIT["degree",0.0174532925199433,AUTHORITY["EPSG","9122"]],AXIS["Latitude",NORTH],AXIS["Longitude",EAST],AUTHORITY["EPSG","4326"]]</SRS>
  <GeoTransform>  1.2693524892958536e+02,  1.3714181199859246e-05,  0.0000000000000000e+00,  3.7557385977954240e+01,  0.0000000000000000e+00, -1.3714181199859246e-05</GeoTransform>
  <Metadata domain="IMAGE_STRUCTURE">
    <MDI key="INTERLEAVE">PIXEL</MDI>
  </Metadata>
  <Metadata>
    <MDI key="AREA_OR_POINT">Area</MDI>
    <MDI key="EXIF_ColorSpace">65535</MDI>
    <MDI key="EXIF_DateTime">2010:12:14 23:08:50</MDI>
    <MDI key="EXIF_ImageDescription">254</MDI>
    <MDI key="EXIF_Orientation">1</MDI>
    <MDI key="EXIF_PixelXDimension">4876</MDI>
    <MDI key="EXIF_PixelYDimension">3593</MDI>
    <MDI key="EXIF_ResolutionUnit">3</MDI>
    <MDI key="EXIF_Software">Adobe Photoshop CS4 Windows</MDI>
    <MDI key="EXIF_XResolution">(118.11)</MDI>
    <MDI key="EXIF_YResolution">(118.11)</MDI>
  </Metadata>
</PAMDataset>
