<PAMDataset>
  <SRS dataAxisToSRSAxisMapping="2,1">GEOGCS["WGS 84",DATUM["WGS_1984",SPHEROID["WGS 84",6378137,298.257223563,AUTHORITY["EPSG","7030"]],AUTHORITY["EPSG","6326"]],PRIMEM["Greenwich",0,AUTHORITY["EPSG","8901"]],UNIT["degree",0.0174532925199433,AUTHORITY["EPSG","9122"]],AXIS["Latitude",NORTH],AXIS["Longitude",EAST],AUTHORITY["EPSG","4326"]]</SRS>
  <GeoTransform>  7.8383817245787863e+00,  2.7415695255514886e-04,  0.0000000000000000e+00,  5.4147644071135723e+01,  0.0000000000000000e+00, -2.7415695255514886e-04</GeoTransform>
  <Metadata>
    <MDI key="AREA_OR_POINT">Area</MDI>
    <MDI key="COMMENT">KMBT_C250 Q6</MDI>
    <MDI key="EXIF_DateTime">2006:12:28 17:41:52</MDI>
    <MDI key="EXIF_ExifVersion">0220</MDI>
    <MDI key="EXIF_Interoperability_Index">R98</MDI>
    <MDI key="EXIF_Interoperability_Version">0x30 0x31 0x30 0x30</MDI>
    <MDI key="EXIF_Orientation">1</MDI>
    <MDI key="EXIF_PixelXDimension">4572</MDI>
    <MDI key="EXIF_PixelYDimension">3956</MDI>
    <MDI key="EXIF_Software">ACD Systems Digital Imaging</MDI>
    <MDI key="EXIF_SubSecTime">782</MDI>
    <MDI key="EXIF_YCbCrPositioning">1</MDI>
  </Metadata>
  <Metadata domain="IMAGE_STRUCTURE">
    <MDI key="INTERLEAVE">PIXEL</MDI>
  </Metadata>
</PAMDataset>
