<PAMDataset>
  <SRS dataAxisToSRSAxisMapping="2,1">GEOGCS["WGS 84",DATUM["WGS_1984",SPHEROID["WGS 84",6378137,298.257223563,AUTHORITY["EPSG","7030"]],AUTHORITY["EPSG","6326"]],PRIMEM["Greenwich",0],UNIT["degree",0.0174532925199433,AUTHORITY["EPSG","9122"]],AXIS["Latitude",NORTH],AXIS["Longitude",EAST],AUTHORITY["EPSG","4326"]]</SRS>
  <GeoTransform>  2.0515524479826226e+01,  1.8497552615087947e-07,  0.0000000000000000e+00,  5.4712249231441959e+01,  0.0000000000000000e+00, -1.8497552615087947e-07</GeoTransform>
  <Metadata domain="IMAGE_STRUCTURE">
    <MDI key="INTERLEAVE">PIXEL</MDI>
  </Metadata>
  <Metadata>
    <MDI key="AREA_OR_POINT">Area</MDI>
    <MDI key="EXIF_ColorSpace">1</MDI>
    <MDI key="EXIF_ComponentsConfiguration">0x01 0x02 0x03 0x00</MDI>
    <MDI key="EXIF_DateTimeDigitized">2015:10:01 17:07:33</MDI>
    <MDI key="EXIF_DateTimeOriginal">2015:10:01 17:07:33</MDI>
    <MDI key="EXIF_DeviceSettingDescription">0x01 0x00 0x13 0x00 0x20 0x20 0x20 0x30 0x41 0x30 0x20 0x20 0x20 0x37 0x41 0x30 0x20 0x20 0x20 0x38 0x41 0x30 0x48 0x50 0x53 0x49 0x30 0x30 0x30 0x32 0x00 0x00 0x20 0x20 0x31 0x31 0x41 0x30 0x20 0x20 0x20 0x30 0x41 0x30 0x20 0x20 0x20 0x30 0x41 0x30 0x20 0x20 0x20 0x20 0x20 0x20 0x20 0x30 0x00 0x00 0x20 0x20 0x32 0x31 0x41 0x30 0x20 0x20 0x20 0x30 0x41 0x30 0x20 0x20 0x20 0x30 0x41 0x30 0x20 0x20 0x20 0x20 0x20 0x20 0x20 0x30 0x00 0x00 0x20 0x20 0x33 0x31 0x41 0x30 0x20 0x20 0x20 0x30 0x41 0x30 0x20 0x20 0x20 0x30 0x41 0x30 0x20 0x20 0x20 0x20 0x20 0x20 0x20 0x30 0x00 0x00 0x20 0x20 0x33 0x32 0x41 0x30 0x20 0x20 0x20 0x30 0x41 0x30 0x20 0x20 0x20 0x30 0x41 0x30 0x20 0x20 0x20 0x20 0x20 0x20 0x20 0x30 0x00 0x00 0x20 0x20 0x34 0x31 0x41 0x30 0x20 0x20 0x20 0x30 0x41 0x30 0x20 0x20 0x20 0x30 0x41 0x30 0x20 0x20 0x20 0x20 0x20 0x20 0x20 0x30 0x00 0x00 0x20 0x20 0x34 0x32 0x41 0x30 0x20 0x20 0x20 0x30 0x41 0x30 0x20 0x20 0x20 0x30 0x41 0x30 0x20 0x20 0x20 0x20 0x20 0x20 0x20 0x30 0x00 0x00 0x20 0x20 0x34 0x33 0x41 0x30 0x20 0x20 0x20 0x30 0x41 0x30 0x20 0x20 0x20 0x30 0x41 0x30 0x20 0x20 0x20 0x20 0x20 0x20 0x20 0x30 0x00 0x00 0x20 0x20 0x34 0x34 0x41 0x30 0x20 0x20 0x20 0x30 0x41 0x30 0x20 0x20 0x20 0x30 0x41 0x30 0x20 0x20 0x20 0x20 0x20 0x20 0x20 0x30 0x00 0x00 0x20 0x20 0x35 0x31 0x41 0x30 0x20 0x20 0x20 0x30 0x41 0x30 0x20 0x20 0x20 0x30 0x41 0x30 0x20 0x20 0x20 0x20 0x20 0x20 0x20 0x30 0x00 0x00 0x20 0x20 0x36 0x31 0x41 0x30 0x20 0x20 0x20 0x31 0x41 0x30 0x20 0x20 0x20 0x31 0x41 0x30 0x20 0x20 0x20 0x20 0x20 0x20 0x20 0x30 0x00 0x00 0x20 0x20 0x36 0x32 0x41 0x30 0x20 0x20 0x20 0x30 0x41 0x30 0x20 0x20 0x20 0x30 0x41 0x30 0x20 0x20 0x20 0x20 0x20 0x20 0x20 0x30 0x00 0x00 0x20 0x20 0x36 0x33 0x41 0x30 0x20 0x20 0x20 0x30 0x41 0x30 0x20 0x20 0x20 0x30 0x41 0x30 0x20 0x20 0x20 0x20 0x20 0x20 0x20 0x30 0x00 0x00 0x20 0x20 0x36 0x34 0x41 0x30 0x20 0x20 0x20 0x30 0x41 0x30 0x20 0x20 0x20 0x30 0x41 0x30 0x20 0x20 0x20 0x20 0x20 0x20 0x20 0x30 0x00 0x00 0x20 0x20 0x37 0x31 0x41 0x30 0x20 0x20 0x20 0x31 0x41 0x30 0x20 0x20 0x20 0x31 0x41 0x30 0x20 0x20 0x20 0x20 0x20 0x20 0x20 0x30 0x00 0x00 0x20 0x20 0x38 0x31 0x41 0x30 0x20 0x20 0x20 0x34 0x41 0x30 0x20 0x20 0x20 0x31 0x41 0x30 0x20 0x20 0x20 0x20 0x20 0x20 0x20 0x30 0x00 0x00 0x20 0x20 0x38 0x32 0x41 0x30 0x20 0x20 0x20 0x34 0x41 0x30 0x20 0x20 0x20 0x31 0x41 0x30 0x20 0x20 0x20 0x20 0x20 0x20 0x20 0x30 0x00 0x00 0x20 0x20 0x38 0x33 0x41 0x30 0x20 0x20 0x20 0x34 0x41 0x30 0x20 0x20 0x20 0x31 0x41 0x30 0x20 0x20 0x20 0x20 0x20 0x20 0x20 0x30 0x00 0x00 0x20 0x20 0x38 0x34 0x41 0x30 0x20 0x20 0x20 0x34 0x41 0x30 0x20 0x20 0x20 0x31 0x41 0x30 0x20 0x20 0x20 0x20 0x20 0x20 0x20 0x30 0x00 0x00</MDI>
    <MDI key="EXIF_ExifVersion">0220</MDI>
    <MDI key="EXIF_FlashpixVersion">0100</MDI>
    <MDI key="EXIF_Make">HP</MDI>
    <MDI key="EXIF_Model">HP Scanjet 5590</MDI>
    <MDI key="EXIF_PixelXDimension">3256</MDI>
    <MDI key="EXIF_PixelYDimension">6888</MDI>
    <MDI key="EXIF_ReferenceBlackWhite">(0) (255) (128) (255) (128) (255)</MDI>
    <MDI key="EXIF_Saturation">1</MDI>
    <MDI key="EXIF_Sharpness">1</MDI>
    <MDI key="EXIF_SubSecTime_Digitized">00</MDI>
    <MDI key="EXIF_SubSecTime_Original">00</MDI>
    <MDI key="EXIF_YCbCrPositioning">2</MDI>
  </Metadata>
</PAMDataset>
