<PAMDataset>
  <SRS dataAxisToSRSAxisMapping="2,1">GEOGCS["WGS 84",DATUM["WGS_1984",SPHEROID["WGS 84",6378137,298.257223563,AUTHORITY["EPSG","7030"]],AUTHORITY["EPSG","6326"]],PRIMEM["Greenwich",0],UNIT["degree",0.0174532925199433,AUTHORITY["EPSG","9122"]],AXIS["Latitude",NORTH],AXIS["Longitude",EAST],AUTHORITY["EPSG","4326"]]</SRS>
  <GeoTransform>  7.3302402187547742e+01,  5.7171426091908665e-04,  0.0000000000000000e+00,  1.8786595688051911e+01,  0.0000000000000000e+00, -5.7171426091908665e-04</GeoTransform>
  <Metadata domain="IMAGE_STRUCTURE">
    <MDI key="INTERLEAVE">PIXEL</MDI>
  </Metadata>
  <Metadata>
    <MDI key="AREA_OR_POINT">Area</MDI>
    <MDI key="Raw_profile_type_exif">exif
   12182
45786966000049492a00080000000a000001040001000000aa2800000101040001000000
2f3b00000201030003000000860000001201030001000000010000001a01050001000000
8c0000001b0105000100000094000000280103000100000002000000310102000d000000
9c0000003201020014000000aa0000006987040001000000be000000d000000008000800
08002c010000010000002c0100000100000047494d5020322e31302e3234000032303233
3a30393a31302031373a35303a323600010001a003000100000001000000000000000800
0001040001000000af000000010104000100000000010000020103000300000036010000
030103000100000006000000060103000100000006000000150103000100000003000000
01020400010000003c0100000202040001000000532e000000000000080008000800ffd8
ffe000104a46494600010100000100010000ffdb00430008060607060508070707090908
0a0c140d0c0b0b0c1912130f141d1a1f1e1d1a1c1c20242e2720222c231c1c2837292c30
313434341f27393d38323c2e333432ffdb0043010909090c0b0c180d0d1832211c213232
323232323232323232323232323232323232323232323232323232323232323232323232
323232323232323232323232ffc0001108010000af03012200021101031101ffc4001f00
00010501010101010100000000000000000102030405060708090a0bffc400b510000201
0303020403050504040000017d01020300041105122131410613516107227114328191a1
082342b1c11552d1f02433627282090a161718191a25262728292a3435363738393a4344
45464748494a535455565758595a636465666768696a737475767778797a838485868788
898a92939495969798999aa2a3a4a5a6a7a8a9aab2b3b4b5b6b7b8b9bac2c3c4c5c6c7c8
c9cad2d3d4d5d6d7d8d9dae1e2e3e4e5e6e7e8e9eaf1f2f3f4f5f6f7f8f9faffc4001f01
00030101010101010101010000000000000102030405060708090a0bffc400b511000201
020404030407050404000102770001020311040521310612415107617113223281081442
91a1b1c109233352f0156272d10a162434e125f11718191a262728292a35363738393a43
4445464748494a535455565758595a636465666768696a737475767778797a8283848586
8788898a92939495969798999aa2a3a4a5a6a7a8a9aab2b3b4b5b6b7b8b9bac2c3c4c5c6
c7c8c9cad2d3d4d5d6d7d8d9dae2e3e4e5e6e7e8e9eaf2f3f4f5f6f7f8f9faffda000c03
010002110311003f00f5fd4ceb916b6af677d62968f0858ad66c066941eb9c64a90d8207
20a29cf2416fda7c42d2623b9d19c2b6c7186cab1231fc5f518ef8ce46701dad787df50d
62cb518ae16136e543e23dcccaae1f1cb05c1c63e656c6723079acad3fc1b25a0837df6f
101b758c0800764865320f30ef3b9db38dc31dce39c5005f4b8f128168f35c6901594a39
0c712363861f8f3b73ed935d059fda7ec507db7cafb5796be77939d9bf1f36dcf38ce719
ae41bc217434ed2ec5f51b7f32d37a4328b46c84382411e61527e5fe2041e38e2bb5a002
b2535985a4d9bb9760a9938ad5242a927a0e6b28691a72dc29fb248086dc1f71c67afae6
a25072717cd649ebe7a3fd6c176b646b5148a432861d08c8a5ab02b857593734b294ebce
ddbfa0cd64cfafab6b5069d6c0962f891994e08c678ae63c57e26fecdd5e390472cd0a28
1e586e32475c7638fe55774411ea3ae2de05d8d1a07e016ec06dce07ad7952c6569e27d8
c229456edbdfc92378d26a3cef4f53b471f29fa1fe5589acdcbc5a3dc4d6712cb74b2f95
1ab9380cd205f5f7adadfbd5b018638e4633c565db594a97378d2796629a6de9cf2083ff
00eafcabd6e5528bd6cce695f646ac6a14b019edd4e69099b7711c7b73d4b9cff2a58f00
b60e7a7355354be4b4882799b24933b4fa5675271a707396c8a8a6dd91706e39dcaa3d30
73fd29c05665bdf88602b3991dc1273b7afd2b4c722a28d68558f3458e51717a811c5005
140ad1ad442e2abba8497cc799c27f74950bfe3fad58ae2bc457e2e3598ad44c62855487
65ea0e483ec3a7eb59d7abec69ba9d8ba518ce6a3276b9a17daeefbbb5b5b11ccb2a8691
b3c0c8c8c56eb81e5b614823be6b03458544b0885cbc614162abc13ee71f5e9ffebd3b36
77b32d2e77b633cf1faf35c980af3af17525dcd310a117cb05b1a45d41c13cd35a645ea4
fe0a4d50bdc1b9e5588dbd85553b724ed7c0f6af44c0da599186413f8a914e0cadd0e6b1
c48ea02a34c067803381576c8b92e1fccc803ef93fa5004f74e63b499d7ef2a311f9560e
84354fed0bfbad4a4dd14eea6d955b21146ee31dba8ae86441244e84643020d4115b0814
2c6a001d3e63438a767d50acee4d17fa94ff007453e9b1a958d54f500034ea067937882d
23b9ba21a58d4072c439c0c8e99ad4d1fc516e8911b35dcbff002dbcb006f600f6c1c0ef
dab7d7419d6ed9ee1ad5a072772331ce33d471d6abc1e0ab78b575be8e58fcb47de8a173
ce73f4fc6b8730c34a5888d4a4b6d535d1bd1a7aaba7b9d185a91f64e35775b5effa1d15
a5dadf5925c2ab2ee072a7b1e6ae545b5829c9c8aad36a96f04ad1c8594019de470783fe
15d729c616e676316b99be5426aec52cb20b8f9c1f95b6f039393d8715cd45706e270256
6df80376f393e9dea1d5e3b9d43508658af58445c058a41b9572a48207be0d632a49a6dd
9599164120241041de33c9079cfd07e42bc3c5d4f6f2bc1e96d8f5b0d848b87c5ef337e3
bb85e62b1dc79aaadc82e7701dff00cfae2bafb6996e2da395376d61c6e1835e7d61a743
aa6a492428d2c68e19c06daf19ff0003edcd7a16521555c3631801549c7e55d996d3714e
5d19cd8e8420d453d479a0546645c03f3f3fec1ff0a7af201c9af499c03ab80d5a159354
9dc923ca9cb3601fbb9c1ce3d8d77d8ac36d1a56d4659c4a0abb36e46438653d466af923
529ce9c9dae8ca7cca51947a152c257b6b71728ccf0b44afb5324e40e80632722b62d023
5889120684b01f2b7047e159979a6c165690c736a125bc3e6a2c6723713bb85c9c920f71
e9deb61967da77baedef815e4e5f84ad87ba9bd2fa23aaacd4927d48aedc2dd7dec1c0e3
fc9a83ce8fa316ce7b1c0fe75a525bc72b65c127eb40b7880c6c1f957a864670963c8e09
1e9bbffaf56ecdd1d9c20e8077cff5353f9117f717f214a9122125540cf5c0a007d14514
00521200c9a5240eb45005296e6d2ea374370abe5b7cdf300463ff00d74e4b489d1591f7
29190c0e723d735cceb3670456f751ac8238965eafc2a02013f801595777579140909bd9
c6d002fce402b8c700751ef5e2acdd464e1523aa76d0ed8613da24e323b9d45e4b7b0262
2e5b2064727935cedd407cdf2d9d9540214b741fe715951eb9771c91abb4ccae36b92dc1
2dd0f3d7a8ab5677b1dc08a61868800caebe84e723f03c7e15c58ac4fd624a693497dc6d
4f0f3a459bab51796d1a39f39410760215811d307a83faf5a9eda0826804720ca0e36ce0
3863d39cf7fc69af35b33b33c45883f2ee2460fa60fbd43e7799bb9de7db9fc2b0949a56
1c549c52be9b8c5b5bcd22463a3c203bb0dd0961b181279cb1f9791dbd7f2eb6c9aedad9
4de246931eab1b640e3f9f5acdd0b63895ccbb9f38113632838feb5b0b2233b461d4ba80
5941e467a66be8703192a49c9ee72622ab9be592d7bf51d45145769cc15cff00887c4434
492245b769a590647cf80074e95d0571da9c8926a92adc3285f99324e320127fad67566e
9c1ced7b046ce4a3dcc7b6b8bdd5358b4b8be9d8c71b2918c6319cf6fe75df9977230f31
1b201000c6467eb5c769421fb6ccae65e50c71ec0d86270393dba8fcf9aeae04616ea480
576f0d907fc6b1c2ce55139cba83bdb5342a39999632571ee0d4951cfbbc87d885db1c28
38cfe35d4036118c91c0fd335354516fc9dca57927a8c53d9d5012cc14019249c71400d6
855c9c97e7d1c8fe46992ba5ac4f31dc428e85f3fccd52bbd6ed61d3ae2e629158c7f280
7bb76ee323f1ae4ef3c437577180ce4c4e767014293edd4f1c77ae6ad5dc617a6aededd8
da9d2727696875f69acda5dc124818c65090565f94f1541bc4e8b2153085c71f3363e9c9
ae7fce4585238e3f3142ef72060e73d0fe38fd29123b4995d8ef5959f185607f9f15e1d4
ccf10e2ada5bf13b3eab04d9a9717a6e6e629861d9d06e41f32f1d7be31d6b1aeede6f36
2973e62be7903b83dfb551bbb4bc818c9b18463a321e38351add4a132b71904fdd7e7b7b
f15c12529cb9dbbb66d49f23f74deb98e16b345da63552ae14f231800648f7152416c931
8c321cefc3ba9ce47b7e559b6fa94d2c6609197e65e188ea7d3dbffd55a1657488977b66
8d4c6bcbb9c856e9cf7ebfcea62dd28393be9d89949a86ac9e480a2bb95f94b9c1e9924f
03b5606a1ab5c6952db45776f29b7236cb70bd9b8f4e42f3f788e08f706a7975a862d5cd
bddc6af1e42295763b33c1dea783c8fc2b4cc96d15d3c52321468fee4a781923eef1ca9c
fbf6a752ad4838cbd9b926af67d57934fa7f5d2f87b56dd93b0ff09409737b3df7dbbcf6
dee102c81804e8071f515d9d72fe1567335d2be9ff0065dadd321b3ef91ebfd2ba8afaac
1b6e95dfe9b7caebee38ea34e574145145759015c7df597db3529e3f302b191b6e4704e7
a1fad76155a58a30d9f2776e3c90178fae6abdd719424b4667383934d743cfc595c9bc8d
446c0b38dd85fbb9382de9c576b610456564d6c970d2e1b20b7f2150cfaa446e2286d583
b3b00588ed9e82b51e3458c955008f6ae0c2c29a94b91dec6d283514d9351452312a3214
b7b0c576922d646bf6f1c96cb23c8e810f241e318e6b53cc6ff9e4ff0098ff001a246091
96652c3d02e4fe55956a6aa53707d4a849c649a394582ceeb67963cc8e3c86d8704e318c
9fa5676a4fa5b422d2112b991f2040467bff0053d2b56f2dc99676b5536f113ca85db9fa
0eddeab0d323b6ba59620825272ecd96c0f43f5f5e3ad7ce529d3a12776dd9e96efe675c
bdeb19ba6b5d5b2498b392577e06e954607be39ce40ab93c6f7ce5fcb585e3077a1c77e7
39ef56ae6da5175bc7cacd83907001c73cd23dbb79a44f1a91b09c01bb7fd78fad7355ae
aa4b9b952f4bff009d8da29ad54b5312eef2e34d922748da5b770a0b990019271b5719dc
7dbbd54d5e79ed844c6252c54e51981607d081dbaf35bf269ce20496d6d9770da522924c
2a633cae01dbf90ed5917f696d7576d2c8591b78ce10e6338078ec79c75cf5c552f6724b
4b5baf7f95cb839cdb57febd7fe1cc992ee4b29e17bc40a2420a18b9007bf39f4a8ee5ae
e679ef920922b18810546dc39ce4f38e9df073d3f2af796ad61335a42256b69d94bef507
a1f5ec39e95afa36c22f2d65982472958c29701028c90158820649fd2bd1c14a10727f16
9f85d7e3f2b2efa9e754ab539f924625d6a2f7371034b6b023483e62a9867dddcf3d7dfd
eb42f6310dbdbdc4c0074388d1bf8b9cf407803db9e6b4af2c2c751d42dccb01b5963897
6624c6f2bc152063a100707ffadcee982e27ba96cf557f32fe38d9bcb7e01038250f7e71
dfd7818c576d1c441c6115eef2ead7e8ba5bfad189d1938dd753d074af19587950c69a73
db877f2f0adb8038e9ebf81ff1c7648db915b04646707ad79768d6c2dfc5fa64e37aabb3
2bc723f21b6b00dd79e31fe4d7a95775371714e3b112567661451455882b0ee75883fb5e
4d3e42abb61f303160411920822b72bcf3c4cbe46a2751419782521947f1293d3f9d73e2
e9b9d095ba13cfcb257ea51f0fcf3a78bafed01924863c5c460e5829c676e7b03fd38aef
e1ba8a6de16011bf7207bfd2b9bb25b586e1afe10d89e308f8230e9d707f0efd6ba5b3f2
64b332c70f96dd0835e5e4f8ca355384749754756229c96af62d4d7690b156eb8f5eb54e
0d63cf5256d9b8382bbc6e1c75c1ed56e6b559b24b104fa5548f4748d593cc0d1939dac9
9e7f135bd679829bf6695ba6c64b92da97a19c4cacdb0a63fbd8acfd675682cf46bab84b
855708c10ab0ce7a719f7abd1da45144d12ae11ba81c7f2af38f19e9d20f16da2c32cc2c
de02648327ca1c376ec4f1d3a6335d29e21423cd6bf5ff00803872a95daba5a9b1e1fbf9
9b438e699f78dedf3125d98e71c9352b6a01677db1384624be5be6e7d3d2b9ef0b4c88b3
69326e1e5c8c500185009e73fd38ae8ad25772fbe3113a6387c6546323fc38fe95f2f8ba
8a8d69464bd3cd1dd1a91abcd512dfa76b8bf6f592d8911b04ce0ab12327af5aa373a95c
1f352dcc64797b59186e3cf038cfd78efea290cf2ccbb0613e6cb818ebfcbf2f5a9ad6c2
3b664b89633e61661c36571c60907a1c8fd6b45cae4e4b6fbca74e1086ab52922eb367a3
4d1daadb799181e5243088c273f776ee39c7b9fc7bd729ab5f6acf7c8d71b6d30c7cc64c
ab67006d75c90481c8207230457a02c204693403cc599959989f970460e0e0f61ffd7ac2
f126896171a85a432cd2437ee8cb0b972cb26390a412768c938e39ae9a75a29be64aeefa
dbef392a26a378b134b916eade3124b1b6530ce87783ee47a1c7f3aa31785efa1bc37097
91c9bb3b942fcbb7b704f23d8d7373cbfd9f799f3d4796c1379e173d08e7b751f4ae8b4a
d46fafad65304a8b3b17d88082bc0383d3b9c7f3f5ace8d69d2bfb36973697697ea38d68
e2251535aafebc8de2b12e9e90de4a3cc0a7e7d8bf5e0631c7d2b57c3de14d005a25f1d3
229ae6562ed25ca0760c0e3201c85e99e319ea6b94d4bcc33c36d6cc6467e246dd860a38
18ce3b9e73cd7a268363f61d22d9086129894c80b96f9b1c9aefca29a8f338bbdf7feba7
a057e571baee313c39a2c37b15e45a65b477117dc9238f695f6e3b73d2b5451457b87209
4b41a2818573f7360b25d5cacd240d14bb8491b3b0255be838ebd6ba0aab7376b6eeabc9
63c81903343aca945b96c44a0a56b98967a0dbda430aa5c6f863e14b7cc7af0338ed5b4c
66f98b6029ed9381ff008ed673dd09ae6d84ce39718461ce7e95ad29631b02171ec79eb5
e7e02342f39518daef5f366b3949a49bd8a1a95c5dc5731a400089a362f2b360211d38ef
9fe95523bbbb272d7f0e3db9feb5a92cb632e564b884f1820b8a8a34d321cf9734080f50
b2003f2ae4c465d8ca9565283b27e6ff00c86aa412d49ac5da4858b4c2539c6e1d2bcf7e
273cd6f7fa54b6f0c91de1575fb5c6a0aba01931e093ce769e7f3e2bd096eac610717508
07fe9a0af3df1bdcda6a3abc0f1ee2d0c2503b0200c9c9c03f8576a9cb07864aaeb248db
0d43eb357956c737e1dd49a4b89d4066bb07237b0cb85ec7dfd876aecadaf626bf8ae91d
8b5ca18f613f2ab28ce077ec4f19ef5cad8da476424bcb541e712c1b2dc31201fc3a1f6f
5ab5a75cb43a847231ead8931c83cd78198b8579fb4876dbd4f4f0d84718ce0ed75f8ff5
64d1d4deb31981f98230c2af030707a67e9d3daa4bed46ded34a8f509b3b630232060b67
8e83bf1cf1e9587aadece755b48a09943c88eae08ee46538fc0d57b6d4f56121b76b512d
ac924884eefb9862304fb0c738a543055634d39dbbdaf6efdfd0e5735382b166ceda7b7b
87bd8af21b6d3a094efb384e438ce5891c7279edd860e00ad39758d2aed592cef8f9903e
4a073f373c800f04633c0e6ab0b630b858769b73194685461594e7f5c93803f0ac0b6d2a
6379708b335b5b956408c08258ae0e3b103ae7debae9468d78b95593565a69f9f5bf999b
838b496adf995350d26de486faf6f5e5312c8ceab060f46c9247a0f4158b6dadc4353b68
b4a4fdcb105a36b70b9239cb303c771f5c1ae83547bb8e016e9ba58a350b2c63a3003a80
718faf4f715c1dc4ff00d8ceb7b6ae56d2e3055b1c81d761f4ff00eb7b54f3d19cb968ab
5b45adeff86879d294e9cacb5d5ec7a6da456f2c315cc1791156667080ee2efce7049ce7
dbdabb2f0bead3de07b49446cb0afcb229393f87e35c8784744d1b5ab28aef4f9a786f1c
b4b3a4d036d3cfa1c053c8c1079f435de68ba22692d3b6e57691b82ab8e3debb30542a46
6a6be17fd59f9a675cea4674f55666bd1486815ec9cc2d1499a05218b5c2eb1aadec5e24
f2d194421586d73f2b1048fcf91f97bd7755c26b165737ba84ff006574f3a391ca2303f3
8eea0e7a9ed535a87b6a334b75a99ca6e324bb93787995f5633dc4a449b70060f3ce31fa
8ae9a18dd167f337659d88c9c8c6ee39c7e95c0c66e20b80917eee673b017cf04e3a8ea3
b5779656f7169a7986e6ebed1206c86dbb703d2bcfcbe6e49c6da2feb63a27879518ae66
aece6dd7f7cff534ce338e73f4a96578d256deeabc9ea714de31c57d546478ed10cd089a
168cb15cf191591a95bca51433467cb1c10b827e95b7f8556bd80c8a8ca3e656079e9d6b
8b31c3c2bd27cdd0eac1622542aa944c2b6cdac8914aacad30771d7e50ab9c9fe5f8d50b
eba4fb6c8f180a1f6e109e95bb791c7b05d327ef36945638e8d8cd656a30b0b08047b7cd
75ce140e573d7d33d7afb57c64d25cab7eff0079f4d82abcc9d67a36dad3ef19645feded
73727ce7876c8fb47dd3c003a8e809abd7d7f3b69313c53224d3312638d0e181cf190339
c60f51fad743a3343a8583ace158ba8dca08382739ac8d4b4e36daa48968ab1a6d04c409
193cf6ce0fd067f0edb52c6c2bd5b4e3671f9ad3a7977fd4e29270bc51269325a348d652
2bbc8916c64694fc9bbaafd30179f73ef5512f77b0b772cc164c2ca0e1b1db39efc819eb
dbeb6e3b5682d9afe2b44f3c82c5492a5d4640c93deb95b6d449bcf3658c428b270abce4
7e3d3d3f0a528aa9394e3d3cf67fe42e68a6948d5d4fcd607ce8c28202ab6fc8c8391d32
0f18fc73d3a573971e1ad36f62d971311b1cc824da4104e72bc8208e38e38ae8238158ce
8d33fd94c46e579e56400700fae0e3b7207a5411dc69d247812490a31dca061bfefa3907
b70074f7ae5c64654ed528a6afbd8e5a8acef2dcedfe1be9ff0065f0e895ed7c876768d7
32b485914e01e40c743c0e3b8eb5d7c8ec98db13bffba47f522b87f0aea974ab159d9c42
58dcb102560bb4679600678f6fa57745828e481f5afa0cbeac27878f2ab5b7f5ebf8995e
ec88cf2671f659b18ce729f97dea994e4038c7b1a426941aedb801a0534927b1a013c714
afa8c7d64cb6721bc775b68caeedc1b0324d6ae690f2080483ea3b552935b09a4f729c31
3f9c0c902f4c6e0a0607e75605bc4bc841554db4e8c5defe4118393950303eb56e37564f
95c3e382c0e79fc2a56e3332c6681adc464c61c330209193cd53d65556ed02803f76338f
a9a6c16566d3457535ca2cb1b92ab9c11c918346ad24725ca189d5942019073dcd5d08c9
621e9a6a73d577a450a0f239a4e7b01f9d1cf7af4deab538cccd53cc1a75c5d4a99f2d58
aaa203803bf247200cf515976b652dc5b873195931ca83c8cf6ebfe15b7751ec59198968
9c1250f40c39078fa7eb9aa9a7bb865474733138521f78e99c1e011d0f51f8d7c762b0ca
94e54e4bd1fe47bd4313250725b3e8505b8b9d3a443e5ac7e5b641d982fdbafd0d740348
8974fb89c48cf7971fbc0d280d8079036fd302ab5c4097fb124ca88df2793f30f4cff9ef
5cc6b57175a5f88ed3ec929b78a65d924ac320600c73f407eb5e5d17cdcd4e3a4baf99d3
5ef3b4fc8eab4dbb97ec125b5c6cdf0424ee64230075047b6473ef5c849a3ca651f29923
94074c118ff7971db835d169f7f7ba8ebd66923916b7114d1cd148990eaa148c63186396
f5e3b719a4d6630357905aacb143648abb54e17201391ff7dfe95ae1eacd3692b736ff00
2ff82671a7272e5d02cb4efb44ab1e9976d1c4c509729bbeee37719eb9edefe9576e744b
44b91108ca156da7cb50015f4207518e2b2748bf6d2b5c9a09a32f04cab26e1c9121caee
e0f1c0038f5aebae23fb7c892aa26dce7e718dfb4fe9cd3c64a4bde7b772a4a319b83dba
185286b5d5d1ad8c0a43ac8ceeedb55bb6ec676f008271d0f355fc41e26d56e3524b1584
c1736ae4486091b6f2473d0646323278f98706a8ea521d3f5d92e74f9ae0cd382c639039
19dddb1d0e54f19c7b8aed7558b479f47b4bbd7ec14197018a8652091fc4460f3c707b91
5e960e8df0f6bd93b3bec633ab0524d47fe1ccfd0af355d65e1b9b4ba578a0942cae641f
3c7907681b3b608ec4e473dabb81587a3a5bdade4b0698d68ba604c88e23f32499f9be83
18ada79022927a004e4f4af529a8a8e8ce56ee29a076ae3b4cf88fa46a0b334dfe88b0b7
96e647072c7a6d039231ce78aeaa382d640b3a430b6ff9c3841939ef9abd1ea80b3477a8
7ecb6fff003c22ff00be054d4c452b99e28ef2185c2ee9158a93ed8ff1a58f61f2586d24
b9e47fba6a1bfb26b8beb49d651198371e573b81c64545a66969a7b3b2c8f23cf3b4ac4e
70b90c4003a0ebf8d0d2d2c2bb30e4ff0058df534da749feb1bea69b5eaad8f31ee14514
53020bb50f6e4312172338ea7f515911095ee519180f2f190a71c67a56dcd9f25f0a18e3
214f7ae7e699d1d93014337dd1d33cf19ff3d2bc7cc68b9cadd1afebe67a3829b48d5b79
da6862902b04232ca71907d0fd39ae7efecffb42e5629a499544ca19236209507a020e71
cfad6f69f0a3c6cf13aa966e88bc2fb633d7dfd3154269041aa4970d179b1a483701c8da
30327e9debe3e9c2542bca6ba7f563d48568ca9b8f537ae74911d822db492a7931ec8d30
1be5e9839049cf1df9c0ac06170faa4b193e620c265f07e5c0c8ebd327b63afe15bcdaed
94c9b227de4aee3b083b471d7f3aca956cca09a2b9596507242723ddbddb9ae5c0d4a966
eaaf79bd34efe9a6e5505cb34d2b92d82c10dd29310662b8595c02d8feee7b761fe45747
f680d1f9719e0e5430c1c1cf3f9735c35b5d3fdbe1bb921cdacb1112bb1e7ccc9c100fe3
cf43d8915d2da6a8b71198996359463cb51d1c8edf5cf15d55284a536ffafe9750c427cd
cc324b18d45c24f72403315c0623687c80060f4e57f2ae6afbc41776a12c2f269e7f3b7c
7e64731daa01fbe0f20119f427e5e2b675cb5b7bf983aef2b2a2e5892a0633cf5ed81c1f
5ac6b8b09c4da6ad8c5e698251bcc922a90bf8f4e718e3be38ae984f9138b96fbadba7f9
910a6fe2e963b2b1b35d2ed19edc334bb0e59df70c9c9e4f719279ebc0ae7d7c5372de30
bad3b55b98c45120f2a2c80adb87de3ce09031c7b9ad4d42f96f7ca82092d5addce27333
90ca460a80a3a9ce4e4f1c77af35f14b5b47afdba59dc4ccd0dbac4d72e402e793cf1d70
40cf1dbf18cbe9d5ad7a336ed2bbff0083fa1949726ad16ef34bb4b4f135e5d2caa74f33
8936aaf5c819dbc11ea31ed5ea7a578c747b8d3229e5996d30bfeadf9c01f4af1dd2ade7
be9a7b791dfecf0b71f365411d40cfd7f9d6f4b1401d60909f2913700a382063e99c922b
dba9888d051a517792b5fd2df995470ded173cdd91ed2ac1d430e846452d66e9bade9ba9
aa7d96e50bbf48d8e1ba67a771ee38ad1c57a29a6ae8e2621a5a42a3346d1eff009d0071
d27fad6fa9a6d3a4ff005aff00534daf556c796f70a28a29805614e83cd918c036c6dd73
83d7afe75ba7918a65ae9134f35c490b8f2ca8de198927d80c1f4ae1c7c5fb3525d0ebc1
cad371bee73c932881e291a4589cf26272ac3e869f6f662e2da64b69245f2b1e5a6f27d7
9e47539ebea3deaec9a7a472322a1e4e0600febcfe35134525addc72400b0907fab208cf
1fcfa9af9ec6387c4968ff00ad8f62961da4dbb5f75f231e0b47b589278d76c0af8c2ff0
9ce6b4609e18c48f018cae4b6e6ff96671e9ebcf5aaf25c89d5da7552012823001382727
f238c53a2d3f769ef217314724e17e5505b8c1f5e9cff235e2f3b534a4ef7febfaeff33d
09b718e91d6fb0b1840cac8eecadc805b38fa7a55a24ce32132ec7818efd07b7f2a74315
a46de66667931f2066da3771d71ebe954a7b85decff2ae720f20291d7ae7f2ae9a93e6f8
13ba0d26fb58d19176dac51329f33258231e47381c1f7078a448274b29a61f2bc5825510
8ca9182c38e47d38e292ca7b896392d678483260efde18e7d00ebf5fae6a5bebc8bfb1a6
85a4c5d33153f20caa86ce09e9ff00ebace709e96d5bb79e8cce3d96d72b22caaf9f2c0c
c4182ab03807a13c607e35c16b105f586bb325e8d970c86503786e3040c76aeab4e8a4d8
e219bcdf31846aa4e5ba7afe03fc8a99b42ddab7d9ae1049732155f348dcc41033c9e48c
7f2af47075e961e5692bb9118ac3ba9a5d2b1caf876ea748ae963754841072c4707939c0
ff003c574f0ac5711cf32290eb88cb0072c0e4f1cf3f87ff005ab7cfc31b7b5429a7df48
88539f3be6cb73d40c64738a9bc3fe12bb2665d66de38a30e84244e196423767f0391ef5
d58ac34aad7bc55933869621c20a3d897c11a314326a3248ec3e6863e40ce1b0d9c0047d
d15db5436b6b159db25bc20ac4830aa4e703d2a6af429d354e2a28e693bbb887ad0283d6
8ab11c6c9feb1fea69b4e93fd6b7d4d36bd55b1e5b0a28a298055cd32e3ecf78b9fbaff2
9fe954e90fad44e2a71717d471938b4d1d15fd9417d11ced1220f949e99c1c03eddeb86d
4669ec6436f35cc6d3290d90a72a7d0f6fff005d77ba6dd7da6d573f7946d3cf27deb13c
59e1e17f03df5b073748a3318e8ea33dbae79fd2be5b1b4aa28b51dd1efe0e7094929bd1
9c0bcb1cad2176c48c7230463deb513585fb0436c225691724960704e79e9d3afe958eb6
ee5e60f22c4d12924480839e0631eb5760b90c890c96e5a45384c000103a0cf6e41e6bc2
8d3a526b9b56b6f53daab24ee9c76f3f22f5ab40f2235d5c243381bc295255b1e878c8e3
db39e9552f6d67b8bf8adada1c451485d8a1dddfbfe7d2ac964da22b610ee46237bfcc0e
5ba7b7f3ac7b2b113cb32bbcd8de4bb890a166038236f23049ea4f4fcbd2c228ca329b76
6b6bf4febef3cfc429bb28f53abb1b2b58964b32e6298e51999f1c1e7e539c938c7e7506
bd667cc9a708b2edb722508db4b10c368233e85bfaf6acebb9a6d36da05e372e546e2c59
813d724e7bfad52d5b58d4174f416d68659ae1fcb4cfcca849e589f4238e4f7f6ae6a783
aded235a32d09568be6bec322be3a4a35dfd9fcd68c6e8e227192411f31f4191cfff0058
8f49f08cb6d7fe1eb0bb088d7091ec7729c86fe200fa66bcb6ee78fec9a068fa8ea30413
379c6e6ed899bca404b283c8c93c0ebc7bd7aee829a75b6936b6fa738680a6e46da46fcf
3bb9f5eb5ec60634e29ca4ad26dadfa27a5bf339b13579e5cc9ee68493246c1583e4ff00
75188fcc0a54955db680d91eaa40fccd3cd02bd23905a28a298087ad141eb452038d93fd
6bfd4d36964ff5aff534daf4d3d0f3ada8b452678a09a771585a4a5069a4d2b828962c6e
dece42571cf0723b574f1c8d22ee0063b67bfbd71e1856a6957cd04c2073989ce067f84d
726268f3ae68ee74d2a9caf95ec4bae7872db57b598ac314778c06c971dc73cfd726b95b
3f0b6af6b2192f7cb10c0a5810e08240e31df239eb5dedd7dabcc4fb3fddc7cd9038a8c3
de670f1a11df8ebfad78b530f094b99ad4f4635a4924f5b1e6d716c6c5a4fb3864dcfb89
7c9c93ee78c7eb43dcccd379b0205865631a65b247405c0ef9e71f5aeef5bf0e5aeae9e6
37991ceb96dd1be37718c1ce463a76ae2b54f0cdf69f25b34b25c382c5d8dbc0f28cfa10
83767e99efc5672a3049fb9f3ff81ea76baf19ae64f5edfd76b1cfdf5e8de2de795e28bc
c6db193b8a96e7a81ec7af4c5763a458c57da65ddb9b6923b678c22492aed2e727e6cf1c
70a6a3f0ef8574cd5a0b987518eea4fb8cd1cd1c96e7fd9ea149c7f3fa576705ad85b0f2
d25885b801238f7602fb673e9dbda962f0b57114231a2ecd3eb75e77f5b9cb52ac54da5b
1836de16d2e0be5bb4b5492448fcb8832f08bdcfd4f2735d25b5ab070d20c01d07bd4f1d
b428e2441db839cd4d4b0d95b738d6c53bce2f4d74f5db731954be884340a0d02bd83216
8a29923f971b3e33b46714c071eb45534d415c67c8971db0b5622984aa48565c76618a40
52f334f6966411db33c6db582a8241f43e869c90da31671144463ee944c0feb5956f6ac9
a8ea2ca10799705895b331761d587fac3fed5695ba148e5cb7a0e54fafbd35260e3612f5
63b7b19678edec90ac4ce0ccbf2640c8c91ce3d702a0b49527b58647b6b22ce8ac5a35ca
9247f0e4671f5abd2391a73bf98e3e46f993031c7627a7e354226568d18b3b6403b88dc4
fd48e2a79df3585ca8b91c50bac67ecd6ff3672447c517115bc3c8b5b73d7ef47edf4a40
c822886e6507383e9cd497ad8180e40e72371e78f6a8ad3946174faafcd0d45152336cce
a3ecb660138ff57ffd6ab31c76c6765fb3db8da78c46335144fb595559473c805eacc2e4
cd2aef2dd7827a56bccc2c889af254b992378d420c6d62ac33c73db15325c336e2540017
76769acf9767db67c05ddf2ee20b0278e339e3f2a9a1317ef3e541843ebd38aca9eab5ee
ff0032e6acfee2e24a648f70008ce3216a0b8bf685f68087938eb4eb6f2cc3950a46eec8
7d2a1b866f3ce242a4647dfc512769452247c5a8192276f9015c71cf7a2fef27b6d2a6b9
8515e64899d51a3720b019030a09fc813e94c88c8d0cbf3bb1e3fe5a74ff000a351490e8
d3aabbf986170a564c3671d890467ea0d6af61224b0b9bcbad3eda796389249225775f98
609009182011f8806adee946dcaa9f5c1ac1b25f2ed2dfcc27788d431620b138e4920004
fbe056a2cac5223b9883d4e49fe542021d4b5292cee6da35f2b12b3021c364e003c6063f
3c53e0d41e5755dabc9c1c03506ad15abc96ed3e3cd42de4e58827819c7233fad450f97e
726377de1fc3eff5aca126e525d9fe88b95b9558d28ae5e596551b3099ce01cd576d4984
f2c4444429c7707a77cd3ed4299ae39e3272081cf26a8c3334f7d771a24dfba650495902
9c8cf071b4ff00c04e2b47ba20b31dda481898a11b4678156ed6659230542a9cf2145575
12ec727703b78dccdfd4558b6dde4aee21b93c839cd2031230a351bf61160f9c727c80b9
e07707e6fa9c55f88e2da56298e40e1719e7eb59f6d26ed4b520ad6f95b82084319238fe
2dbc83fef735a9186f265cb460f19231ebed4a2ac6953e2fbbf2197058e8b2ec8e5dde53
ed548d5db38fe156e09f6aa36ece2ce1de9206d8b9f322546071dd4700fb0abfa8b81a15
c969a345103fcece54018eb95e7f2e6a9581274eb664903831290c8ec43703904f27f1e6
8fb467d4bc32d6f0fc8c7ae76c40f7a9af3385ce475c673e9edfd698bca440c8075f520f
3506ad34d15c5aac6d184766126e8e4271b7b15e07e3c54d58b946cbcbf31a121606445c
8fa926aec3ccb290c08048231d2a9c4cbe628de9d46393eb5721c1965c1070483f29ff00
1ad108ceb89161bbb8766181b38dafe9efc7e5f8d49677114e9218a48c85523a371f9d65
bc8973adeb16ab75f3c7e4e54ceedb32b9fb857099f6273deafe9707d91260652e482dc3
74e83d3dab38a717629be6d4d1b700c45b28d86ea12abdc4db26606423aff191fd2acc2d
badc36e2dcf3924e2aadd9c4a7e6c75e99a53f8e3f31741566592d65cbb381b7b927afb8
a92ec95d25c87f2b1131dcce502f1d4b0e9f5a626d3049974c7cbcfcdc73497ee22d1659
431f921720a9c1e9d988f97f106b597c2c21f122a5bb39b785bcc57f901deb3839e3aee3
d7ea455f1bd96039cf5e3ccf7fd6b36c6e0c96503162bba256dcd283d47a85e4fbd5f66d
c600086ce46720f7f70288ec826bde637538d59e166589994b60b1191c0e99fe951c218c
91f116370c7dcce33f9d59befb9cf3c9ea7dbdc55581bf7b1f391b803d335941de72f5fd
10742e5bf982e24cb205e4e01159d6be45bea77ef040ab34aea6574249720704e463f2ab
d6a49ba9be520738207bfb55569b7dd4b1b4332ed200678ce1f8cfca73cd5cb9aeacb4eb
f701785c48aaccfc8033c823fa0a96297ce456d80738f5c715422076c80c6e7e5cfdc233
