<PAMDataset>
  <SRS dataAxisToSRSAxisMapping="2,1">GEOGCS["WGS 84",DATUM["WGS_1984",SPHEROID["WGS 84",6378137,298.257223563,AUTHORITY["EPSG","7030"]],AUTHORITY["EPSG","6326"]],PRIMEM["Greenwich",0],UNIT["degree",0.0174532925199433,AUTHORITY["EPSG","9122"]],AXIS["Latitude",NORTH],AXIS["Longitude",EAST],AUTHORITY["EPSG","4326"]]</SRS>
  <GeoTransform>  7.4894180311548610e+01,  5.8332431664354166e-04,  0.0000000000000000e+00,  1.4627665134421616e+01,  0.0000000000000000e+00, -5.8332431664354166e-04</GeoTransform>
  <Metadata domain="IMAGE_STRUCTURE">
    <MDI key="INTERLEAVE">PIXEL</MDI>
  </Metadata>
  <Metadata>
    <MDI key="AREA_OR_POINT">Area</MDI>
    <MDI key="Raw_profile_type_exif">exif
   12070
45786966000049492a00080000000a000001040001000000e92800000101040001000000
253b00000201030003000000860000001201030001000000010000001a01050001000000
8c0000001b0105000100000094000000280103000100000002000000310102000d000000
9c0000003201020014000000aa0000006987040001000000be000000e800000008000800
0800c800000001000000c80000000100000047494d5020322e31302e3234000032303233
3a30393a31312030383a30373a333400030001a00300010000000100000002a004000100
0000f715000003a0040001000000a41e00000000000008000001040001000000b1000000
01010400010000000001000002010300030000004e010000030103000100000006000000
060103000100000006000000150103000100000003000000010204000100000054010000
0202040001000000cb2d000000000000080008000800ffd8ffe000104a46494600010100
000100010000ffdb004300080606070605080707070909080a0c140d0c0b0b0c1912130f
141d1a1f1e1d1a1c1c20242e2720222c231c1c2837292c30313434341f27393d38323c2e
333432ffdb0043010909090c0b0c180d0d1832211c213232323232323232323232323232
323232323232323232323232323232323232323232323232323232323232323232323232
ffc0001108010000b103012200021101031101ffc4001f00000105010101010101000000
00000000000102030405060708090a0bffc400b510000201030302040305050404000001
7d01020300041105122131410613516107227114328191a1082342b1c11552d1f0243362
7282090a161718191a25262728292a3435363738393a434445464748494a535455565758
595a636465666768696a737475767778797a838485868788898a92939495969798999aa2
a3a4a5a6a7a8a9aab2b3b4b5b6b7b8b9bac2c3c4c5c6c7c8c9cad2d3d4d5d6d7d8d9dae1
e2e3e4e5e6e7e8e9eaf1f2f3f4f5f6f7f8f9faffc4001f01000301010101010101010100
00000000000102030405060708090a0bffc400b511000201020404030407050404000102
77000102031104052131061241510761711322328108144291a1b1c109233352f0156272
d10a162434e125f11718191a262728292a35363738393a434445464748494a5354555657
58595a636465666768696a737475767778797a82838485868788898a9293949596979899
9aa2a3a4a5a6a7a8a9aab2b3b4b5b6b7b8b9bac2c3c4c5c6c7c8c9cad2d3d4d5d6d7d8d9
dae2e3e4e5e6e7e8e9eaf2f3f4f5f6f7f8f9faffda000c03010002110311003f00f4ed5e
f2e749937bea9e58b89c986316e652155012800e4fdd76f5e401d3154935b36734e6f75f
6921b5799e57166402a98628180c1655c838e7af7040dfd5f44b4d72ccdb5e2b3c441050
4854302304103dbbf51db159efe15d3265b98a4b7731cfe66e8c48c1079836c840cf048f
4f527a939846aca575a85f5ba5e4cbe208c2a5efd9d55ac8b6d6272b1e072dc301918e83
9eb9d7d2e3d43e49e6d45ae6d9d0b2abc3b1be620ae780460646303af4e29973e1db5786
7189bfd267134a8b29da5b804e0f0781d0e47b568da59c1a75941656a852082358a35249
c281803279e940d16949f5354751be5b2109632665956350885b939eb807038eb5756b03
c50a1a2b0cb20c5ec646edbd7e6e9b88e7e993ed4a4ecae5d3873cb96f6347ce69415749
00cf6dc3f5153199df2aac41e991ce0d654180a41dbf894ff035a0990cd80305b9e9fe14
d12536bd9d75c9617b8610ac2842f4c13d4fdd3fceaf24c1959bcd6e9dfa7f2158f7053f
b7e5dcc0622438cfff0065ff00b28fc6aec6e9b6460cbc293c11ebf5a98ea99a5449356e
c8be8fb88c1358f3decf1eb0d10964f2c42a7607000393cfddfebf85695aa052af9ceec7
7158f7051bc452c6cdc8810e377b9ff6bfa7e26a6a6961d249a97a1a30dccac1c991c80a
4e7767ff006515604c5a1521db76dc9e7dbe954e211a09327f818fde5fc7bd4d1851103b
810578e9e9f5a3a19adca5a66a173358c4d23bcaf8f998b373cfb463f90ad24b972abb86
0b1381b9bfa806b9bd29d7fb3e160e8415ef83dffdf3fccd6d471ef48f69180cdd318fd3
8a50d6299a564954925dd8ba8dccd14509495d0b4eaa707191cf1c8351adc5c90007989f
f787ff001351ea4c63b6b60a5726e501ce7be7d08fd78f6a788c71b9a2cfd7ff00b3a4be
26438b4afdcbd14c59a4059f86c0cb7ff5aa8cd75326a5329b86081530be6818e39e3667
f5fcaada9512b031a1cb70720ff3359f70f28d5670cac22089b0e1c0e9ce30d8fca9b4ee
ac38b493b9663ba2ccd9b82405ff009e99f4ff00645598252e721d88fa9aa31b6df308c8
f94f76f6ff006aaddac9bc203d7be7e9f5a1926ed14515b9814b0c5485383d8fa5406291
99497e401ce3eb53f54239e950c48c022967e1474045248d4b0dc814c6eb4e6cf14d239a
60855ac7d799d63b429e67fc7ca6766fe9cf5dbdbebc56c2e7d2b3b53d3d6ffc8567dbe4
cab28f915b38cff7ba75ea39a992bad0d2934a49b2bc52b1032cfebf79bff8aab714efb9
c124e5b8fa5363b245eacc7f05ff000a996108c4f272723a714c8326684bebb3361ffd52
720311fa2ff53569620124f918650f3f3fb7a8a97fb3924d4a4b966cef40bb428c8c7bf7
a98daa88d955482c3192054c559334a8d49ab7643a052ab1f27181ebe958376c9ff091cc
320b08532a319c64ff00b3d3f1fc2ba08a328141c9dbd38159f269e5f539af1df11b4617
19208c77fbd8fd2a2a2d874da4a57ec245b763b6d214c67920e3a7d2ad4414c2bb5b395e
833e94cf2a389580de59d70a704f5f7e6a748d42ed072ca30ddfb7d69f433473ba55a14d
3add4aca300f547f5ff707f215b76e8c11426e51b8f1c8cf1efcd436fa4a5b44b1aeddaa
300089462aca5b152841236927841ce7e9530568a45d4973cdcbbb31bc50cf15be9a096f
9b51854f04f073fec37f4ff7855d4b58c8e8cc0f7f2cff00854f7f64d77146a1b0525593
2cb9ce33c7047afbfd29b1d9c9b792a0ff00d7307fad1d44f65a92c516f99db9ca3f18a8
af42f9b9670bc0c93f4fa54f2916a92cef90806e6da809ff00ebd654dac58dc48b891f6e
148f90f4c7b1153384a728f2f47fa321c94772c472ed4902dcb36d424004f1fa55f85581
52598e71d73e958df6fb240e43c84b2e0654ff008d588b57b28c83fbcc8c7f07b62b7f63
3bec4fb48773aaa29370a2aec66500815b717970393cf1545b5ab5689a68a466446dae07
18f7e7b7d2a86a5aaea16b76d6cf04421907ee9d72770f7ed9ac6b9d359ade478e5fb231
23e76718edc9c9381cd7157c472b705249f9fe874c69dd7337a7e268beb37b3ea31244e0
c219416fba1813c91d4ff2aeaf15e7da6db9b5b98637937b1704ed391d783c8cd7a0d77a
872d38dddefd4e78b6e52402a85f48f1c8bb5b6e47bff4abebd2b3752c7989938e3fad49
a154ccec7e67071fde07fc2a549dd09d9e593ebb581aaea148399147d475a9c3206c9910
8ee303fa83490176d2679646df8e076cff005ab4dd2aad9b46d2b6cc64019c01fd00ab4d
d29bd810829800a9075a8f008208c83dab29f42918fe24bf9f4ed29e6b6216404282467a
f1527870cd2e8b0cf713bcd2cc4bb337d718fd2b4248124daa546dfa513c89696d24c549
58d0b3051c9c0acb95f3735c567cd71ecafbbe565db8e8579fe749b64dc76b201d815ffe
bd70cdf110cba824715a2456b96dd24adf311db8e83f5abf6fe3bb4954a32b2cbd8ec3b4
f079f503a55295d5d27f70e4d45f2b7a9d1df4cf6f079a8aac4301866dbd4e3d0d561ab4
4ab864632609d8841e99ee703dbea6b9e97526b88089a70c806f1bb04018c939c8f5a96d
e3fb4c2c96f2a3165c81dc1fa8fa7a7e35e3d7cc670a978af77b3348d36e37b18fadf8c2
cb5fd2248621776b1a4e164f36d99bccda7eee54e07383f781e3f1ae2ede49e1d45ae964
2f2b719e9c7a63b0aeb7c5b034f32da593bfeec069228003863c6e2304e40f6e3f1aa3a5
e871daddcb6b752c73cc8a244dac582b1ebbb85cff000f15e960aa52aafda49fbd2d9755
e9fe672548d494bddd96fd8e84afca33d69db6970768dc413df0314a39afa03899e85451
4579c759cb6bb64faa6886448c493a644654f23e619fe55cde9d14cba5b79b3b7931c857
6104904e32073f8d697f6b496b24d6ea55e369c92327239e718ace8238610fe42ec4672c
06318e687819d5adcb24b93477efe5e42fad2846f1dcb96a07da60c003e65e831debb935
cbda694ecd6f379c30407fba7eb8aea091eb5d189941b4a3d0282924dcba8ab55ae6d52e
082c48c0ed8ab0a47ad51bbbe4b79cab1c6d40e79ed922b9273508f333a10ab6502000a9
624e338ff0a78b688c98fb3b003f8b231fce92d2ee3b9816556186240c9fd2a9d8dd5e5d
4f78b770793e5bf9718c1dae067e619eb9a77b68c4da34a08a253be204061eff00d6a46e
948acad828c0af620d2b74a6f61a399f11f89ad2cb4db95b5bd89ae8662091b02cafd3a7
6c7afb570765e2dd6aca1118bb693e70d99be727db279c1fe956bc49a0dcc5a8caba7837
48cc5d9010645249dc7d71bb3f43591736125a346a486de85cff00b3c9041f706bc3ad8c
729daf66ae8f5e82a30a36ddcb7badbb58f4ed0bc4906ac44528482e48cac5e6ee2c0752
3d3e954fc65ac451584da5404bde4fb50a2b7215b3fe18c7fb42b8ed81aded1fca05256c
2b0c6e56c6dc7b1e339fc7b55fd2edad927597932a9f99d65e4003e638fa0231ef54f1f6
83535a993c2de5cf4f62858d9c165a8137270c89f7648ff8b1e871d0f15af684dfc53c73
c711742a23c2ed6653cfa724a803e82a196e56eef948512b6d08842b3607424f73dfb752
4d5eb186cb4d8a4dd30959d8000f51c771db9247d2bce9d69d4777b9dd5a9d2a54b48da5
65eb75d6ff00e7f921dbc08e456b38b09d638c0191d3191d7a8cd5ad2ef03dba08998260
f0dbb00ffc0b9c77eb5992493493456d1fc8370766ea31d0019ebffd61df157cb8b681a4
91986c5dc1c027181e99f4efc7f5a4e29e923cfaee3182b6ef53275a6b1b5be1aec6ca5e
46486458d86246ea1c0ea703d339c557d21436a2f328277a3162652d8cb0238edf5f6a93
4a363022bdecb133ca0288f3c7700e39e7048cfbd6b182ce1b866b48d50328dc557193f8
7d4d7bb97528aaca3caf4ebe48f2aad47c96be9d856e9480d233714d15f4563859e8d451
4579a76145634472e449d32497247e59ac7d43c4b67656e6601db0794c8040f5aa9abead
abd8dfbc0cb01b574dd13aa904fb1ce4123dbd6b90d522ba9e10b1ac5fbd237b2c8011f9
e3f5ae1ab5e4a5cb1d0da528c569ab3a3b4f11cfaadec26191c439504a9da0f3c823ae7f
4aed4d701a659fd86ee08498f7ee42e22fba09c7e75e80d5df156a5077bdd5cce126e52b
88a2aadcd85adcb879e157603009ff003ef570531a95edb1a5afb90c16f15ba08e24089c
9c0a99631e6163483a0a09904b858d0a7725b07f2c5218fc0dd50dd24af16216556cf24f
a54885cb1deaabe9b5b3fd2a9ea1a943a7b44b2e4b4ad8503b63a9fe5f9d6759c5536e6e
c8a84652925157663eac3fb1f4f374eff759b2e7e627392013c1c76e3dab8bd4af25f363
bf5b790f96a76c4ed92c49e0633dab53c477d36a7a9162e21b6b40ca149c866e72c7a76a
e6a3b8293097cecaa13e58099c0edc718fcebe7aa61e8d39aa9497bafe7ff07ef3a69aa9
566e3ab68b7697b04d02b08423cdf3143f29421b8e3a83d7a75cd36d84901753e6b2cedb
7730193961d3a0ec2abcb645d61b9542d2c432559be5c718046074c74ad3171f246e0461
6160ecafd4907a01fd2b1a8d2dba9ede1a4de8d6abfaff00863424baba818a5a4056d604
0ad204c903a939fc7fad2430b07977266642397e31e9ce31d0d655dde6a12d9644b2c918
6ce550903ea7154edb50b9b5fb4146466979c31efeb802b7c3e1653873ab2fd4e0c53d1c
22b5d9dbf5bfccdc4d58cda82dbc30bb221c17c60e73e9e9d7dea1d4af8dbde4f697164a
d6b2052b89082475f98f1c6719ad0d1ad6392d62b88d17e6405caf1871c631dbbff3a9af
2c6d35257fbc93b078fcc23214727d3f0f5aaa11fdff00b392d3e7a7dc70623d9c92f649
ab7e273fa5e945dbccb85061230324866e780dc741cf7c735d0ed03000ed55edc2c44c28
ae523e03b7f10f5ea6ac93c8afb1a34d4237ee78adbbd88d85252b515af511e8d4514579
8761c9f8842cba035e4850b4390ac3391ce0fd4f15c558d943ac20babc9311c40a2c0a08
2cdc739cf4e7f4aded425b896dae6c619142c9316c9ce57ae718a65b5b8820545078ea71
8c9ee6b4860e4ebf3decbbfe9ff04ca75aeb435b4fd2d1c412a4f854dbf295ce318e339e
95d41ac7d16031daee0ad1ee24907f8bdeb658529ce52767d0e88452575d4010073585ac
7896df4eb4692d90de4dd16288f7f73dab776860411904720d739a9f85a19e376b290c32
b12d8724a9cfea3f0ae7aaea25782b9d149536ed36d7a146c3e226853584325e5d7d9ee8
8fdec3e5b9daddf040e9562ebc4d6d788574fba864321db1959064f1fddeb9ce474f4ae0
3ec0e9712c534713b45215624e7907939fc28925b6602260a1988e831b7df22b9abd375e
8fbf2e44fef2e9c5a95a2b999d8a9d5a7b812cb7120574cac7bc8c01c6719f5e73ef51ea
2278236b8d4e469a18c6721c1249cfcabf535cf79f6b24d23ddc73c8597ef89497ce7d4f
b0abd6baae932f990de452c618603336fc0ce719233919af0aa736ae52725f9fe3fa1eaa
a75fecc2cadd16de9e6125a36afa75edc5aaa43183b57cc2738001278cf26b10410c5295
77f30a824189b009edd4735d4eaf60d1e9821865315a971f2aa60383d0927a9ff3dab974
cc6f0ba800800fdecf20d4426e4acb63a70bf0ca517a7f5bb3a31a591689709862d1ef69
15f3960bc7046077f539fa556bbd3d7eccb2465882fb701371c73c9c0e9fe7bd3a7d5e4b
ad2d629190b330670aa30aa08dbf5e9515f5fdcc5630c3e56d876e54ecdb9382a7a71d09
fcfdab15cedea6108d5d147477febfafb8a577770c1a7cb0c1a85c894a0da22caa7be7d7
8cd665888a4cc73dc14da4618803351ce0c8d82304738ed527d9dc20c6549ec49c6ded8a
fa5c1528468f2c9f9f43c3c757a94ea5e374fabdbfcbfccb769a849a66a4ff0064924554
c79a8d82ac7b8ffebf5ab769e27b8d47584585434833e64aa7e551838c75159134f696b8
4b9ff96bc1efd7824fb56c4105ae8b0193f7689b401b4727fc4ff8d65caa557da5aef6d0
e7a4e4e37e636a3073c927dcd4b95e08231eb9a8ad6413411ca07df40d8fad582391f4af
a7bdf638922072a0e0b007dcd2814e61401c52bea163d0e8a28af34ec29065803b959368
19662f90075ee6b9ebdf195a456fe75b4724d86c3283d3dfdea1d7ef359b6b91125d471d
ac8a7618e3f98fb1273823dbd6b97b3b3f36f238c2b6c7c0f332171eb904835e6d7c538b
e586e8f42951f779e6b4efff0003fe18e9ec75cb8d4e581c3ba287453cedc93c90573db2
335d71ae3e38608754852dc8da1932109da093938ed5d81af429ff0006127d55ce28bbca
40b50dcc29710bc5267638c300c4647d454bf36df9719f7a67cfceedbed8a19a239ad43c
33a45be9b70d1225bb95c7992316c7d371c027a66b85b88a1b5388c994eef9a4e0e7e98a
f57bbb18afa254973856dc076cfb8ef5c66a1a6ea36b78d0cd76ed030dca15b191e879e3
f0c57998b5c8d4f96f13bf08db6d2959ff005fd58c5b6b256bc4fb715b78f693cb8df823
d39f6ad23a4693776f1b32490acafb6393e6233d81e31dea4b1d1f4abdb8ba8ee13ccba0
4300f21181ea074adeb58534cb2114b7398d3257ccc0c2fa7007e75e5e2a51b2e46efa69
6b74e9abbfccd162eaaa96bedd9ffc00b6b4b6d2f4b36f3c8863dc06f75c7278193ea300
67d85714fa644ecde5dec1bce4aa6e3d3d33eb57358d623d49634688a796c7e656dc31f9
7f856560981963024d841925038f6ebd2b0a70943de6f73d2c3e1e693727693df6febf52
345300921036306e73d41ff26a4bcd42eae208639a42e91aec518e48f73f4fe55a31e99a
a6aaaaff00754756900181d738f7f5aad79642d0a824489d03065e4f43c64f7e2baa9c69
ce5a6fd8e7af56319fbd6baeab5b7cb42a585a2dedc0deae228c6e9181fc87e3fe3444f0
ea11cef0c522c88e0280bc2f27078eaa471c7ff5ea565364524129841241e40c9a4b4816
7b90f6f1832a82c1f701f5e49c57a105c9177d11e4d7e5ad24ee9f7b98171a74ed78d737
c1027052356cef1e9ea07e55a8c0dd88cdd0dd8e1541da147a0abd776535ae2699465b8c
990373f8138a6d9dc0b7bb4902a39439d920c835dd867050bc77ee70d6a76765b7cce921
20aaed5da3030339c54d9e45451cf1dd48668c8024e447c7c9ea07b54db486af5a9e908a
f2473cf59b18c28c53d852629df526c77d45145701d472bae059f41f3de48f7a908ac072
3e6c11f5e3f9d6269167e5c22ea4224719554c60b1f5eb923fc2ac5c3cd2472d9af28f2e
e2a537722a487cc5963616cdf2e0040a467031594f05cf5b9dfc2b5f5f23758ab51e45bb
d3e44d10b896fe169164255d724a9e066bac3556154f2d7703b87f78ff00f5ea4b9b8f22
30fb0bf38c0adaa5453b24ad63384397a932f4a46aad15e975cfd9a6fc00a9c36e507046
7b1acee688074ae0758d443ebb70923bf971864241200c118f7cf247e15df0c62b22e747
dc2e82286f3cb301d4027aff008d726295e16b5cde8cd4257381beb895ee912ca4f2c3b0
6768ce19bb05c8ebcf6ab7a85ebb412d9c2c56d63651b724eeee4939f5addbaf0bdb699a
6cd72b992e122ea1781c7503ebef5c94d73a86956ca8aea1271b932a1b803938edc7afa5
7157a527cb19743ba855a50bce31d6f7f9e9fd7cc882e51330b7ce71bb3c8fc3fcf4ad8d
1e344d2a691960dd31dc0372142e7ae7bf7aaf6d7d6f771c1671a32cb210d332ec218ede
bc920e4e3aff003ab9696e74b8a0797cf6b46f95d5b8d8485ce40ea3bff9cd73578436ea
6d5313525050bf6febf5295e7dab50912f2090aee5e14b6df6ea700f7e69f15a4d716f14
d2465371c36ec038ee4018f53d6ad48195627b26dc0c0130ca49f4e3d074e7dbf3a97774
fe1eb68e4b80243303f21241046d1c9e4003239e9fa53c3d47192514618b51a943979b6d
bf1296b1a5b09061b76cc16daa4e33d48edf855ad3ad2d2d6e14c571fbb903f944a9f9b8
c1ce7a0e6a3b39edf5579e590325e32b18cc6e0a390338dcb8f98003d073d2ae6936b3c4
ef2b87dfc3a2487273d0104f278ce7a7e95d5526e50b499e1aa494ee908559ede446231b
7236f231ebfe7d6b24b796301199db85c0fd6b7ae6095cb1b568a3dc0e410594649c8033
fe726b3e0b6d5ac6e0c908b599791b4ae188edf3706bbf0942ac29b76dc751c64ed737ac
e3d96d12f5c2019fc2a6206efc2a181e4650d2a047232caa7201a8bedc3cdd9e53923838
15ea41b5157307ab762cb0149815109c48480aeb8fef0a7f1eb557d4477b45145719d067
9820de5cdaa139dc5b62f5f5ae4750f1bbc50bbc3625264720ac849ca8fa639f6e82ac6b
c97506af1acbae4d15bdcab7956ff2a8dc00046460918e79f5ae4f5ab5922b531abacb6e
cac226ddedcf6aeec261e9cace7adfd4c7115a6b48e962d691aa6a3adea86e6ea791e089
76aab000062738c0ff00eb9af513d2bcafc2526fb20bb7714936ef39e9c71fe7d457aa35
1984529a8a56487836dc5b6ee2ad31e9eb4d7ae0b1d8305387dea68a777a4968366078c2
377d293cbb99a26f35544713ec32e4f233ec327f0fcb8c8c5b59dcbc5733adfc8ead1c4a
b96ca938209eb9e4f41823d78c751e36bd8a28ed2dda431b96690b800ed5da57a1eb92c3
f5ae774c8a7b7b8b38edacc40d323179a54dc557df18f4e87fc6bc5cc276a9e87a78682f
6577d7fafebfe18d97d1ad84015634887442b12e013c7bf3d2aa8b8b09a43673dce19130
246cf96c48c0cf4fa73d78e6ac6b37915a80af2b485d774716dda78eb8efdff5acf8a38e
e02de5a20f3c8541bd7031d7bf39238cd79f18ca54fda48e7534af7fe99bb63a74768554
3ab1d8106c5d9b86472c39c9f73eb595afc6ad034115e0b49653feaa4601998302aca3ea
01ce453254d44edb9d31c33c388e5b466c4614afde4e4100e0702b27c3d776ed7524f702
15b89cbbcd3c9bb1820602e49eff009d6f4692b73277fcfee339d4beadee6edb2411da19
e79c4b7ca885e10fb76b2e33b5723193c9f5e292d75c59e35b7b6d39164cb2edc60227ae
7b75ff0039ac6bb812f6f9bec52234411403230423000c738cd7416161059ae625f98ae1
9b9e7df04f15ebd0cba949a752edbb3b6d6f2679d3c44db7cba2fcc95d01cf5e7de93031
d29ec69b9e2bdbb6a6208339a76df9a9b19ebf5a93f8aaac223228c714e6a4ed4ada833b
9a28a2b84e938ef108b6b9f0e5e3ce636f2dca0253254f983e5cf6ce07e95c8a690e1202
5d594e0948cf45c5743ab691797cb776db2658669b736cc7cd86c8ebf414efecebe63ff1
ed2703038af5284e34e36525abbfe472d58b9bbd8820448d94222a02470062bb86accb1b
668e15fb420dc07cb93d381ffd7ad3604d71622afb497a1d5429f221cb4c6a55cfa53189
e78ac0dc053875a62938e948652ac46c7381d86692d818971696d72ca67823936f20b2e7
15c623c9e6dcea109912c300411e016755393cf40339ef5d0789af4db68d2a2385b89ff7
51296c1663c607bd72b7daa4163656f0430c8e55367fac1180ca31db393cf4cf6af0b37a
9771a515abdcecc34252d8a769ab5cdd6a4cf74b1794406407e40a3b104e79e71d81c7b5
5db865804325b0f2a6932a243f3103763d45664fad4e4a98615332aed759141c647240fe
2e7deb42d236bb8215d40a903e653170c8ddf9cd4ba71569c9595b6467ef47e15fd7e23e
2726fb3138128f2c38443d380481ed9fcb8faf312e44f2b6e049639c0e0f35d6c535bd8d
c97bb4700a98f6aa1dcd9ec0753f8561b68d23dc486203696cc61b8dcb9ee4743f857765
6e14e73567b2b697387194272b5b6fbbf323d1c2cfa8c7961b50e718cf3d87f9f4aebd59
b8e463bd6658591d3d660b963211d81d83d0678fd2adaac801db237fc08022bdaa72a8e4
f9a365d0e5508c1593d4958b639233ed4c0d9148d9c73c9a4078ada3aee0c910e335203c
d40b9e6a4079ab250a5a909e94c62734679e9486cefa8a28af3cea331ed6d448d3359c45
c7cc5fcb5249f5f5ae1351f8853942b6b62b0dca4854f9c370da3db2306b57c6c9aa7d9e
3fb13c8b090cd2b89760518e8790083eff00e35e580348ea99521d8003a66bcfad889297
2c74b1df4a9c5ae691db69771a8df4b1dddfdc33138d8980028cfb715e987a579c592a2c
ca429dcb85dc530719e99c735e8e7a57a318da8c35bdeece184f9e7263033ed242af5eed
dbf2a6973b829519ef839c547737296b6a66949540403c67a9007ea69ca7712d83ce075e
948dba8f5a78eb4d5a78eb4903396f15d9c91c90ea02e9d635c46d1b2875049e1954f190
4fe55cdcc89a95a1864596291e3190e06c0e0e323fae0773dc71d7f8a6ca7bad3c985c02
063e6e8a7b1fae7bd731a45ca314d36e22956ec1043ecc80073b837a703afa815f3d98c5
46ab9dbfaee7a342ace1494a1ba335ac27d39668a66864455f90b72ca84f4fa138ff003d
6efda5adc8498294283ca19cb13dc01d7ad695c4715c24e04d135b282aea17ef1e0e4903
8e7a560c904cd2dac4ed24cbb9543a0214772411d0ff00854619a9b51903acebf34e56be
effcfd743a28d5a458a49c892540406c6300f6fe43f0a930aabc0e073c0a146d5c0e8294
735f674a942941420ac8f9f949ca57634e0e383cd0ac0b15c371ec714f238a51d2ac9226
1d69a0548c38a60142dc1ec2a8e69f8e691454d1466599501c16200269b761455caec334
62b524d15c107ed48077062cff00ecd556e6d4db38f9f706e8718aca35a12764cd254a51
57676545145711b9c6f892e227f086a65a72363b21e33b4ef181f8f1cfbd799699a6cb7f
3472ec66855be6dad8cfb7bd7a06aba36a3786f6048a4104f212db5d46e01b22a1b1f0f5
eda04892d0ac6adddc1fc4d5fd5213adcf292e5f5ebd8b589946972c53b8b1da5d09141b
6981c8246c3c57767a551b4b778a35de912305e551b70071d01da38aba5863a8aaab59d5
b5d5854a92a77219ede1bbb7304e859095240c8e410474f702a4623a007f2aad1cd76588
312e33ea39fd6a4592524f98aabc7183591a75245e8695e45891a47385552c4fa0155049
75b88d91633d73525e65ec2e140cb18980039c9c51157096c737378aac6ef5f3a5bb141b
330cbc8dec33b874c8e00c1e879e6ab6ac9696cf1c8a123b92362e652010dd411fc438ce
3d40e9585aaf87d7515027b5952651f24810865ff115aa8b772c3119adee6e5e17ca3142
07ddc60e0723fc6bc9ccf29c43aded293e64fcff00af9861712927cfa7ea515bd946a82d
554aa30c200df74f7c83c631cfe1d2b7c08c222c782b8cf038cfb563b5b5fbf06ce7ea4f
109eff008568f937c914623b573f20ce50f06bb686511a728d5aaf55d16df3399d693bc5
226ed4e547619546207702a154bfe3366fef8abf0f9d1c5e598671b9b390a718af43155e
a53a5cd4a3ccfb114e0a52b4b42979aad8c2c98271b8c6c07e78c548987c6d23ae3356e1
0f144d108a50b924308bfa51279b2ba1f266c2f52cbfe02b82863f155656952b2d75d7b6
9b9b4e8c22ae9dcacd0c6003f6a8307907752c76cae76adcc05bd037352bdac5020482db
28371c146ce49248e9ee6ad5bbaaaa9d922f1f74c6dc7f315e6bcc3315b45ffe026fec28
ff004ccb5ea6ac5b122ee238c9dc38fc6a2104f93fb893fef83535bc52a5d44ed1481558
12761e99afa99493470453b9a9a8dd1b38d64f2a594b3050918cb7354b55c83102b8eb83
9eb5a2f75016562b2641e3f74dc7e959daa96b9688c31cadb41cfeed87f315c3453552ec
ebacef0763a8a28a2910615f01e7313d33c719edf5a8a1d9b640148f90f5503bfd6a7bd2
3ed073c8cf4c2fa7b8a641b63de4291853d97fa2d6142d676eeff33765989300648e831c
8feefd6aa954e0b4918381d48cff00e855722652bf2a9191cf4f4f615464709267e5cfae
e6cfe829c9fef97a3fd016c4eaaa554aba10323e5c63f9d6778813758db6c7453f6a8c9c
f99c8e78fdd9cfe7f2fad69290c10307c92718623f9f3599e238a3934fb557904616ee22
0c87393ce072473fe715abba5a069d491229793b4b03ea24fe82b4a29104ccadb012fc61
4ff9cd65c510424978c8ff0080ff00535760808bb66c83f373d38e6840539550f8819448
c5feceb94114a401ebc36dfc319abf1a008e0e7a1ff962e3f99ac2b9581bc58ea4461fec
89c9c6719ff7fa7fc047d6b5218e1cc9b4a12539c6d6fd01a4b612772fc2132b8073c755
3fd6b3eebcb3a84d903381e9e9fef0fe556ed5363af2b820600005559891aa5c11b870bc
8dde9ec3fad675378fafe830411ec7fbbd0742bea3fdaabaa15476ce31cfd0fbd5701da3
6e1fa0c1cbf3cfbd585465dd9279ff00034e5f0b1adca2ca0ca7f76338ff009e4c47fe85
5663540630c9ced3d108eff5e2a848f89ca8f2811ea89fcc9ab903bb79587419563c6dc7
5f6a9a3ad38fa21bdc7dd81f673c1039e31d7e5fad51b65532292a47cc3b7f89abb767f7
0d920b738fbbd76fbd528491220f3001b80fe01dea61fc497c81ec5e58d44c499091ce46
df6f73590ec3fb6ef8703053b139f97fdfc7e407e35b51ae1dbe42304f7c7f4ac6738d6e
ff00cc44da4a6d3b6324fcbce7e5cfe64d6c9a4435aa2dc65045212148c0ec3d7fdf35a1
0797b86dc73fe7d6b39197c894aed61c63e55c75ff007456940ca4fc8001df031fd29146
b51451566062deef1392158827b2b1edec6988cc77fc8d92a4f28dfe34b7a17cf62cf1a7
3fc4073c7d0d3170b1c855d1d82918551ffc48ac683bc5fabfcd9b32d83fba3c6dc2f75c
7f0fbd62e9f70d3d8432cae923b0cee05083cfb122b5a37dd19c0c1dbce07b7b0acab095
d6ca259ae246931cee6933ff00a083fa0ad6cb9afd4469c0c711ec23a9f9558007f0ef54
3c404fd92df339849ba8f256544cf5e0ee0739f41c9ec6af444b2a6725b270583647e62a
87885673656a228e595bed71e7606381939270471fa7b1a24ec86b72dc1045b4aa5d371d
4263fc2adc6918932262096e9bbafe95492393a94c1f4e0ff37ab96e3e77ea006f7a680c
7b8b3947885af18010981501ce4eecff00b99fc73f855c8c26d901381b0e7827d3daa8dd
2c7fdbec599037d9d782501ebfefe7f4fc4d5d89a26120568f3b0f20a7f435116ecefdca
94146d6eba972042a50824ae063ae2b066b87ff848f508d648cec58fe5611fcb95f76cfe
607b66b7605c6cc91c631d2b20c5249e23d4023483e58fbbe3eeff00b98fc98fe14a4af6
20b91bb2c72323aa90072a23e391e86ad86f32352c41ce71d3d0d422de43132b3b924018
39c75fa559da550f24803d49ec689fc2ca5b996c13cc394dc31ff3d78fd055a89f88c962
176918f3723afd39a8460b1cb13d38df8ffd9f356e250d12364e7047def7ff007aa287f0
a3e886f72a6a52cc91422104ef7da480c7031d463a7f2a204b80cbb9ce011ff2d3afeb55
3c413c30ad8895d14b5c854dc14e5b6f419cf352c0cc590f94dd47385ffe229c6dccc2e6
8472c85a4dcc719207b5664f28fed4b8524f1b7b9f4ff7aafc0e0c926dcf0c4738ebf80a
cc12c5fdb97eb332606cdb93cfdde7a2e7f326a9abb44deda161644f22520e70076c77ff
0078d685b05565c11c8ed8ff001aa6cd0fd9e4f2c29e0763ebee2af5b8fbb82c723b823f
a5051af4514568739897842dc36ee848f5ff001a6c1fbc490027ee9c103ffb2a5bc665b8
728cca78e573e9f4a489a43bdbcc971b4f52dc1fc462b0a1b3f57f9b3665960a22c039e0
839fa1f7ac0b08617b08586cc63f84a8fe448fd6b74799e53ee663c719cfa1ac1d1a499b
48b676493241c97594375ee0907f3ad6def5c5d4d08d42f93b36f05b038aa3e2463fd9d6
a4ac609bd8b86d87b9fef719fa73e95a71b387841563cb64e0ff00527f9d53f10093ec56
fb3767ed51e76eee9cfa30fd78a25b3296e4d0963fc43763f842f1ff008e9abb6ce5a47d
eabc3e0703a7e755233c1e73c777ff0017ad0808def807ef7f9ed5484cc4b9f34ebb8064
0be429f9776339fa01fafe157177ec914870361ea4f5e3d6a85c6d5f12173b0e6d94754c
f5f7c9ff003d6afc731d92b7a212394ffe26b383ba7ea6d596b1f444f66642cbbfa60739
a6cb1837d2b6d19c0e4a0f4f526a5b772eb1e7d8f6fe82abcae535098aaee2428e87d3d9
7fad2a9bc7d7f43148b3108f71c0dbff007c7f4a91f6ede0e7afa7a1a822964f9879447f
df5ebf415296674391d33ebe87d689fc2ca5b940cb2a0c2a8c0c7f138fe556639a428b81
9c827ab7ad6649222c87214f1c61a31fcf356e162d1c4c83e5c1e060f7f6e3f4a9a0ef4a
2fc903dccef123b85d31b1293f6b5c845723eef7c30c0f7391ed576d99d88ca85c11ea7f
9b553f1022b8d337ac648bb42036cebb7b651b9fa60fbf6ad0862c329f28f51fc3ff00d8
55f5113c18632e720ef6ec39ac39fcefeddbef95827c98389707e5faedfcaba28801bf08
c0e49c95c7f4ac6b385e3f11eaf29608b218b07083385f5e49fc40fc694b740ae4b12ccb
049b95f240c121fd6b4e11f30f90afd571fd6910b1423ce2d83ec703fef9a917fd60f9cb
7d40ff000a3a8cd4a28a2b539cc0be29e7b6e443c8e48cf6ff00785101452c7cb8b9539c
2827ff004227f4a92eed6e24989580b292319c7a7b8a48ac66f9835b850548cf07f0c015
851564f4eaff003377625f3159081b3a1ec0763ef5cf787a548f42b5589a211ed38f2cc1
8ea7ba0dbf9574896b2a290148c8c75f6fa551b2d26f2dace281a424a77f31cf7f53d6b6
