<PAMDataset>
  <SRS dataAxisToSRSAxisMapping="2,1">GEOGCS["WGS 84",DATUM["WGS_1984",SPHEROID["WGS 84",6378137,298.257223563,AUTHORITY["EPSG","7030"]],AUTHORITY["EPSG","6326"]],PRIMEM["Greenwich",0],UNIT["degree",0.0174532925199433,AUTHORITY["EPSG","9122"]],AXIS["Latitude",NORTH],AXIS["Longitude",EAST],AUTHORITY["EPSG","4326"]]</SRS>
  <GeoTransform>  7.4280117150296618e+01,  5.8789156911550689e-04,  0.0000000000000000e+00,  1.3739742876362522e+01,  0.0000000000000000e+00, -5.8789156911550689e-04</GeoTransform>
  <Metadata domain="IMAGE_STRUCTURE">
    <MDI key="INTERLEAVE">PIXEL</MDI>
  </Metadata>
  <Metadata>
    <MDI key="AREA_OR_POINT">Area</MDI>
    <MDI key="Raw_profile_type_exif">exif
    9678
45786966000049492a00080000000a000001040001000000851d00000101040001000000
b92800000201030003000000860000001201030001000000010000001a01050001000000
8c0000001b0105000100000094000000280103000100000002000000310102000d000000
9c0000003201020014000000aa0000006987040001000000be000000e800000008000800
0800c800000001000000c80000000100000047494d5020322e31302e3234000032303233
3a30393a31312030383a35363a303900030001a00300010000000100000002a004000100
0000cf1e000003a0040001000000901500000000000008000001040001000000b9000000
01010400010000000001000002010300030000004e010000030103000100000006000000
060103000100000006000000150103000100000003000000010204000100000054010000
02020400010000007324000000000000080008000800ffd8ffe000104a46494600010100
000100010000ffdb004300080606070605080707070909080a0c140d0c0b0b0c1912130f
141d1a1f1e1d1a1c1c20242e2720222c231c1c2837292c30313434341f27393d38323c2e
333432ffdb0043010909090c0b0c180d0d1832211c213232323232323232323232323232
323232323232323232323232323232323232323232323232323232323232323232323232
ffc0001108010000b903012200021101031101ffc4001f00000105010101010101000000
00000000000102030405060708090a0bffc400b510000201030302040305050404000001
7d01020300041105122131410613516107227114328191a1082342b1c11552d1f0243362
7282090a161718191a25262728292a3435363738393a434445464748494a535455565758
595a636465666768696a737475767778797a838485868788898a92939495969798999aa2
a3a4a5a6a7a8a9aab2b3b4b5b6b7b8b9bac2c3c4c5c6c7c8c9cad2d3d4d5d6d7d8d9dae1
e2e3e4e5e6e7e8e9eaf1f2f3f4f5f6f7f8f9faffc4001f01000301010101010101010100
00000000000102030405060708090a0bffc400b511000201020404030407050404000102
77000102031104052131061241510761711322328108144291a1b1c109233352f0156272
d10a162434e125f11718191a262728292a35363738393a434445464748494a5354555657
58595a636465666768696a737475767778797a82838485868788898a9293949596979899
9aa2a3a4a5a6a7a8a9aab2b3b4b5b6b7b8b9bac2c3c4c5c6c7c8c9cad2d3d4d5d6d7d8d9
dae2e3e4e5e6e7e8e9eaf2f3f4f5f6f7f8f9faffda000c03010002110311003f00f6e132
024178863a8df4ad74a8540d8c4fa38ac9964513baee51f31ee7d7e949e62f4de80f6e4f
3fa572246acd417c08e107fdf62a53729b41324433ff004d2b1d67d832b2a86ff78d3cdd
3e08f3bff1e3576035e3943b603291eaad9a7e4fad51b090bb365f7638eb9c74abb48050
4d0c7eb48286eb400d24fad638f125aaea12d9cb88dd1b6862fc1ff0ad7635e7fa9cab16
b572ed109144a7287b8ad6952751494774b42673507172dafa9e8019c80405c1ff006bff
00ad48f24ca0148c39f40f8ae7e1f14d9811a00ec303a211b47a73d6b7e211ed0f1a050c
33f7706b0a73e757b5bc99a38e8a5d18472cacf8923d9c647cd9a9093eb4dff96a3e87fa
529abe848027d4d2827d69a294524362e4e7ad193eb49484d0067eb9aed9f87f4ffb75fc
8520f31232de858e07e1cd554f15e9462b7796e4c26e10491ab839d8c70ac719da09e99c
541e26d434bb7974fb6bfb596ea7924696de14eec83927240e03743f97158465f0bda4b6
6d6da4df4b74964b308515f7c502b12bbd491d0eec0ebd68b01d39f13e93e54b20bcdc91
3b23b2a310197391c0ed839fa537fe129d337dc833b05b6645770848259038c63fd920d7
3f7579e129b4ff002de0965b4834e7d446c6600c326edddf9270d4fd620f0c5ac765e7d8
5c4b2ea2ecf0c5148c0bb18be6c9dc00f9063afd28b0cec619d2e218e689f7c72286561d
082320d3f9f5aa9a6dc4373a75bcd045245134636248851947a1079156b350332664fdfb
fc84fcc4f4e9cd218c6dcf964f19c629b33bacf26d116779ce401fd295269a3042bc6a0f
a62a910c708d7007967a7a54c228d8644031eee07e95585c5d91932a819e30dffd6a719a
e39c4fce7bb5581a36518476c205c8ecd9ab959fa6ccf333976ce3a568520014350286a0
063579f6afff00215bae3fe5a1af4135e7dac0ddaa5d2e48fde1e86bb701f1bf439f15f0
231aeacef6e9e38ecb258e4b738fd6bbbf0e6a0ef6cd6929669adc01863927ea735ca413
bd9ca922217dbd8f7ab16be23737e23b431ef91951caa7239f7fcab9f308d586214a2bdc
ebebfd58d70b387d5e5ccb5477e8c5dd495da7078ce7bd486983fd60fa1fe94e359f4340
14a29a2945240c5a43da8a290181e25d10eb3143fbe4091eedd0cb6e2647cf7c75c8ec41
ac883c26d692c0f61a95d47722c458cb34f0efde80921b9e8c093fe15dab76a688d307e5
5f5e945c7638d6f05598b596d61b89d227d2469406cc90a377cdf5f9aac6a3e1cb9b9b1b
3b5bbd4ade4589b62a4b68ac8e36e064139c8ea08239aea82a8e8a07d050f1a3ed2ca1b6
9c8c8e868b858a1a3698348d26dac05c493f929b7cc90e59aaf529eb49915051c634f248
f976dc41382c01a956faea25db1ceeabe8a715501f98f3de972735eec6943b1e339cbb96
8ea97c0822ea4e0e719e0d4b69e299a6bc027511c41b6955c93bba7af4aceed54263024a
c70417c313b7a91c570e6549c692a94d6c7a1974d4aa3a73ea7a3db5d5b5cbc820904863
3b5b0d9c1cff00f5aacd7995b6b3fd8320944f232bf3e51e54e07b7d6bb1d0f59b7bcd36
395f508e691df6720210c7a2e2bcea35954573b2b5074dd8dc14375a414add6b6302335c
0eab8fed6baffae86bbe239ae72f3c373dcde4b3acf180ed900835d584a91a736e4cc711
094e2944e61d03601c8fa1ab3a7c3a699a2592d97cd76da5d783cff335b1ff0008adc7fc
fc45f91a45f08ca2e619649e3608e1b03209c7bd5e3951c4c2dcdaaf54461f9e9369c6e9
9d3a288ca22f455c0fd2a434c5521f2718031d734e35c7d0ea014a0d34528e9490c5a424
0a422823231480466151c97091f04367d909fe54f64e950cf0abc5875dd83c719a43193c
8c76952e011d94ff008d4f13ee89739ce39c8aab2c259902a8385eebff00d7ab11a6d181
10518ed8a0079619a6ef14bb39a6ec34867103ef1fad3f231498f98fd69715efc4f11895
1cc3311e991c8cd498a08a738c6717196cc70938494a3ba31652f750290990e395dd8cfa
827f4ad8f0ccccb2ab5c410471960aaab91b79fbc4e6a8b4016e65e8aa46fc1ef9eb4e8a
631b0da3703d7fa57c5e229cf0f51c23ba7a1f594a71c45253ee7a6210c32a4107b8a735
72fa36b11db218e524c6790579c1ae91668e4c6c70d919e3d2bd1c3d78d68dd6fd8f3aad
274e56629eb4a3a542f730abed691436718f7a16ea06c012a92d8c73d735a904de94be94
87b507b55083b9a43477a0d1d0041de81d29077aaab731ee24b9d98eb9ac6a56853b73bb
5f42ad72d392172b8cf6cd64d8ea3fdade6ac770d6d3c0ed14b06d525581ebcf6f4ad1f3
53ca2e4e1723049fa571de34b0b88af6c35ad2e0925b947092ac59f9d7a8ce39ed8fc6a9
cb4ba224dad4ecb12a0406457c70c4ae09fca9979134d68c88a19b8c03d3f98a8ecaecde
58413bc6d13c8a0b46c082a7b8e6ae0fbb549f52ba159a224202a480b8383d2a74408a14
52f6a5a0637bd252f7a4a919c37f11fad29a4c7cc7eb4a7a715efc4f118d268ce6930ffe
cd27cf9fe1ad3a00d9a1132637156c101b1d2b31672b76d6a43ef5504e40dbce7a7e5fad
6b8ce39c7e159fa8e990dd2990fcb281c31248fc4579b8ec1aad1e68af791e965f8b54a7
cb51da2ff0239a6bb8d97eccb1e0b004915b961732dbac6ecdf3291b803c1ac5b311c36c
91a3fdc386257a1f4ad360a0125b1819fa57ccfb5f629b9c7cbadcfa29c62ef67747629a
9d9c881bce55e390dc629d6ba85addcb2c70bee68f6ee38e39ce31f9578fdc6bb7f31003
aa819e14707eb4fb0d7754b37630dcec2f8259973d3b7d2bba94eabfe258f39d04d7b87b
451e95cee93e31d37528a43248b6ad1e322670323d47e35d0a3ac8aacac0823208f4aeab
dce569adc5ef48697bd2353e821beb5cb4ba7eaef686d962017793b838e57d2baa14a288
f2dd3693b3bebdc528f3753374982e6df4d58aebefab600c83c718abf229319c1e7ad398
647068c37a8fca894b99dc695958880c0e98e952f6a61420f518f614fed525094b49da96
900def49f8d2f7a4cd219c5dbdbcb752b2429b981e9b80fe66adff0062ea1ff3ec7fefb5
ff001aa11485198819e482338c8aea6cf57b616d0acb2e0118466ea7b73e95e857c54e8c
d46da3d8f3e8d08d55e6623689a86d39b738f661fe35565b39edd374b13aa92065abafbc
473633342d248cc3e501bf962b3b5cde34c8c3e7fd70ebfee9a74f17394d45a1cf0f18c5
b39cc535ba734f34c6af40e43135b85e38526b7262dae37ede030f7fc6a5b69f517b469a
6da80a6e56538cf3c03f8568cf02dcdbc90be70e31c76acdb5b6b8b5bc7b6699dd5d0143
bbee81fa578399e1ad3f6d6ba7b9f459662635283c3bf896abd3b14b5558ee91af80f236
205085796624e7ff00d7591279a8d897f767a8dcb827f3aecdecedd2ed679e4124adf2a2
b1181f414fb8b0b2b97fb4dc0c8801dd9e9c7ad7933ad1c2354deabf2ec8eae595b731ec
fc1fa9dd082e0aac704a0132ef042ae7ae057aa59db35b5a45133abc88a0332aed0df857
9c5a78def74d6959edad7fb3d5879639570807b71eb5de68faed86b16d1b5b5d23c8572c
84e181fa57ab18b4936ad73cfa9272f91a6a02f03d7d692450c30738f638a64971142d87
6c13ec698d7700eaff00a1ff003daaba1912d28cd2290ea194e411914a2921915d3ba40c
d1e770e800ce7f0aa51dd5e330fdd363bee422b4b146290153ceb92cbba35c77c0356b23
6f3c50c3a552324697121cb13c0208240fa503257bdb755244d1b11fc21c64feb4897d03
265e58e33e8d22ff00434c8de3791883838fe2c81fa9a9880c31ba3e476a403d5d5c0656
041e841eb4b9155dad8304dcc00560c0e4f5fcea7db48670aa796fa9a96dadd269cc60c6
8cc370dd9ea3ff00adfcaa019cb63ae4d47751bc96adc8f357e7523fbc3915eae2693ab4
9c56fd3d4f2a95574aa29a3b2d1efda547b69951248073b48c11ec299e21757d3632a723
ce03f435cde8fa8fd936def9723acc984dc48e7fc2ba3f109ce97131ea6507af4f94d799
829f34a29bbb3bf1138cd37139926984d2934c3d6be811e50a0d67ea9e6b461e2dc8c879
753ce3bd5f1d299262b2af4556a72a6fa9be1abba156351742a5bd9addc36f2a5ea33dbb
7cbc679f7fca96f9eee5865b4548c3bb0f9d5f823f1aab6b342c64f2d4978e664c06c03c
9ec3a0c1e7e94f6d4e489c09e154646da0f9bbb72fe5d79af8f9ce949fbcbde8f7f23ea5
b84fde4f4672be23863d90e9f24a033c83be303a9e71d6bb1f067fc23fa2ac37773a922c
eb19db1152760248ebdcff008d54d46c2db5b895d59774672bb90727b738cd55d2f4fb0b
6bf51ac32ac447c879dbbbdcd75d5cc17b3e669b715b2fd0e49e19c2ed6ccf51b3d76d6f
effecd6892ca9b3799c21083d064ff004ad335c5697b6faf92e7465dd140db2690314dc3
180a074603debb45ddb06fc6ec738abc2d7956a2aa4a2e2df4672ca3caec0297b52528e9
5d0890a28a5a421addab9b9a1bd1a9ddb4d690adb1ff005722ca4b37d4678ae95bb564df
4913968c6d760df32ab8047d6b29bf7a3a75febfad0a57b6e535b7283fd4230cf7635792
32228709b700f00e40e7dcd6790a3a5bb9edfeb7ff00adef57b6a8b6847964f0782f9c73
f4ad588baaa7ca00e339fe21ef52fe14cc62251b476e0d3eb3b947063ab7fbc69cc3823d
a98ad866e0f5f4a7161e8dff007c9af751e3b4416b14ff00d971a0dacd05c32f5c8009c8
e3b5759ae2c8ba2db891b7481d771f53b4d73b04a88cc8e1bca9301f0bcfb1fc2b6b58d4
ad2eac238a094bbab82414238c1f515e552c34e9621e9a3775f33ab9e2e9bd75b1834d6a
7669848af651c6c40291c734e04629b2119a6988c9b5b79e2d72e160388e48da692320e1
fee8fcff00c4524d7705cc6c977185b72de612cdf757b1ff00ebf4ab72858eeade6e88af
860067af140b38efa393202c27298d983c1f71d3eb5f2799e1e10c4393ddeb73e8f2f93a
946c9ec3edae238aca2925411966f2d41604939c019f5aafe227b77b1485a50b3ab07542
7923a7f9fa541a72dda5e98aee05580aed2ddd4f63ce474e3d88adfd4b44d2da059ce630
b862e0e432e7a1ef5e557ad0c35682a89ebaab6a7a119466d46a5ec73ba078a753d12216
9696c97713316f2c212727dc57a7691a84da8d9a5c4f6cd6b23a826073964fa9ae0468d6
579ac3c961751dbdbc681d5a321be61d78fe1fc6bbcd290f94b2a91223a0224cf5f715d5
4b329d7af0a74e3a357968eeb4d35d8e4c5d0a54ece12dfa3dd1a429dda9a29fdabd789c
0c28a28a6211ab905b5b0b7f10ea37304566d77263cd3e665bf119e2baf6ae64693aa47a
d5eddb259bdb4b8f24451ed941ff00698f5a8926dad4d20e293b9616e5946df26d38fa7f
8d4d349bade16610ae41e0631d7b734d8ed6e950a88540cf7c5596b699a18c1550c07233
efed54d90491b936e85da2c1c01c702ad62a348b6461410a7a9ef52549471b68d0a4b99a
112a938c172b8fd6ba88f47d3648c30b73823fbedfe35c9ec0e8cac0107208356edb51d4
6242b0850c9f3331395618cf43d3a76ae8c6d4a945aa89fbbb3f2f33930f18cfdd7b9d02
68fa73923ecae31dd99867f5acbd6b4ab7b3b5492107733e3927a60d7456d299ada376db
b99413b7a67f1accf127fc78c5ff005d3fa1ad685494a71d741d584545e872bb7e95111f
354a7ad31b3d2bd7470b102d23af34b8233f31a470723e734d136209a159a328ddc751da
a7b99651a1bcb0887cf8f25cb1ea71f8534a91df355efb519f4dd2af64b740f2f9448191
9c74247d38af1b3ac3fb4a2a715aa7f99e965d5792af2bd98fd4f50167a48bb903e70bb9
53b13db1d2b324d7e1bed2cda89a4b642e037ca0ee5cf4ef49a2ea8753675b801c5c2e76
3f209ee2b364d12ce1bd96d64be7b663f388c445b8e48c1ea7a7a579182842ac1d39ad62
efaebfd58f6b170a94a49aea6bc5a25a9d35a26b8c4d36e19776cb203c8033e98aeffc2b
686d3c2f6106d29b63e14f604938ae16c2dad3ec8b14532c922f01c1ea3d79ce0e3ad773
e1dbfb4974c8e08a4398be5c37d7b5561e4a3294277e6bbdfafa7c8e4af79da46cf7a546
dc338c60915cceb7e2e834c99ada08fce9f1d723683ee6adf85f5b3ac5833cc02dc2390e
806303a8fd2bae3522df2a39dc1a5736d891d31f8d42c93c84b25c6c0470bb01c548f224
6ca5d8283c0c9aaf73756f6655a59e38831e0b9c027f1ab64160f9824192a571e9cd63dd
4f209e45124e986ea0601fa56bf98afb194e41e47e55897775e65c4d12ddc72143cc453e
ed6727668d60ae9918b8972375ccd83f4ff1ab85dcc106267e41f998e09e7bf355519957
027b703a91e5ff00f5aae992516f1ec9e3e87909c1e7e95a3209e2dc23084bb9ce720f3d
7eb53d3124df0ab6fc1c80481ffd6a7d48ce38614124e067ad53d45de2b71730ed3b386c
8cfca7835a31c323a92a8c467b0cd25c5bb9b7915a27da5483f21af4aac23569b83ea79a
ae9dd1a7e1b9666889795d8489b9491c01d010738fd2ad788437d8220cc49f37a9c7a1ac
6d1da4b9b181d6e761184707bed35b5e2020d8407b6ffe86bc6caaade7ecdef167762358
737739820e4d358722a523ad46c39afa74cf318dc03d691d40c600a7814483a5342216a8
a68da5899502993042eee84e3bfb54ec38a8d90b2603153ea2b3ab0e7838f73484b964a4
7131dade69f7be53c51c28a7cc47898fcc09cf1e82b79afed2ea34fb4232cea36a4ca097
5f71566eec4c9a60f30399e2076103ef0ff39aada55a594ed134a5da704b6d53c01c8e6b
e2ebcaa50acdad3d0fb6a32a15f07173bb6b42b5e5c5e6853a99006b09186650837b1c77
3ebee6b7acefe4bdb6827b51fba6e1cbf2df5a96f2386e6da44b98b742064e7078f5ac3b
ed2d74cd32396ca79d636c07527820f3d2b2af2a18a5175572cde97b68fd7ccf3dc6549b
e5d519fa95c4b15fbbb0f30fdddec98ce3dbbd7a3f83ad623667504781da6006221c478f
e1fd0579f59bcb3c6f044aa598124be4e7fc2bd1fc2164967a50298cca77315000c8e3b5
75e154554516b55f91cd56fcaddf467407ef8fc6b9df1cd97db7c333e1773c244abc7a75
fd09ae88839041031ea29aea5c618a907820ad7a538f32b1c6d5d58e6bc0d34d3f86e179
cbb3798c033bee2c3fcf15626689ef2748ee2d9a40df3c636ee51ef8e7f3ad3b0d3a0d36
016f6ca1220c5828ed9ac16b08e0d5ef6e92decc4929f99d1cef3fef7350a1a46fd0ba6a
4a3645f8e06383e6c0a47f7871570c08c9119668b2bdc01cfd2b3232c0802de3efd58ff3
cd5f1bbca8331c39ee09ce3f5ad188ba02ecf91c019ce4629f51f2631f346791db8fe74e
ddef48665e89bb6cbf3b90390bd875ad1b9de2da4538244273f91ae622778f718e49133d
76b919a90cd3b6ecdc4c411820c87a5767d5a4e5cd738fdb24ac436518b5ba60859448d9
057bf3d2ba0f10ff00c7943fefff004ac10bb4860c410720e7a1a92e6f6e2e502cd29750
720100568b0aa357da47e6275af4f91a2a91c546dd6a434c6eb5dc8e61147348e79a7014
c71cd342233d293b5291c5201c5031f03a95c1047972e327b9ebff00b3555bed9a7eb2d0
1b7037b096338c92a57900ff00bc0feb53db969a69ade16259b6be074f43fc8541ac4171
2f88ac6e276389094518c040ab903df9cfe75f1999c146ab57d6ef4f2dd7ea7d165b52f6
8bd9afc57fc30f74964d3e411c2de69538493a367deb9796d6f6c156da6665888dcb1e72
067afb75aebb5632ff00635d88e4d8e137065273c73c5716afa84d6d6f3c97125c42cde5
ec3c943eb8efd6b7c3c2ace846716acbeff90ebdb9ac5db5b06362f7aeaa514300bbb92d
d335e9fe18b37b2f0fdac5213bcaee209e99e715e732d8dc69b7ab18669a27c955507afb
8e9ffeaaeb349f12dd4b0ac371f34b1e3cc729b739f6ac68626108cab5495d3dbd3d3f53
29d36ed08a3b1a4279e6a359e268964de02b0c8ddc50d244c06645c1e73babd4bdf54737
51e48ac2bab5b54b89665b47491dbe7917fe5a56d80a40da735cda5d4926ab7b136a0ee9
1b7111b6e13e87bd44936d5994a4d269120f249e23b8e47a8abe8d0ac36e4c72103a124f
1f5c5448594e0cd263b6db71fe15619a51e50477208e7e4c679fa715a324b6bf7061339e
704ff8d47bbda9e4108a496cf19c0e6a0e2a4a3929f504d3621733c0f340180902360a8f
51eb5d65b69ba7dd5bc73c259a39143290dd41ae5de14b8b778a450c8d9041ef5ced9eb3
ac7857541631fef6d2460515df2a013dbd2bd6745d58fb8ed25f89e6aa8a0fde5a1e9526
9da747149249e62a460b31391802b2af6ded52ca1b9b694c892e0ab762a4641adf471a8e
97b959089a3c651b72827ae0d656ad6c6d74cb584b6ed985fc9715cb4a72e749b379c63c
ada460b3b0c951b88190b9c64d6c6976fa6ea9a7add2a4cadd1e30d92ade9d2b20e371fa
550b767d235b8ef239658eda56024546c82c7d463a55e325529c7da4365b98d271bd99d7
3e8f641f06595011900a9e3f1a64fa35a089dd2590ed52471c1ad6b73f698f328c38f463
45dc08b692900e421ea4fa57251c54aa454e32d19d52a515d0e14d03a0a711c526062bda
6ce0b0e8ae16ceee2b87194076b1f407ff00af8ac8d4751b9b8d54ff00685bc90da2c98b
7202c841ff006b1c806b5645568ca9190460d50d72e77e9c93451b33a4a124c8c91ea2be
6f3ac32551574b7d0f5f2b9734b91b3484915e5a4d14499c8da09000079f7ae1b493796d
a9cb6b0ca637ddb5c9236800f539fd2b5490eaa5438064d8db5b24738359fa817fb7b0b4
5913682be616ebedcfb83f956796c9d4a5ece504e3b6bfe47a18da71849493d4ecb78106
efb4891a3c65b00835aba5da8b8bb42a8bb14ee6ae2741d5b4ed3ac7c8b81e5cc5b9217e
f0ed9fd6bd2b43876dbb4bb4a87c6dcfa5793f515f5d50506a29b77e8d2b7ebf9f433956
fdd735f534ca23000aa903b114d30c47831211e9b4548283d6be88f3c6850bc0000f6158
772bb27958a489b9f1b89e0fd2b74f515cfcd3de3ddcf1cf3db9b70ff22ae432fd6b29c6
2e516dff00562d376647e6281feb5f27dcd5d396b781823b8dbd89f5aacbb41c8780fd49
3fd2af89a48e18b6320523b0c8ebdab56493c6375ba7eec8c11c124115166acb31d8adb8
0ce3b66aae2a467368c026490066b27c4091fd8d6ed829f28f0d8ce33c56a46414c11eb4
dba8d26b49626036ba11fa57b74df2b4cf2a5aa24f026acd75f6ab349048235560f9242e
7a0c67eb5bdaf97fb243bc82dbcf21715e41a179167e205325ecd1b48c119118ed600f7c
57af6bcc8d636cc872ac72a7d462b3c55150c426ba9ad29f35269f439efe33f4155af621
756b2c208259481ec7b558dc379fa0a67ca1b818cd6ae2a49a6644be049ef3ecd2f9d71e
72249b421625908ed5d8dd197ecf71b994a6c6c009823f1cd79ae95733d8f8bc4114c52d
ee1f2c870413b73f9e6bd19d81d366f9b276364fe15f2b866e862a7867ea8f420f9a9a67
1869074a42c280462beb0f3d0eac6d6226565c4c56293974ebb88f4ff3dab6770a8a5861
9b89115b8ee2b1c4d055a9b8346f87abec6a299916722cc04d13317ced0c46318f6ad39e
2592d1619e58dc30620301b73d0751d7358cf14b617c21442616e4107fcf35ae596e345b
88514b920973900a8f519af92a11950c44a9cb47e5fa1f5b5796ad18ce1aa671366b141a
9a7dbe0f3a089c79b186ea3fc2bddac3cbfb1c3e4aaac3b079601cf18af11d362b7b0d59
ed2f61f31275da8fd1941e8457b4e936ef6d6488e4e4f217fba3d2bd8ab5a52aaa0a2ed6
bdfa1e0b85936dea5ea4fe2a5ef4679a4c90358937cf3ca16589886fbbf2e57ebcd6d375
ae32d756b4baf10ea96719b5335bb8f302a481b9e9938c1fc2a5c149a6fa0eed23696d72
83fd2205e3a1038ab5e42b2441a64c81d54819fa5530e8792908f6d8f568c8aab17cb1e0
8ff9e6c6a988b8461546f2318e7d6a9e4d5a661b548c724755355aa46735101b7f1a7900
f51914c51c704d3ffe046bd94796ce727d262b7d72098443cb92403a707279fa577fe22c
0b4b718c7cdd3f0ac20c51d581e54861900e0d4d797f71788ab330214e460629d552a938
bec541c63192ee5218de7e829a4734e239ce4834d607fbc6b446665ea503453c1a8c31ab
496e72c08ea3d7f0af418268ae3423342432491160477e2b910320e58d5c8f53b9b7b35b
48ca0842ed0368e0579d572f52c4fd623bdacff037a557962e2ca0693b5388a4fe1af459
886697b8a4a5f4aa1105d5badc4654f51c83e954ece530485fc8daca4a146f4f5ad16e72
3a540de6c0b24901ccccbb7710338cf22bcaccb03edd2ab0d271fc7c8f532ec6ba32f673
f85fe06578801bcd2fed096c04d0b83941bce3ea7902bb9f056bebae68aa59489adf11c9
c7078e0d729a648ef7f1c0a802b108c19b1d7b74af47b0b186c2d96186345fef1550371f
538eb5e6e0b10eb51b4d7bc99df8fa2a9d4bad99673cd2719a5ef484735d2ce110915857
4d6c269becf70a67ddf3a860a56b788e6b9e6b4b98af6e652b6b2248ff00284806e1f538
e6a5c62da6fa0eeec304f39ff96e7bff00cb515a0141b784bdd6d6dbd771e7f106a38a1b
a39748a25edf700a9e6b59e558cec8cb01f37cd8c7e94d88b43684405c9c9e0e4f355b22
ad22b044070a475039aab490cc386c2e658c488a36b74e6a09564494c63cbdcb907749b7
0456c5b18cd9463ccf9b6e368600d57db35bde199c8f2c67e5dd93f90af36ae7789a7525
0b2d1bb68ffccca386834999eb1b90a098f2c70bb240d9a2686489417420138e4115b375
2dd4888d64f1818cb6ec552bd69cd8a0b8963924f333f211c0c1adb059d626bd68424959
bd77b93570f08c5b453b6b77ba90c684038cf26a57d32657da5d33ed93fd2a286da6bb8a
e21b790c73188ec7f439157a682de299564f99d5541f9bae07d2ab34cdb1186c43a74dab
5bb0a85084e17915934b998643c7f8922a3bbb192d903bb2119c7ca6afc567661977631d
48dc79fa8c526a91dba58a98154032f240f635cf82cf3155b130a526acdf6ff82555c353
8c1b4621a4078a53457d81c014a693a0a5aa10c3d4d34f4e94f3de9b8a7d009b4ebc5b1b
b329895d5861811ce3dabb4b2bab7ba8b7c12861dd73cafe15c111cd3e29e581b7452323
7aa9c57355c2c67ac7466d0c44a3a3d51e89dea19aeededf2659a34c7f798035c72f8875
05428645704632cbcfe95985896249c93dcd611c0b6fde65cb14beca3a593c432dc6a114
16e816232aaef3c9619fd2a95b58345adea539d31e1123e44c2e4379b8cff0f6aa161ff2
11b5ff00aeabfcc574f38065705e3e5fb83c5658b4a938c62b7feb535c3c9d44dc995d51
76e0dab93ebe61e7f4ab32a03143fba3d3a6ee9fa53170470f09e3ae3ffad534a70b17cc
9d3bae47f2ae566e5cda0c716507182031e955b35643234485480b918cad56c7bd219cd0
246083c835299a43d6463f8d4834fbbc7fc7bbfe54bfd9f77ff3ef27e55e97eea5f1599e
7da6b621f3e50bb7cc6dbe99a898d5b3a75e63fe3de4fca9a74ebcc7fc7b49f956b174a3
f0d910e337b95d2478cee462a7a641a43712f99bf7b6ef5cf3563fb3af3fe7da4fca9874
dbdcff00c7b49f95271a1277924dfc8694d6d718b753824895f27a9cd3269e5940592466
1d704d4e34cbcc7fc7b4bf950da6dee7fe3d65fca9c61874ee92bfc84fda79944d2291de
ad9d3af3fe7da4fca9bfd9d778ff008f793f2ad1d48770e59762b52e79ab3fd9f75ff3ee
ff00951f60baff009e0ff9537523dc5cb2ec5132c61882eb9fad02546e15813ec6a79348
9a46c9b67cfb0a54d2668c1db6cf9ce72451ed23dd072bec556603ef1c0f7a8f745d015e
7deadcba6dcba32792e33ed55c68571d7ca76ff80d0aa47b89c1f6199038146d524f1d69
e7449d4e7ecce31ed52fd8ae41ff0052ff00955f3c7b91cb2ec3b4fc0d4adb1ff3d57f98
ae967ba4b89658835bb18df042382c3fde158363693aea16ecd13051229248f7adbb7d3a
e63bebb99d34e092be50a21de473f7b8eb5e5e3df34e2d33bb0975177448b1285c79109c
772fcff3ab4cc1238d44311f97a641c7eb48b6c76f26d87b04352b421f602d17ca307191
5c8d9d24e388d30153a706aae055a2eb8501d78f5e6aaee1eb4867ffd900
</MDI>
    <MDI key="XML_com.adobe.xmp">&lt;?xpacket begin="&#xFEFF;" id="W5M0MpCehiHzreSzNTczkc9d"?&gt;
&lt;x:xmpmeta xmlns:x="adobe:ns:meta/" x:xmptk="XMP Core 4.4.0-Exiv2"&gt;
 &lt;rdf:RDF xmlns:rdf="http://www.w3.org/1999/02/22-rdf-syntax-ns#"&gt;
  &lt;rdf:Description rdf:about=""
    xmlns:xmpMM="http://ns.adobe.com/xap/1.0/mm/"
    xmlns:stEvt="http://ns.adobe.com/xap/1.0/sType/ResourceEvent#"
    xmlns:dc="http://purl.org/dc/elements/1.1/"
    xmlns:GIMP="http://www.gimp.org/xmp/"
    xmlns:tiff="http://ns.adobe.com/tiff/1.0/"
    xmlns:xmp="http://ns.adobe.com/xap/1.0/"
   xmpMM:DocumentID="adobe:docid:photoshop:b7e063f8-d9a6-11d9-8909-8e99516fbb35"
   xmpMM:InstanceID="xmp.iid:9c6a9329-738f-4824-8c98-f2778dd30a1e"
   xmpMM:OriginalDocumentID="xmp.did:35808412-f3b9-4272-9d63-0b5322afddcb"
   dc:Format="image/png"
   GIMP:API="2.0"
   GIMP:Platform="Windows"
   GIMP:TimeStamp="1694402873953257"
   GIMP:Version="2.10.24"
   tiff:Orientation="1"
   xmp:CreatorTool="GIMP 2.10"&gt;
   &lt;xmpMM:History&gt;
    &lt;rdf:Seq&gt;
     &lt;rdf:li
      stEvt:action="saved"
      stEvt:changed="/"
      stEvt:instanceID="xmp.iid:531a7546-096d-4063-96b6-89760adc7def"
      stEvt:softwareAgent="Gimp 2.10 (Windows)"
      stEvt:when="2023-09-11T08:57:53"/&gt;
    &lt;/rdf:Seq&gt;
   &lt;/xmpMM:History&gt;
  &lt;/rdf:Description&gt;
 &lt;/rdf:RDF&gt;
&lt;/x:xmpmeta&gt;
&lt;?xpacket end="w"?&gt;</MDI>
  </Metadata>
</PAMDataset>
